BEGIN:VCALENDAR
VERSION:2.0
PRODID:-//Getaway to Murder - ECPv6.15.20//NONSGML v1.0//EN
CALSCALE:GREGORIAN
METHOD:PUBLISH
X-WR-CALNAME:Getaway to Murder
X-ORIGINAL-URL:https://getawaytomurder.com
X-WR-CALDESC:Events for Getaway to Murder
REFRESH-INTERVAL;VALUE=DURATION:PT1H
X-Robots-Tag:noindex
X-PUBLISHED-TTL:PT1H
BEGIN:VTIMEZONE
TZID:America/Indiana/Indianapolis
BEGIN:DAYLIGHT
TZOFFSETFROM:-0500
TZOFFSETTO:-0400
TZNAME:EDT
DTSTART:20250309T070000
END:DAYLIGHT
BEGIN:STANDARD
TZOFFSETFROM:-0400
TZOFFSETTO:-0500
TZNAME:EST
DTSTART:20251102T060000
END:STANDARD
BEGIN:DAYLIGHT
TZOFFSETFROM:-0500
TZOFFSETTO:-0400
TZNAME:EDT
DTSTART:20260308T070000
END:DAYLIGHT
BEGIN:STANDARD
TZOFFSETFROM:-0400
TZOFFSETTO:-0500
TZNAME:EST
DTSTART:20261101T060000
END:STANDARD
BEGIN:DAYLIGHT
TZOFFSETFROM:-0500
TZOFFSETTO:-0400
TZNAME:EDT
DTSTART:20270314T070000
END:DAYLIGHT
BEGIN:STANDARD
TZOFFSETFROM:-0400
TZOFFSETTO:-0500
TZNAME:EST
DTSTART:20271107T060000
END:STANDARD
END:VTIMEZONE
BEGIN:VTIMEZONE
TZID:America/Denver
BEGIN:DAYLIGHT
TZOFFSETFROM:-0700
TZOFFSETTO:-0600
TZNAME:MDT
DTSTART:20250309T090000
END:DAYLIGHT
BEGIN:STANDARD
TZOFFSETFROM:-0600
TZOFFSETTO:-0700
TZNAME:MST
DTSTART:20251102T080000
END:STANDARD
BEGIN:DAYLIGHT
TZOFFSETFROM:-0700
TZOFFSETTO:-0600
TZNAME:MDT
DTSTART:20260308T090000
END:DAYLIGHT
BEGIN:STANDARD
TZOFFSETFROM:-0600
TZOFFSETTO:-0700
TZNAME:MST
DTSTART:20261101T080000
END:STANDARD
BEGIN:DAYLIGHT
TZOFFSETFROM:-0700
TZOFFSETTO:-0600
TZNAME:MDT
DTSTART:20270314T090000
END:DAYLIGHT
BEGIN:STANDARD
TZOFFSETFROM:-0600
TZOFFSETTO:-0700
TZNAME:MST
DTSTART:20271107T080000
END:STANDARD
END:VTIMEZONE
BEGIN:VEVENT
DTSTART;TZID=America/Indiana/Indianapolis:20260502T180000
DTEND;TZID=America/Indiana/Indianapolis:20260502T210000
DTSTAMP:20260421T102336
CREATED:20260316T193344Z
LAST-MODIFIED:20260316T193344Z
UID:10006074-1777744800-1777755600@getawaytomurder.com
SUMMARY:Fort Wayne\, IN - The Dinner Detective Murder Mystery Dinner
DESCRIPTION:North America’s largest interactive true crime murder mystery dinner show is now playing in Fort Wayne\, IN! Witness a hilarious mystery while you feast on a fantastic dinner. Just beware! The culprit is hiding in plain sight somewhere in the room\, and you may find yourself as a Prime Suspect before you know it! \nJoin us for a Fort Wayne\, IN true crime murder mystery experience that is very different from a traditional murder mystery dinner show. Our actors are not dressed in costume and are hidden in the audience! This results in a fun\, social and interactive evening suitable for all adults. \nEach ticket includes our signature award-winning murder mystery dinner show\, along with a full plated dinner\, waitstaff gratuity\, and plenty of surprises during the show. \nHosting a group party or private event in Fort Wayne\, IN? We specialize in custom private events for companies\, groups\, and organizations of almost every size! We can host your event onsite at our public show location\, or we can bring a show to your home\, business\, or venue. \n\nOur Menu\n\n\n\nButler Passed Appetizers (Chef’s Choice)\nGarden Salad (GF)\n\nMixed Greens\, Cucumbers\, Carrots\, Tomatoes Served With Balsamic Vinaigrette And Ranch\n\n\nChoice Of Entree:\n\nCHICKEN:  Mediterranean Chicken Breast\n\nOven Baked Chicken Breast Rolled In Panko Bread Crumbs And Stuffed With Spinach\, Roasted Red Tomatoes And Feta Cheese With A Chardonnay Cream Sauce. Served With Garlic Mashed Potatoes & A Roasted Herb Vegetable Medley\n\n\nFISH:  Pan Seared Tilapia (GF)\n\nHerbed Rice Pilaf\, Seasonal Inspired Vegetables\, Lemon Beurre Blanc\n\n\nVEGETARIAN:  Pan Seared Gnocchi\n\nPetite Tomatoes\, Roasted Mushrooms\, Sautéed Spinach Tossed With A Pesto Cream Sauce\n\n\n\n\nSeasonal Mousse Cake With Crème Topping\nComplimentary Iced Tea\, Lemonade & Coffee Bar Available All Evening!
URL:https://getawaytomurder.com/event/fort-wayne-in-the-dinner-detective-murder-mystery-dinner/2026-05-02/
LOCATION:COURTYARD FORT WAYNE DOWNTOWN – DINNER DETECTIVE FORT WAYNE\, 1150 S Harrison St\, Fort Wayne\, IN\, 46802\, United States
CATEGORIES:Dinner Detective,Dinner Theater,Food & Drink,Murder Mystery Dinner
GEO:41.0756116;-85.1405882
X-APPLE-STRUCTURED-LOCATION;VALUE=URI;X-ADDRESS=COURTYARD FORT WAYNE DOWNTOWN – DINNER DETECTIVE FORT WAYNE 1150 S Harrison St Fort Wayne IN 46802 United States;X-APPLE-RADIUS=500;X-TITLE=1150 S Harrison St:geo:-85.1405882,41.0756116
END:VEVENT
BEGIN:VEVENT
DTSTART;TZID=America/Denver:20260502T180000
DTEND;TZID=America/Denver:20260502T210000
DTSTAMP:20260421T102336
CREATED:20260318T221320Z
LAST-MODIFIED:20260318T221320Z
UID:10006270-1777744800-1777755600@getawaytomurder.com
SUMMARY:Billings\, MT - The Dinner Detective Murder Mystery Dinner
DESCRIPTION:North America’s largest interactive true crime murder mystery dinner show is now playing in Billings\, MT! Witness a hilarious mystery while you feast on a fantastic dinner. Just beware! The culprit is hiding in plain sight somewhere in the room\, and you may find yourself as a Prime Suspect before you know it! \nJoin us for a Billings\, MT true crime murder mystery experience that is very different from a traditional murder mystery dinner show. Our actors are not dressed in costume and are hidden in the audience! This results in a fun\, social and interactive evening suitable for all adults. \nEach ticket includes our signature award-winning murder mystery dinner show\, along with a full plated dinner\, waitstaff gratuity\, and plenty of surprises during the show. \nHosting a group party or private event in Billings\, MT? We specialize in custom private events for companies\, groups\, and organizations of almost every size! We can host your event onsite at our public show location\, or we can bring a show to your home\, business\, or venue. \n\nOur Menu\n\n\n\nCaesar Salad\nItalian Buffet Options:\n\nCHICKEN: Chicken Cavatappi With Sun-Dried Tomatoes And Arugula In An Asiago Cream Sauce\nPORK:  Italian Sausage With Grilled Peppers And Onions\nVEGETARIAN: Cavatappi With Sun-Dried Tomatoes And Arugula In An Asiago Cream Sauce\nSIDES: Sautéed Asparagus\, Parmesan Garlic Bread\, And Shredded Parmesan Cheese\n\n\nTiramisu\nWater
URL:https://getawaytomurder.com/event/billings-mt-the-dinner-detective-murder-mystery-dinner/2026-05-02/
LOCATION:DOUBLETREE BY HILTON HOTEL BILLINGS – DINNER DETECTIVE BILLINGS\, 27 N 27th St\, Billings\, MT\, 59101\, United States
CATEGORIES:Dinner Detective,Dinner Theater,Food & Drink,Murder Mystery Dinner
GEO:45.7930083;-108.5146895
X-APPLE-STRUCTURED-LOCATION;VALUE=URI;X-ADDRESS=DOUBLETREE BY HILTON HOTEL BILLINGS – DINNER DETECTIVE BILLINGS 27 N 27th St Billings MT 59101 United States;X-APPLE-RADIUS=500;X-TITLE=27 N 27th St:geo:-108.5146895,45.7930083
END:VEVENT
END:VCALENDAR