BEGIN:VCALENDAR
VERSION:2.0
PRODID:-//Getaway to Murder - ECPv6.15.20//NONSGML v1.0//EN
CALSCALE:GREGORIAN
METHOD:PUBLISH
X-ORIGINAL-URL:https://getawaytomurder.com
X-WR-CALDESC:Events for Getaway to Murder
REFRESH-INTERVAL;VALUE=DURATION:PT1H
X-Robots-Tag:noindex
X-PUBLISHED-TTL:PT1H
BEGIN:VTIMEZONE
TZID:America/Detroit
BEGIN:DAYLIGHT
TZOFFSETFROM:-0500
TZOFFSETTO:-0400
TZNAME:EDT
DTSTART:20250309T070000
END:DAYLIGHT
BEGIN:STANDARD
TZOFFSETFROM:-0400
TZOFFSETTO:-0500
TZNAME:EST
DTSTART:20251102T060000
END:STANDARD
BEGIN:DAYLIGHT
TZOFFSETFROM:-0500
TZOFFSETTO:-0400
TZNAME:EDT
DTSTART:20260308T070000
END:DAYLIGHT
BEGIN:STANDARD
TZOFFSETFROM:-0400
TZOFFSETTO:-0500
TZNAME:EST
DTSTART:20261101T060000
END:STANDARD
BEGIN:DAYLIGHT
TZOFFSETFROM:-0500
TZOFFSETTO:-0400
TZNAME:EDT
DTSTART:20270314T070000
END:DAYLIGHT
BEGIN:STANDARD
TZOFFSETFROM:-0400
TZOFFSETTO:-0500
TZNAME:EST
DTSTART:20271107T060000
END:STANDARD
END:VTIMEZONE
BEGIN:VTIMEZONE
TZID:America/Los_Angeles
BEGIN:DAYLIGHT
TZOFFSETFROM:-0800
TZOFFSETTO:-0700
TZNAME:PDT
DTSTART:20250309T100000
END:DAYLIGHT
BEGIN:STANDARD
TZOFFSETFROM:-0700
TZOFFSETTO:-0800
TZNAME:PST
DTSTART:20251102T090000
END:STANDARD
BEGIN:DAYLIGHT
TZOFFSETFROM:-0800
TZOFFSETTO:-0700
TZNAME:PDT
DTSTART:20260308T100000
END:DAYLIGHT
BEGIN:STANDARD
TZOFFSETFROM:-0700
TZOFFSETTO:-0800
TZNAME:PST
DTSTART:20261101T090000
END:STANDARD
BEGIN:DAYLIGHT
TZOFFSETFROM:-0800
TZOFFSETTO:-0700
TZNAME:PDT
DTSTART:20270314T100000
END:DAYLIGHT
BEGIN:STANDARD
TZOFFSETFROM:-0700
TZOFFSETTO:-0800
TZNAME:PST
DTSTART:20271107T090000
END:STANDARD
END:VTIMEZONE
BEGIN:VTIMEZONE
TZID:America/Denver
BEGIN:DAYLIGHT
TZOFFSETFROM:-0700
TZOFFSETTO:-0600
TZNAME:MDT
DTSTART:20250309T090000
END:DAYLIGHT
BEGIN:STANDARD
TZOFFSETFROM:-0600
TZOFFSETTO:-0700
TZNAME:MST
DTSTART:20251102T080000
END:STANDARD
BEGIN:DAYLIGHT
TZOFFSETFROM:-0700
TZOFFSETTO:-0600
TZNAME:MDT
DTSTART:20260308T090000
END:DAYLIGHT
BEGIN:STANDARD
TZOFFSETFROM:-0600
TZOFFSETTO:-0700
TZNAME:MST
DTSTART:20261101T080000
END:STANDARD
BEGIN:DAYLIGHT
TZOFFSETFROM:-0700
TZOFFSETTO:-0600
TZNAME:MDT
DTSTART:20270314T090000
END:DAYLIGHT
BEGIN:STANDARD
TZOFFSETFROM:-0600
TZOFFSETTO:-0700
TZNAME:MST
DTSTART:20271107T080000
END:STANDARD
END:VTIMEZONE
BEGIN:VEVENT
DTSTART;TZID=America/Detroit:20260627T180000
DTEND;TZID=America/Detroit:20260627T210000
DTSTAMP:20260421T135326
CREATED:20260316T154439Z
LAST-MODIFIED:20260316T154509Z
UID:10005965-1782583200-1782594000@getawaytomurder.com
SUMMARY:Lansing\, MI - The Dinner Detective Murder Mystery Dinner
DESCRIPTION:North America’s largest interactive true crime murder mystery dinner show is now playing in Lansing\, MI! Witness a hilarious mystery while you feast on a fantastic dinner. Just beware! The culprit is hiding in plain sight somewhere in the room\, and you may find yourself as a Prime Suspect before you know it! \nJoin us for a Lansing\, MI true crime murder mystery experience that is very different from a traditional murder mystery dinner show. Our actors are not dressed in costume and are hidden in the audience! This results in a fun\, social and interactive evening suitable for all adults. \nEach ticket includes our signature award-winning murder mystery dinner show\, along with a full plated dinner\, waitstaff gratuity\, and plenty of surprises during the show. \nHosting a group party or private event in Lansing\, MI? We specialize in custom private events for companies\, groups\, and organizations of almost every size!We can host your event onsite at our public show location\, or we can bring a show to your home\, business\, or venue. \n\nOur Menu\n\n\n\nChef’s Choice Appetizers\nHouse Salad\nRolls & Butter\nChoice Of Entree:\n\nCHICKEN: Bruschetta Grilled Chicken Breast\n\nMarinated Tomato Basil Salad\, Roasted Garlic Cream\, Creamy Mashed Potato\, Seasonal Vegetables\n\n\nFISH: Hot Honey Salmon\n\nSalmon Filet Seared And Finished With Hot Honey Glaze\, Creamy Mashed Potato\, Seasonal Vegetables\n\n\nVEGETARIAN: Wild Mushroom Risotto\n\nTruffle\, Reggiano\, Local Mushrooms\, Blistered Tomato\, Basil\n\n\n\n\nVanilla Cheesecake\, Raspberry Coulis
URL:https://getawaytomurder.com/event/lansing-mi-the-dinner-detective-murder-mystery-dinner/2026-06-27/
LOCATION:DOUBLETREE BY HILTON LANSING\, 111 North Grand Ave\, Lansing\, MI\, 48933\, United States
CATEGORIES:Dinner Detective,Dinner Theater,Food & Drink,Murder Mystery Dinner
GEO:42.7340944;-84.5511178
X-APPLE-STRUCTURED-LOCATION;VALUE=URI;X-ADDRESS=DOUBLETREE BY HILTON LANSING 111 North Grand Ave Lansing MI 48933 United States;X-APPLE-RADIUS=500;X-TITLE=111 North Grand Ave:geo:-84.5511178,42.7340944
END:VEVENT
BEGIN:VEVENT
DTSTART;TZID=America/Los_Angeles:20260627T180000
DTEND;TZID=America/Los_Angeles:20260627T210000
DTSTAMP:20260421T135326
CREATED:20260317T164905Z
LAST-MODIFIED:20260317T164905Z
UID:10006154-1782583200-1782594000@getawaytomurder.com
SUMMARY:Claremont\, CA - The Dinner Detective Murder Mystery Dinner
DESCRIPTION:North America’s largest interactive true crime murder mystery dinner show is now playing in Claremont\, CA! Witness a hilarious mystery while you feast on a fantastic dinner. Just beware! The culprit is hiding in plain sight somewhere in the room\, and you may find yourself as a Prime Suspect before you know it! \nJoin us for a Claremont\, CA true crime murder mystery experience that is very different from a traditional murder mystery dinner show. Our actors are not dressed in costume and are hidden in the audience! This results in a fun\, social and interactive evening suitable for all adults. \nEach ticket includes our signature award-winning murder mystery dinner show\, along with a full plated dinner\, waitstaff gratuity\, and plenty of surprises during the show. \nHosting a group party or private event in Claremont\, CA? We specialize in custom private events for companies\, groups\, and organizations of almost every size! We can host your event onsite at our public show location\, or we can bring a show to your home\, business\, or venue. \n\nOur Menu\n\n\n\nBruschetta\nMixed Greens\nChoice Of Entree:\n\nCHICKEN:  Chicken Picatta\n\nW/ Rice Pilaf And Seasonal Farmer’s Market Vegetables\n\n\nFISH:  Baked White Fish\n\nW/ Rice Pilaf And Seasonal Farmer’s Market Vegetables\n\n\nVEGETARIAN:  Pasta Primavera\n\nW/ Fresh Vegetables (Vegetarian)\n\n\n\n\nDessert (Chef’s Choice)\nIced Tea & Coffee (Served Upon Request)
URL:https://getawaytomurder.com/event/claremont-ca-the-dinner-detective-murder-mystery-dinner/2026-06-27/
LOCATION:DOUBLETREE BY HILTON CLAREMONT – DINNER DETECTIVE CLAREMONT\, 555 W Foothill Blvd\, Claremont\, CA\, 91711\, United States
CATEGORIES:Dinner Detective,Dinner Theater,Food & Drink,Murder Mystery Dinner
GEO:34.1076515;-117.7240963
X-APPLE-STRUCTURED-LOCATION;VALUE=URI;X-ADDRESS=DOUBLETREE BY HILTON CLAREMONT – DINNER DETECTIVE CLAREMONT 555 W Foothill Blvd Claremont CA 91711 United States;X-APPLE-RADIUS=500;X-TITLE=555 W Foothill Blvd:geo:-117.7240963,34.1076515
END:VEVENT
BEGIN:VEVENT
DTSTART;TZID=America/Denver:20260627T180000
DTEND;TZID=America/Denver:20260627T210000
DTSTAMP:20260421T135326
CREATED:20260317T175445Z
LAST-MODIFIED:20260317T175445Z
UID:10006221-1782583200-1782594000@getawaytomurder.com
SUMMARY:Boise\, ID - The Dinner Detective Murder Mystery Dinner
DESCRIPTION:North America’s largest interactive true crime murder mystery dinner show is now playing in Boise\, ID! Witness a hilarious mystery while you feast on a fantastic dinner. Just beware! The culprit is hiding in plain sight somewhere in the room\, and you may find yourself as a Prime Suspect before you know it! \nJoin us for a Boise\, ID true crime murder mystery experience that is very different from a traditional murder mystery dinner show. Our actors are not dressed in costume and are hidden in the audience! This results in a fun\, social and interactive evening suitable for all adults. \nEach ticket includes our signature award-winning murder mystery dinner show\, along with a full plated dinner\, waitstaff gratuity\, and plenty of surprises during the show. \nHosting a group party or private event in Boise\, ID? We specialize in custom private events for companies\, groups\, and organizations of almost every size! We can host your event onsite at our public show location\, or we can bring a show to your home\, business\, or venue. \n\nOur Menu\n\n\n\nAppetizers (Caprese Bruschetta\, Olive Tapenade With Pita)\nSalad With Assorted Rolls With Butter\nChoice Of Entree:\n\nCHICKEN:  Rosemary Grilled Chicken\n\nW/ Rosemary Cream Sauce Over Mashed Potatoes And Chef’s Choice Vegetable\n\n\nFISH:  Sweet And Spice Orange Salmon\n\nW/ A Citrus Honey Glaze Over Basmati Rice And Chef’s Choice Vegetable\n\n\nVEGETARIAN:  Butternut Squash Fillet\n\nW/ Browned Butter\, Rosemary\, Thyme\, Shallots\, And Garlic Over Quinoa And Chef’s Choice Vegetable\n\n\n\n\nDessert (Almond Mousse With Cherry Coulis And Sugar Cookie)\nWater\, Iced Tea\, Lemonade And Coffee (Served Upon Request)
URL:https://getawaytomurder.com/event/boise-id-the-dinner-detective-murder-mystery-dinner/2026-06-27/
LOCATION:THE RIVERSIDE HOTEL – DINNER DETECTIVE BOISE\, 2900 Chinden Blvd\, Boise\, ID\, 83714\, United States
CATEGORIES:Dinner Detective,Dinner Theater,Food & Drink,Murder Mystery Dinner
GEO:43.6212822;-116.2345199
X-APPLE-STRUCTURED-LOCATION;VALUE=URI;X-ADDRESS=THE RIVERSIDE HOTEL – DINNER DETECTIVE BOISE 2900 Chinden Blvd Boise ID 83714 United States;X-APPLE-RADIUS=500;X-TITLE=2900 Chinden Blvd:geo:-116.2345199,43.6212822
END:VEVENT
END:VCALENDAR