BEGIN:VCALENDAR
VERSION:2.0
PRODID:-//Getaway to Murder - ECPv6.15.20//NONSGML v1.0//EN
CALSCALE:GREGORIAN
METHOD:PUBLISH
X-WR-CALNAME:Getaway to Murder
X-ORIGINAL-URL:https://getawaytomurder.com
X-WR-CALDESC:Events for Getaway to Murder
REFRESH-INTERVAL;VALUE=DURATION:PT1H
X-Robots-Tag:noindex
X-PUBLISHED-TTL:PT1H
BEGIN:VTIMEZONE
TZID:America/Detroit
BEGIN:DAYLIGHT
TZOFFSETFROM:-0500
TZOFFSETTO:-0400
TZNAME:EDT
DTSTART:20250309T070000
END:DAYLIGHT
BEGIN:STANDARD
TZOFFSETFROM:-0400
TZOFFSETTO:-0500
TZNAME:EST
DTSTART:20251102T060000
END:STANDARD
BEGIN:DAYLIGHT
TZOFFSETFROM:-0500
TZOFFSETTO:-0400
TZNAME:EDT
DTSTART:20260308T070000
END:DAYLIGHT
BEGIN:STANDARD
TZOFFSETFROM:-0400
TZOFFSETTO:-0500
TZNAME:EST
DTSTART:20261101T060000
END:STANDARD
BEGIN:DAYLIGHT
TZOFFSETFROM:-0500
TZOFFSETTO:-0400
TZNAME:EDT
DTSTART:20270314T070000
END:DAYLIGHT
BEGIN:STANDARD
TZOFFSETFROM:-0400
TZOFFSETTO:-0500
TZNAME:EST
DTSTART:20271107T060000
END:STANDARD
END:VTIMEZONE
BEGIN:VTIMEZONE
TZID:America/New_York
BEGIN:DAYLIGHT
TZOFFSETFROM:-0500
TZOFFSETTO:-0400
TZNAME:EDT
DTSTART:20250309T070000
END:DAYLIGHT
BEGIN:STANDARD
TZOFFSETFROM:-0400
TZOFFSETTO:-0500
TZNAME:EST
DTSTART:20251102T060000
END:STANDARD
BEGIN:DAYLIGHT
TZOFFSETFROM:-0500
TZOFFSETTO:-0400
TZNAME:EDT
DTSTART:20260308T070000
END:DAYLIGHT
BEGIN:STANDARD
TZOFFSETFROM:-0400
TZOFFSETTO:-0500
TZNAME:EST
DTSTART:20261101T060000
END:STANDARD
BEGIN:DAYLIGHT
TZOFFSETFROM:-0500
TZOFFSETTO:-0400
TZNAME:EDT
DTSTART:20270314T070000
END:DAYLIGHT
BEGIN:STANDARD
TZOFFSETFROM:-0400
TZOFFSETTO:-0500
TZNAME:EST
DTSTART:20271107T060000
END:STANDARD
END:VTIMEZONE
BEGIN:VEVENT
DTSTART;TZID=America/Detroit:20260718T180000
DTEND;TZID=America/Detroit:20260718T210000
DTSTAMP:20260421T184230
CREATED:20260316T154439Z
LAST-MODIFIED:20260316T154509Z
UID:10005966-1784397600-1784408400@getawaytomurder.com
SUMMARY:Lansing\, MI - The Dinner Detective Murder Mystery Dinner
DESCRIPTION:North America’s largest interactive true crime murder mystery dinner show is now playing in Lansing\, MI! Witness a hilarious mystery while you feast on a fantastic dinner. Just beware! The culprit is hiding in plain sight somewhere in the room\, and you may find yourself as a Prime Suspect before you know it! \nJoin us for a Lansing\, MI true crime murder mystery experience that is very different from a traditional murder mystery dinner show. Our actors are not dressed in costume and are hidden in the audience! This results in a fun\, social and interactive evening suitable for all adults. \nEach ticket includes our signature award-winning murder mystery dinner show\, along with a full plated dinner\, waitstaff gratuity\, and plenty of surprises during the show. \nHosting a group party or private event in Lansing\, MI? We specialize in custom private events for companies\, groups\, and organizations of almost every size!We can host your event onsite at our public show location\, or we can bring a show to your home\, business\, or venue. \n\nOur Menu\n\n\n\nChef’s Choice Appetizers\nHouse Salad\nRolls & Butter\nChoice Of Entree:\n\nCHICKEN: Bruschetta Grilled Chicken Breast\n\nMarinated Tomato Basil Salad\, Roasted Garlic Cream\, Creamy Mashed Potato\, Seasonal Vegetables\n\n\nFISH: Hot Honey Salmon\n\nSalmon Filet Seared And Finished With Hot Honey Glaze\, Creamy Mashed Potato\, Seasonal Vegetables\n\n\nVEGETARIAN: Wild Mushroom Risotto\n\nTruffle\, Reggiano\, Local Mushrooms\, Blistered Tomato\, Basil\n\n\n\n\nVanilla Cheesecake\, Raspberry Coulis
URL:https://getawaytomurder.com/event/lansing-mi-the-dinner-detective-murder-mystery-dinner/2026-07-18/
LOCATION:DOUBLETREE BY HILTON LANSING\, 111 North Grand Ave\, Lansing\, MI\, 48933\, United States
CATEGORIES:Dinner Detective,Dinner Theater,Food & Drink,Murder Mystery Dinner
GEO:42.7340944;-84.5511178
X-APPLE-STRUCTURED-LOCATION;VALUE=URI;X-ADDRESS=DOUBLETREE BY HILTON LANSING 111 North Grand Ave Lansing MI 48933 United States;X-APPLE-RADIUS=500;X-TITLE=111 North Grand Ave:geo:-84.5511178,42.7340944
END:VEVENT
BEGIN:VEVENT
DTSTART;TZID=America/New_York:20260718T180000
DTEND;TZID=America/New_York:20260718T210000
DTSTAMP:20260421T184230
CREATED:20260317T160956Z
LAST-MODIFIED:20260317T162232Z
UID:10006122-1784397600-1784408400@getawaytomurder.com
SUMMARY:Dayton\, OH - The Dinner Detective Murder Mystery Dinner
DESCRIPTION:North America’s largest interactive true crime murder mystery dinner show is now playing in Dayton\, OH! Witness a hilarious mystery while you feast on a fantastic dinner. Just beware! The culprit is hiding in plain sight somewhere in the room\, and you may find yourself as a Prime Suspect before you know it! \nJoin us for a Dayton\, OH true crime murder mystery experience that is very different from a traditional murder mystery dinner show. Our actors are not dressed in costume and are hidden in the audience! This results in a fun\, social and interactive evening suitable for all adults. \nEach ticket includes our signature award-winning murder mystery dinner show\, along with a full plated dinner\, waitstaff gratuity\, and plenty of surprises during the show. \nHosting a group party or private event in Dayton\, OH? We specialize in custom private events for companies\, groups\, and organizations of almost every size! We can host your event onsite at our public show location\, or we can bring a show to your home\, business\, or venue. \n\nOur Menu\n\n\n\nVine-Ripened Tomato Bruschetta\n\nToasted Artisan Crostini Topped With Marinated Tomatoes\, Fresh Basil Chiffonade\, Roasted Garlic\, Extra Virgin Olive Oil\, Shaved Parmesan\, And Finished With Aged Balsamic Reduction.\n\n\nGarden Salad\n\nCrisp Romaine And Spring Greens With Grape Tomatoes\, English Cucumber\, Shredded Carrots\, And Red Onion.  Served With Warm Dinner Rolls\, Whipped Butter\, And Choice Of Ranch Or House Vinaigrette.\n\n\nChoice Of Entree:\n\nCHICKEN:  Basil Herb Chicken\n\nW/ Seasoned Rice Pilaf And Southern-Style Green Beans\n\n\nFISH:  Atlantic Salmon\n\nW/ Seasoned Rice Pilaf And Southern-Style Green Beans\n\n\nVEGETARIAN:  Parmesan-Crusted Cauliflower Steak\n\nHerb-Marinated And Grilled Cauliflower Steak\, Finished With Basil Pesto And Shaved Parmesan.\n\n\n\n\nChef’s Selection Of Seasonal Dessert\nIced Tea/Water/Coffee Upon Request
URL:https://getawaytomurder.com/event/dayton-oh-the-dinner-detective-murder-mystery-dinner/2026-07-18/
LOCATION:HILTON GARDEN INN DAYTON BEAVERCREEK\, 3520 Pentagon Park Blvd\, Dayton\, OH\, 45431\, United States
CATEGORIES:Dinner Detective,Dinner Theater,Food & Drink,Murder Mystery Dinner
GEO:39.7728817;-84.0608829
X-APPLE-STRUCTURED-LOCATION;VALUE=URI;X-ADDRESS=HILTON GARDEN INN DAYTON BEAVERCREEK 3520 Pentagon Park Blvd Dayton OH 45431 United States;X-APPLE-RADIUS=500;X-TITLE=3520 Pentagon Park Blvd:geo:-84.0608829,39.7728817
END:VEVENT
BEGIN:VEVENT
DTSTART;TZID=America/New_York:20260718T180000
DTEND;TZID=America/New_York:20260718T210000
DTSTAMP:20260421T184230
CREATED:20260318T210231Z
LAST-MODIFIED:20260319T150557Z
UID:10006241-1784397600-1784408400@getawaytomurder.com
SUMMARY:Allentown\, PA - The Dinner Detective Murder Mystery Dinner Show
DESCRIPTION:North America’s largest interactive true crime murder mystery dinner show is now playing in Allentown\, PA!Witness a hilarious mystery while you feast on a fantastic dinner. Just beware! The culprit is hiding in plain sight somewhere in the room\, and you may find yourself as a Prime Suspect before you know it! \nJoin us for a Allentown\, PA true crime murder mystery experience that is very different from a traditional murder mystery dinner show. Our actors are not dressed in costume and are hidden in the audience! This results in a fun\, social and interactive evening suitable for all adults. \nEach ticket includes our signature award-winning murder mystery dinner show\, along with a full plated dinner\, waitstaff gratuity\, and plenty of surprises during the show. \nHosting a group party or private event in Allentown\, PA? We specialize in custom private events for companies\, groups\, and organizations of almost every size! We can host your event onsite at our public show location\, or we can bring a show to your home\, business\, or venue \n\nOur Menu\n\n\n\nMixed Greens Salad\n\nCucumber\, Cherry Tomatoes\, Red Onion\, Feta\, Kalamata Olives With A Lemon-Oregano Vinaigrette Dressing\n\n\nChoice Of Entree:\n\nCHICKEN:  Grilled Lemon-Herb Chicken Breast Marinated In Olive Oil\, Garlic\, Rosemary\, And Lemon Zest\n\nHerb Couscous Tossed With Roasted Red Peppers\, Parsley\, And A Hint Of Olive Oil – Roasted Zucchini & Bell Peppers Drizzled With Balsamic Glaze\n\n\nVEGETARIAN/VEGAN:  Seasonal Vegetable Risotto\n\n\nBaklava Bites
URL:https://getawaytomurder.com/event/allentown-pa-the-dinner-detective-murder-mystery-dinner/2026-07-18/
LOCATION:DELTA HOTELS BY MARRIOTT ALLENTOWN LEHIGH VALLEY – DINNER DETECTIVE ALLENTOWN\, 7736 Adrienne Dr\, Breinigsville\, PA\, 18031\, United States
CATEGORIES:Dinner Detective,Dinner Theater,Food & Drink,Murder Mystery Dinner,Murder Mystery Event
ORGANIZER;CN="The Dinner Detective Allentown":MAILTO:aln.info@thedinnerdetective.com
GEO:40.5771414;-75.6257266
X-APPLE-STRUCTURED-LOCATION;VALUE=URI;X-ADDRESS=DELTA HOTELS BY MARRIOTT ALLENTOWN LEHIGH VALLEY – DINNER DETECTIVE ALLENTOWN 7736 Adrienne Dr Breinigsville PA 18031 United States;X-APPLE-RADIUS=500;X-TITLE=7736 Adrienne Dr:geo:-75.6257266,40.5771414
END:VEVENT
END:VCALENDAR