BEGIN:VCALENDAR
VERSION:2.0
PRODID:-//Getaway to Murder - ECPv6.15.20//NONSGML v1.0//EN
CALSCALE:GREGORIAN
METHOD:PUBLISH
X-ORIGINAL-URL:https://getawaytomurder.com
X-WR-CALDESC:Events for Getaway to Murder
REFRESH-INTERVAL;VALUE=DURATION:PT1H
X-Robots-Tag:noindex
X-PUBLISHED-TTL:PT1H
BEGIN:VTIMEZONE
TZID:America/New_York
BEGIN:DAYLIGHT
TZOFFSETFROM:-0500
TZOFFSETTO:-0400
TZNAME:EDT
DTSTART:20250309T070000
END:DAYLIGHT
BEGIN:STANDARD
TZOFFSETFROM:-0400
TZOFFSETTO:-0500
TZNAME:EST
DTSTART:20251102T060000
END:STANDARD
BEGIN:DAYLIGHT
TZOFFSETFROM:-0500
TZOFFSETTO:-0400
TZNAME:EDT
DTSTART:20260308T070000
END:DAYLIGHT
BEGIN:STANDARD
TZOFFSETFROM:-0400
TZOFFSETTO:-0500
TZNAME:EST
DTSTART:20261101T060000
END:STANDARD
BEGIN:DAYLIGHT
TZOFFSETFROM:-0500
TZOFFSETTO:-0400
TZNAME:EDT
DTSTART:20270314T070000
END:DAYLIGHT
BEGIN:STANDARD
TZOFFSETFROM:-0400
TZOFFSETTO:-0500
TZNAME:EST
DTSTART:20271107T060000
END:STANDARD
END:VTIMEZONE
BEGIN:VEVENT
DTSTART;TZID=America/New_York:20260407T180000
DTEND;TZID=America/New_York:20260407T203000
DTSTAMP:20260419T141848
CREATED:20260310T145126Z
LAST-MODIFIED:20260310T145126Z
UID:10004823-1775584800-1775593800@getawaytomurder.com
SUMMARY:Destin\, FL - Murder Mystery Cruise Destin
DESCRIPTION:Step aboard Happy Life Cruises’ paddlewheel riverboat for a 2.5-hour murder mystery dinner cruise in Destin. You’ll enjoy a three-course meal featuring creole pasta with shrimp and crawfish\, pan-seared chicken\, or braised short ribs while watching hilarious improv actors perform an interactive whodunit. The evening includes Caesar salad\, key lime pie\, and full bar access as you cruise the harbor. Perfect for date nights or groups looking for something different than typical dinner theater. The interactive mystery keeps everyone guessing until dessert\, and you might even become part of the story. Book ahead as this unique combination of dining\, drama\, and harbor views fills up quickly. \n\nMurder Mystery Cruise Destin\n\n\nGet ready for one of Destin’s most entertaining nights on the water with Happy Life Cruises’ Murder Mystery Dinner Cruise. This isn’t your typical harbor cruise – we’re talking about a full-blown interactive theater experience combined with a top-rated three-course dinner\, all while cruising the beautiful waters around Destin. You’ll spend 2.5 hours aboard our classic paddlewheel riverboat\, solving crimes\, enjoying world-class cuisine\, and taking in those famous Gulf Coast views. Whether you’re planning a date night that’ll have you both talking for weeks or organizing a group outing that everyone will remember\, this customer favorite delivers entertainment like nowhere else in Northwest Florida. \n\n\nWhat to Expect on Board\n\n\nStep onto our iconic riverboat and you’re immediately part of the action. The “Dinner to Die For” experience kicks off as soon as you board\, with professional improv actors mingling with guests\, setting up the mystery\, and getting everyone involved in the storyline. \nYou’re not just watching a show – you’re part of it. The crew has perfected this interactive format over years of cruise nights\, and they know exactly how to keep the energy high without making anyone uncomfortable. The atmosphere strikes that perfect balance between hilarious chaos and sophisticated dining. \nAs we cruise through Destin Harbor and out into the Gulf waters\, the mystery unfolds course by course. You’ll be questioning suspects\, gathering clues\, and maybe even becoming a suspect yourself. The acting is top-notch but never takes itself too seriously – expect plenty of laughs\, unexpected plot twists\, and that satisfying “aha!” moment when everything comes together during dessert. \n\nMenu & Bar Experience\n\n\n\nFresh Caesar salad and warm yeast rolls with butter\nChoose between several mouth-watering options.\n\nThe Creole pasta loaded with shrimp\, crawfish\, and andouille sausage in a rich lobster cream sauce is a customer favorite – it’s got that authentic Gulf Coast flavor you can’t find just anywhere.\nIf you prefer something lighter\, the pan-sautéed chicken breast with lemon butter sauce hits the spot perfectly.\nFor heartier appetites\, the braised short rib is tender enough to cut with a fork and pairs beautifully with the roasted yellow squash and zucchini.\n\n\nEverything wraps up with key lime pie that captures that perfect Florida finish. The full bar stays open throughout the cruise\, so you can sip craft cocktails\, wine\, or beer while you’re solving the mystery. The bartenders know their stuff and can whip up everything from classic martinis to tropical drinks that match the coastal vibe.\n\n\n\nMarine Life Along the Route\n\n\nWhile the mystery takes center stage\, don’t miss the natural show happening outside the windows. Destin’s waters come alive in the evening hours\, and our cruise route takes you through some of the best viewing areas. Atlantic bottlenose dolphins are the stars of the show here – these playful marine mammals are curious about boats and often swim alongside us\, especially during spring and summer months. They’re most active during feeding times around sunset\, performing their signature jumps and tail slaps that never get old. Keep an eye out for brown pelicans diving for fish near the harbor entrance. These impressive birds have a six-foot wingspan and dive from heights up to 30 feet\, hitting the water with remarkable precision. During cooler months\, you might spot loggerhead sea turtles surfacing for air – these ancient mariners can weigh up to 300 pounds and have been navigating these waters for millions of years. The Gulf waters around Destin also host seasonal visitors like manta rays\, which can span up to 12 feet and glide gracefully just beneath the surface during warmer months. \n\n\nPerfect for Any Occasion\n\n\nThis cruise works for practically any celebration or just because you want to try something different in Destin. Couples love it for anniversary dinners or proposals – there’s something romantic about solving a mystery together while watching the sunset over the Gulf. Groups of friends turn it into the highlight of their beach vacation\, and we’ve hosted everything from birthday parties to corporate team-building events. The interactive nature breaks the ice better than any typical dinner outing. Bachelor and bachelorette parties especially enjoy the theatrical elements and the chance to really get into character. Families with teenagers find it’s one of the few activities that keeps everyone engaged – the mystery appeals to all ages\, and the comedy keeps things light. Even solo travelers have a great time since the interactive format naturally connects you with other guests. The best part is that no two cruises are exactly the same – the actors adapt to each crowd\, and guest participation shapes how the story unfolds. Book early during peak season (March through October) since this trending experience sells out regularly\, especially on weekends. \n\n\nReady to Set Sail?\n\n\nHappy Life Cruises has created something truly special with this Murder Mystery Dinner Cruise. You get world-class entertainment\, exceptional food\, beautiful scenery\, and memories that last long after you dock. The combination of professional theater\, gourmet dining\, and Destin’s stunning waterfront makes this one of the area’s best evening activities. Whether you’re a local looking for a fun night out or visiting from out of town\, this cruise delivers an experience you simply can’t get anywhere else. The 2.5-hour format gives you plenty of time to get into the story without feeling rushed\, and the full bar keeps the social atmosphere flowing naturally. Don’t wait too long to book – these cruises fill up fast\, especially during prime season when Destin’s at its most beautiful. Your table is waiting\, the mystery is ready to unfold\, and the only question left is whether you’ll crack the case before dessert arrives.
URL:https://getawaytomurder.com/event/destin-fl-murder-mystery-cruise-destin/2026-04-07/
LOCATION:HAPPY LIFE CRUISES\, 16 Harbor Blvd Boat Slip 39\, Destin\, FL\, 32541\, United States
CATEGORIES:Cruise,Dinner Theater,Food & Drink,Murder Mystery Dinner,Murder Mystery Dinner Cruise
GEO:30.393988;-86.5108615
X-APPLE-STRUCTURED-LOCATION;VALUE=URI;X-ADDRESS=HAPPY LIFE CRUISES 16 Harbor Blvd Boat Slip 39 Destin FL 32541 United States;X-APPLE-RADIUS=500;X-TITLE=16 Harbor Blvd Boat Slip 39:geo:-86.5108615,30.393988
END:VEVENT
BEGIN:VEVENT
DTSTART;TZID=America/New_York:20260409T180000
DTEND;TZID=America/New_York:20260409T203000
DTSTAMP:20260419T141848
CREATED:20260310T145126Z
LAST-MODIFIED:20260310T145126Z
UID:10004824-1775757600-1775766600@getawaytomurder.com
SUMMARY:Destin\, FL - Murder Mystery Cruise Destin
DESCRIPTION:Step aboard Happy Life Cruises’ paddlewheel riverboat for a 2.5-hour murder mystery dinner cruise in Destin. You’ll enjoy a three-course meal featuring creole pasta with shrimp and crawfish\, pan-seared chicken\, or braised short ribs while watching hilarious improv actors perform an interactive whodunit. The evening includes Caesar salad\, key lime pie\, and full bar access as you cruise the harbor. Perfect for date nights or groups looking for something different than typical dinner theater. The interactive mystery keeps everyone guessing until dessert\, and you might even become part of the story. Book ahead as this unique combination of dining\, drama\, and harbor views fills up quickly. \n\nMurder Mystery Cruise Destin\n\n\nGet ready for one of Destin’s most entertaining nights on the water with Happy Life Cruises’ Murder Mystery Dinner Cruise. This isn’t your typical harbor cruise – we’re talking about a full-blown interactive theater experience combined with a top-rated three-course dinner\, all while cruising the beautiful waters around Destin. You’ll spend 2.5 hours aboard our classic paddlewheel riverboat\, solving crimes\, enjoying world-class cuisine\, and taking in those famous Gulf Coast views. Whether you’re planning a date night that’ll have you both talking for weeks or organizing a group outing that everyone will remember\, this customer favorite delivers entertainment like nowhere else in Northwest Florida. \n\n\nWhat to Expect on Board\n\n\nStep onto our iconic riverboat and you’re immediately part of the action. The “Dinner to Die For” experience kicks off as soon as you board\, with professional improv actors mingling with guests\, setting up the mystery\, and getting everyone involved in the storyline. \nYou’re not just watching a show – you’re part of it. The crew has perfected this interactive format over years of cruise nights\, and they know exactly how to keep the energy high without making anyone uncomfortable. The atmosphere strikes that perfect balance between hilarious chaos and sophisticated dining. \nAs we cruise through Destin Harbor and out into the Gulf waters\, the mystery unfolds course by course. You’ll be questioning suspects\, gathering clues\, and maybe even becoming a suspect yourself. The acting is top-notch but never takes itself too seriously – expect plenty of laughs\, unexpected plot twists\, and that satisfying “aha!” moment when everything comes together during dessert. \n\nMenu & Bar Experience\n\n\n\nFresh Caesar salad and warm yeast rolls with butter\nChoose between several mouth-watering options.\n\nThe Creole pasta loaded with shrimp\, crawfish\, and andouille sausage in a rich lobster cream sauce is a customer favorite – it’s got that authentic Gulf Coast flavor you can’t find just anywhere.\nIf you prefer something lighter\, the pan-sautéed chicken breast with lemon butter sauce hits the spot perfectly.\nFor heartier appetites\, the braised short rib is tender enough to cut with a fork and pairs beautifully with the roasted yellow squash and zucchini.\n\n\nEverything wraps up with key lime pie that captures that perfect Florida finish. The full bar stays open throughout the cruise\, so you can sip craft cocktails\, wine\, or beer while you’re solving the mystery. The bartenders know their stuff and can whip up everything from classic martinis to tropical drinks that match the coastal vibe.\n\n\n\nMarine Life Along the Route\n\n\nWhile the mystery takes center stage\, don’t miss the natural show happening outside the windows. Destin’s waters come alive in the evening hours\, and our cruise route takes you through some of the best viewing areas. Atlantic bottlenose dolphins are the stars of the show here – these playful marine mammals are curious about boats and often swim alongside us\, especially during spring and summer months. They’re most active during feeding times around sunset\, performing their signature jumps and tail slaps that never get old. Keep an eye out for brown pelicans diving for fish near the harbor entrance. These impressive birds have a six-foot wingspan and dive from heights up to 30 feet\, hitting the water with remarkable precision. During cooler months\, you might spot loggerhead sea turtles surfacing for air – these ancient mariners can weigh up to 300 pounds and have been navigating these waters for millions of years. The Gulf waters around Destin also host seasonal visitors like manta rays\, which can span up to 12 feet and glide gracefully just beneath the surface during warmer months. \n\n\nPerfect for Any Occasion\n\n\nThis cruise works for practically any celebration or just because you want to try something different in Destin. Couples love it for anniversary dinners or proposals – there’s something romantic about solving a mystery together while watching the sunset over the Gulf. Groups of friends turn it into the highlight of their beach vacation\, and we’ve hosted everything from birthday parties to corporate team-building events. The interactive nature breaks the ice better than any typical dinner outing. Bachelor and bachelorette parties especially enjoy the theatrical elements and the chance to really get into character. Families with teenagers find it’s one of the few activities that keeps everyone engaged – the mystery appeals to all ages\, and the comedy keeps things light. Even solo travelers have a great time since the interactive format naturally connects you with other guests. The best part is that no two cruises are exactly the same – the actors adapt to each crowd\, and guest participation shapes how the story unfolds. Book early during peak season (March through October) since this trending experience sells out regularly\, especially on weekends. \n\n\nReady to Set Sail?\n\n\nHappy Life Cruises has created something truly special with this Murder Mystery Dinner Cruise. You get world-class entertainment\, exceptional food\, beautiful scenery\, and memories that last long after you dock. The combination of professional theater\, gourmet dining\, and Destin’s stunning waterfront makes this one of the area’s best evening activities. Whether you’re a local looking for a fun night out or visiting from out of town\, this cruise delivers an experience you simply can’t get anywhere else. The 2.5-hour format gives you plenty of time to get into the story without feeling rushed\, and the full bar keeps the social atmosphere flowing naturally. Don’t wait too long to book – these cruises fill up fast\, especially during prime season when Destin’s at its most beautiful. Your table is waiting\, the mystery is ready to unfold\, and the only question left is whether you’ll crack the case before dessert arrives.
URL:https://getawaytomurder.com/event/destin-fl-murder-mystery-cruise-destin/2026-04-09/
LOCATION:HAPPY LIFE CRUISES\, 16 Harbor Blvd Boat Slip 39\, Destin\, FL\, 32541\, United States
CATEGORIES:Cruise,Dinner Theater,Food & Drink,Murder Mystery Dinner,Murder Mystery Dinner Cruise
GEO:30.393988;-86.5108615
X-APPLE-STRUCTURED-LOCATION;VALUE=URI;X-ADDRESS=HAPPY LIFE CRUISES 16 Harbor Blvd Boat Slip 39 Destin FL 32541 United States;X-APPLE-RADIUS=500;X-TITLE=16 Harbor Blvd Boat Slip 39:geo:-86.5108615,30.393988
END:VEVENT
BEGIN:VEVENT
DTSTART;TZID=America/New_York:20260409T193000
DTEND;TZID=America/New_York:20260409T220000
DTSTAMP:20260419T141848
CREATED:20260306T022506Z
LAST-MODIFIED:20260306T022506Z
UID:10004769-1775763000-1775772000@getawaytomurder.com
SUMMARY:Tampa\, FL - Murder Mystery Dinner Cruise
DESCRIPTION:Welcome aboard the most thrilling voyage. \nGet ready to immerse yourself in an evening of intrigue\, suspense\, and delicious dining as you set sail on a journey where murder is on the menu\, and everyone is a suspect. Ditch the costumes and pre-conceptions\, this murder mystery cruise pairs a comedic who-done-it with an unforgettable dinner cruise experience. It’s going to be a killer cruise and you’re invited. \n\n\n\n\nStep aboard for a night of mystery\, mayhem\, and murder! The only thing you can expect is that nothing will be as it seems. \nBook your tickets now and secure your place at the table for the ultimate whodunit on the water! \nPRICE: \nPrices change\, for the best pricing book early! Price does not include tax\, administrative & processing fees\, $10 per adult gratuity and marine fees. \nAdult: Starts at $89.95\nGroups of 25 guests or more: Please call 813-223-7999 or email sales@yachtstarship.com to book.Don’t see a date that works for your group? We may be able to open a cruise based on availability—email info@yachtstarship.com to explore options. \nCRUISE DATES & TIMES:\nBoards: 7:00 PM\, Cruises 7:30 PM – 10:00 PM \n  \nMURDER MYSTERY DINNER CRUISE TICKET INCLUDES:\n\nPlated 3-course Dinner\n\nPepita Salad: Roasted Beets With Clementine Oranges\, Pickled Red Onion\, Cucumber\, Sweet & Spicy Pumpkin Seeds over Arugula\, Frisee and Bibb Lettuce with Lemon Mint Vinaigrette\nChoice of Entree served with Chef’s Choice of Starch and Seasonal Vegetable:\n\nPoulet Au Poivre: Sauteed Chicken Breast in a Creamy Peppercorn Sauce over Portobello Mushroom\, Sundried Tomato and Swiss Chard\nBoursin Salmon: Pan Seared Salmon with a White Asparagus Boursin Cream Sauce\n\n\nChef’s Selection of Dessert\n\n\nComplimentary coffee\, tea and water\nMurder Mystery Interactive Experience\nFull bar available for purchase\nReserved Community Style Seating\n\nTERMS:\nCancellation Policy: All holiday and special event cruises are non-refundable and non-\ntransferable. Gift certificates\, vouchers\, and discounts are not valid for these sailings. \nDress Code: To help us maintain a sophisticated and welcoming atmosphere\, the following\nclothing items are not permitted for any guests: \n\n\n\nExcessively revealing attire (examples: bikini tops\, sheer garments without underlayers)\nMesh or see-through clothing\nOverly torn or distressed pants\nAttire exposing nipples or other private areas\nClothing with offensive or inappropriate language or graphics\nClothing emitting marijuana odor\n\n\n\nAdmittance is at the discretion of the Captain. The Captain and/or Mate will enforce the dress\ncode at the gangway. Guests not in compliance with Manthey Hospitality’s dress code may\neither change into appropriate attire or reschedule their cruise. Thank you for respecting these\nguidelines so all guests may enjoy a comfortable dining and cruising experience.
URL:https://getawaytomurder.com/event/tampa-fl-murder-mystery-dinner-cruise/2026-04-09/
LOCATION:YACHT STARSHIP CRUISE – TAMPA\, 603 Channelside Dr\, TAMPA\, FL\, 33602\, United States
CATEGORIES:Cruise,Dinner Theater,Food & Drink,Murder Mystery Dinner,Murder Mystery Dinner Cruise
GEO:27.9422128;-82.4482226
X-APPLE-STRUCTURED-LOCATION;VALUE=URI;X-ADDRESS=YACHT STARSHIP CRUISE – TAMPA 603 Channelside Dr TAMPA FL 33602 United States;X-APPLE-RADIUS=500;X-TITLE=603 Channelside Dr:geo:-82.4482226,27.9422128
END:VEVENT
END:VCALENDAR