BEGIN:VCALENDAR
VERSION:2.0
PRODID:-//Getaway to Murder - ECPv6.15.20//NONSGML v1.0//EN
CALSCALE:GREGORIAN
METHOD:PUBLISH
X-WR-CALNAME:Getaway to Murder
X-ORIGINAL-URL:https://getawaytomurder.com
X-WR-CALDESC:Events for Getaway to Murder
REFRESH-INTERVAL;VALUE=DURATION:PT1H
X-Robots-Tag:noindex
X-PUBLISHED-TTL:PT1H
BEGIN:VTIMEZONE
TZID:America/New_York
BEGIN:DAYLIGHT
TZOFFSETFROM:-0500
TZOFFSETTO:-0400
TZNAME:EDT
DTSTART:20260308T070000
END:DAYLIGHT
BEGIN:STANDARD
TZOFFSETFROM:-0400
TZOFFSETTO:-0500
TZNAME:EST
DTSTART:20261101T060000
END:STANDARD
BEGIN:DAYLIGHT
TZOFFSETFROM:-0500
TZOFFSETTO:-0400
TZNAME:EDT
DTSTART:20270314T070000
END:DAYLIGHT
BEGIN:STANDARD
TZOFFSETFROM:-0400
TZOFFSETTO:-0500
TZNAME:EST
DTSTART:20271107T060000
END:STANDARD
BEGIN:DAYLIGHT
TZOFFSETFROM:-0500
TZOFFSETTO:-0400
TZNAME:EDT
DTSTART:20280312T070000
END:DAYLIGHT
BEGIN:STANDARD
TZOFFSETFROM:-0400
TZOFFSETTO:-0500
TZNAME:EST
DTSTART:20281105T060000
END:STANDARD
END:VTIMEZONE
BEGIN:VEVENT
DTSTART;TZID=America/New_York:20271003T000000
DTEND;TZID=America/New_York:20271003T235959
DTSTAMP:20260421T013321
CREATED:20260311T164029Z
LAST-MODIFIED:20260311T164221Z
UID:10005323-1822521600-1822607999@getawaytomurder.com
SUMMARY:Fort Myers - Murder Mystery Dinner Train
DESCRIPTION:Wed\, Thu\, Fri\, Sun – All tickets $129*\nSat – All tickets $135* \n*Ticket price does not include taxes or gratuities. Coffee\, Tea\, Iced Tea included. Soft drinks and alcoholic drinks may be purchased on board the train with cash or credit. \nNeed to make reservations over the phone\, want to purchase a gift certificate\, make a group reservation\, or have general questions about your upcoming unique dining experience with a five-course dinner and murder mystery show?  Give us a call at (239) 275-8487. \nBelow\, you will find the address to our passenger depot\, the Colonial Station\, in Fort Myers\, FL\, phone numbers\, hours of operation\, and directions from the major roads.  We’re just a short drive away from many cities around southern Florida\, including Tampa\, St. Petersburg\, Lakeland\, Plant City\, Kissimmee\, Sarasota\, Port Charlotte\, Punta Gorda\, Cape Coral\, Bonita Springs\, Naples\, Marco Island\, West Palm Beach\, Boca Raton\, Fort Lauderdale\, Miami and Homestead. Visit our location page for detailed directions to our location at Colonial Station. See our upcoming special events. \nColonial Station\n2805 Colonial Blvd\nFort Myers\, FL 33966\n(239) 275-8487
URL:https://getawaytomurder.com/event/fort-myers-something-murderous-this-way-comes/2027-10-03/
LOCATION:SEM GULF – COLONIAL STATION\, 2805 Colonial Blvd\, Fort Myers\, FL\, 33966\, United States
CATEGORIES:Dinner Theater,Food & Drink,Murder Mystery Dinner,Murder Mystery Dinner Train,Murder Mystery Train
GEO:26.5996644;-81.8551876
X-APPLE-STRUCTURED-LOCATION;VALUE=URI;X-ADDRESS=SEM GULF – COLONIAL STATION 2805 Colonial Blvd Fort Myers FL 33966 United States;X-APPLE-RADIUS=500;X-TITLE=2805 Colonial Blvd:geo:-81.8551876,26.5996644
END:VEVENT
BEGIN:VEVENT
DTSTART;TZID=America/New_York:20271006T000000
DTEND;TZID=America/New_York:20271006T235959
DTSTAMP:20260421T013321
CREATED:20260311T164029Z
LAST-MODIFIED:20260311T164221Z
UID:10005324-1822780800-1822867199@getawaytomurder.com
SUMMARY:Fort Myers - Murder Mystery Dinner Train
DESCRIPTION:Wed\, Thu\, Fri\, Sun – All tickets $129*\nSat – All tickets $135* \n*Ticket price does not include taxes or gratuities. Coffee\, Tea\, Iced Tea included. Soft drinks and alcoholic drinks may be purchased on board the train with cash or credit. \nNeed to make reservations over the phone\, want to purchase a gift certificate\, make a group reservation\, or have general questions about your upcoming unique dining experience with a five-course dinner and murder mystery show?  Give us a call at (239) 275-8487. \nBelow\, you will find the address to our passenger depot\, the Colonial Station\, in Fort Myers\, FL\, phone numbers\, hours of operation\, and directions from the major roads.  We’re just a short drive away from many cities around southern Florida\, including Tampa\, St. Petersburg\, Lakeland\, Plant City\, Kissimmee\, Sarasota\, Port Charlotte\, Punta Gorda\, Cape Coral\, Bonita Springs\, Naples\, Marco Island\, West Palm Beach\, Boca Raton\, Fort Lauderdale\, Miami and Homestead. Visit our location page for detailed directions to our location at Colonial Station. See our upcoming special events. \nColonial Station\n2805 Colonial Blvd\nFort Myers\, FL 33966\n(239) 275-8487
URL:https://getawaytomurder.com/event/fort-myers-something-murderous-this-way-comes/2027-10-06/
LOCATION:SEM GULF – COLONIAL STATION\, 2805 Colonial Blvd\, Fort Myers\, FL\, 33966\, United States
CATEGORIES:Dinner Theater,Food & Drink,Murder Mystery Dinner,Murder Mystery Dinner Train,Murder Mystery Train
GEO:26.5996644;-81.8551876
X-APPLE-STRUCTURED-LOCATION;VALUE=URI;X-ADDRESS=SEM GULF – COLONIAL STATION 2805 Colonial Blvd Fort Myers FL 33966 United States;X-APPLE-RADIUS=500;X-TITLE=2805 Colonial Blvd:geo:-81.8551876,26.5996644
END:VEVENT
BEGIN:VEVENT
DTSTART;TZID=America/New_York:20271007T000000
DTEND;TZID=America/New_York:20271007T235959
DTSTAMP:20260421T013321
CREATED:20260311T164029Z
LAST-MODIFIED:20260311T164221Z
UID:10005325-1822867200-1822953599@getawaytomurder.com
SUMMARY:Fort Myers - Murder Mystery Dinner Train
DESCRIPTION:Wed\, Thu\, Fri\, Sun – All tickets $129*\nSat – All tickets $135* \n*Ticket price does not include taxes or gratuities. Coffee\, Tea\, Iced Tea included. Soft drinks and alcoholic drinks may be purchased on board the train with cash or credit. \nNeed to make reservations over the phone\, want to purchase a gift certificate\, make a group reservation\, or have general questions about your upcoming unique dining experience with a five-course dinner and murder mystery show?  Give us a call at (239) 275-8487. \nBelow\, you will find the address to our passenger depot\, the Colonial Station\, in Fort Myers\, FL\, phone numbers\, hours of operation\, and directions from the major roads.  We’re just a short drive away from many cities around southern Florida\, including Tampa\, St. Petersburg\, Lakeland\, Plant City\, Kissimmee\, Sarasota\, Port Charlotte\, Punta Gorda\, Cape Coral\, Bonita Springs\, Naples\, Marco Island\, West Palm Beach\, Boca Raton\, Fort Lauderdale\, Miami and Homestead. Visit our location page for detailed directions to our location at Colonial Station. See our upcoming special events. \nColonial Station\n2805 Colonial Blvd\nFort Myers\, FL 33966\n(239) 275-8487
URL:https://getawaytomurder.com/event/fort-myers-something-murderous-this-way-comes/2027-10-07/
LOCATION:SEM GULF – COLONIAL STATION\, 2805 Colonial Blvd\, Fort Myers\, FL\, 33966\, United States
CATEGORIES:Dinner Theater,Food & Drink,Murder Mystery Dinner,Murder Mystery Dinner Train,Murder Mystery Train
GEO:26.5996644;-81.8551876
X-APPLE-STRUCTURED-LOCATION;VALUE=URI;X-ADDRESS=SEM GULF – COLONIAL STATION 2805 Colonial Blvd Fort Myers FL 33966 United States;X-APPLE-RADIUS=500;X-TITLE=2805 Colonial Blvd:geo:-81.8551876,26.5996644
END:VEVENT
BEGIN:VEVENT
DTSTART;TZID=America/New_York:20271008T000000
DTEND;TZID=America/New_York:20271008T235959
DTSTAMP:20260421T013321
CREATED:20260311T164029Z
LAST-MODIFIED:20260311T164221Z
UID:10005326-1822953600-1823039999@getawaytomurder.com
SUMMARY:Fort Myers - Murder Mystery Dinner Train
DESCRIPTION:Wed\, Thu\, Fri\, Sun – All tickets $129*\nSat – All tickets $135* \n*Ticket price does not include taxes or gratuities. Coffee\, Tea\, Iced Tea included. Soft drinks and alcoholic drinks may be purchased on board the train with cash or credit. \nNeed to make reservations over the phone\, want to purchase a gift certificate\, make a group reservation\, or have general questions about your upcoming unique dining experience with a five-course dinner and murder mystery show?  Give us a call at (239) 275-8487. \nBelow\, you will find the address to our passenger depot\, the Colonial Station\, in Fort Myers\, FL\, phone numbers\, hours of operation\, and directions from the major roads.  We’re just a short drive away from many cities around southern Florida\, including Tampa\, St. Petersburg\, Lakeland\, Plant City\, Kissimmee\, Sarasota\, Port Charlotte\, Punta Gorda\, Cape Coral\, Bonita Springs\, Naples\, Marco Island\, West Palm Beach\, Boca Raton\, Fort Lauderdale\, Miami and Homestead. Visit our location page for detailed directions to our location at Colonial Station. See our upcoming special events. \nColonial Station\n2805 Colonial Blvd\nFort Myers\, FL 33966\n(239) 275-8487
URL:https://getawaytomurder.com/event/fort-myers-something-murderous-this-way-comes/2027-10-08/
LOCATION:SEM GULF – COLONIAL STATION\, 2805 Colonial Blvd\, Fort Myers\, FL\, 33966\, United States
CATEGORIES:Dinner Theater,Food & Drink,Murder Mystery Dinner,Murder Mystery Dinner Train,Murder Mystery Train
GEO:26.5996644;-81.8551876
X-APPLE-STRUCTURED-LOCATION;VALUE=URI;X-ADDRESS=SEM GULF – COLONIAL STATION 2805 Colonial Blvd Fort Myers FL 33966 United States;X-APPLE-RADIUS=500;X-TITLE=2805 Colonial Blvd:geo:-81.8551876,26.5996644
END:VEVENT
BEGIN:VEVENT
DTSTART;TZID=America/New_York:20271009T000000
DTEND;TZID=America/New_York:20271009T235959
DTSTAMP:20260421T013321
CREATED:20260311T164029Z
LAST-MODIFIED:20260311T164221Z
UID:10005327-1823040000-1823126399@getawaytomurder.com
SUMMARY:Fort Myers - Murder Mystery Dinner Train
DESCRIPTION:Wed\, Thu\, Fri\, Sun – All tickets $129*\nSat – All tickets $135* \n*Ticket price does not include taxes or gratuities. Coffee\, Tea\, Iced Tea included. Soft drinks and alcoholic drinks may be purchased on board the train with cash or credit. \nNeed to make reservations over the phone\, want to purchase a gift certificate\, make a group reservation\, or have general questions about your upcoming unique dining experience with a five-course dinner and murder mystery show?  Give us a call at (239) 275-8487. \nBelow\, you will find the address to our passenger depot\, the Colonial Station\, in Fort Myers\, FL\, phone numbers\, hours of operation\, and directions from the major roads.  We’re just a short drive away from many cities around southern Florida\, including Tampa\, St. Petersburg\, Lakeland\, Plant City\, Kissimmee\, Sarasota\, Port Charlotte\, Punta Gorda\, Cape Coral\, Bonita Springs\, Naples\, Marco Island\, West Palm Beach\, Boca Raton\, Fort Lauderdale\, Miami and Homestead. Visit our location page for detailed directions to our location at Colonial Station. See our upcoming special events. \nColonial Station\n2805 Colonial Blvd\nFort Myers\, FL 33966\n(239) 275-8487
URL:https://getawaytomurder.com/event/fort-myers-something-murderous-this-way-comes/2027-10-09/
LOCATION:SEM GULF – COLONIAL STATION\, 2805 Colonial Blvd\, Fort Myers\, FL\, 33966\, United States
CATEGORIES:Dinner Theater,Food & Drink,Murder Mystery Dinner,Murder Mystery Dinner Train,Murder Mystery Train
GEO:26.5996644;-81.8551876
X-APPLE-STRUCTURED-LOCATION;VALUE=URI;X-ADDRESS=SEM GULF – COLONIAL STATION 2805 Colonial Blvd Fort Myers FL 33966 United States;X-APPLE-RADIUS=500;X-TITLE=2805 Colonial Blvd:geo:-81.8551876,26.5996644
END:VEVENT
END:VCALENDAR