BEGIN:VCALENDAR
VERSION:2.0
PRODID:-//Getaway to Murder - ECPv6.15.20//NONSGML v1.0//EN
CALSCALE:GREGORIAN
METHOD:PUBLISH
X-ORIGINAL-URL:https://getawaytomurder.com
X-WR-CALDESC:Events for Getaway to Murder
REFRESH-INTERVAL;VALUE=DURATION:PT1H
X-Robots-Tag:noindex
X-PUBLISHED-TTL:PT1H
BEGIN:VTIMEZONE
TZID:America/New_York
BEGIN:DAYLIGHT
TZOFFSETFROM:-0500
TZOFFSETTO:-0400
TZNAME:EDT
DTSTART:20250309T070000
END:DAYLIGHT
BEGIN:STANDARD
TZOFFSETFROM:-0400
TZOFFSETTO:-0500
TZNAME:EST
DTSTART:20251102T060000
END:STANDARD
BEGIN:DAYLIGHT
TZOFFSETFROM:-0500
TZOFFSETTO:-0400
TZNAME:EDT
DTSTART:20260308T070000
END:DAYLIGHT
BEGIN:STANDARD
TZOFFSETFROM:-0400
TZOFFSETTO:-0500
TZNAME:EST
DTSTART:20261101T060000
END:STANDARD
BEGIN:DAYLIGHT
TZOFFSETFROM:-0500
TZOFFSETTO:-0400
TZNAME:EDT
DTSTART:20270314T070000
END:DAYLIGHT
BEGIN:STANDARD
TZOFFSETFROM:-0400
TZOFFSETTO:-0500
TZNAME:EST
DTSTART:20271107T060000
END:STANDARD
BEGIN:DAYLIGHT
TZOFFSETFROM:-0500
TZOFFSETTO:-0400
TZNAME:EDT
DTSTART:20280312T070000
END:DAYLIGHT
BEGIN:STANDARD
TZOFFSETFROM:-0400
TZOFFSETTO:-0500
TZNAME:EST
DTSTART:20281105T060000
END:STANDARD
END:VTIMEZONE
BEGIN:VEVENT
DTSTART;TZID=America/New_York:20260425T193000
DTEND;TZID=America/New_York:20270425T223000
DTSTAMP:20260421T125152
CREATED:20251126T171241Z
LAST-MODIFIED:20260319T192422Z
UID:10000491-1777145400-1808692200@getawaytomurder.com
SUMMARY:Sarasota\, FL | Murder Mystery Trolley: Who Killed The Circus Queen
DESCRIPTION:Hop on board our Murder Mystery Trolley to solve the Circus Queen’s murder in a fun and interactive theatrical performance.\nThis 90-minute fantasy murder-solving tour visits many circus locations in Sarasota on a rolling adventure\, where colorful characters jump aboard to add clues and hilarity for the guests. Circus-themed costumes encouraged\, so come dressed to kill! \nUpon booking\, guests can choose to be cast in a role and receive their costume pieces\, props and scripts upon arrival at the Trolley Cottage. There is no acting. You are only reading lines in a script for speaking parts or wearing a prop for non-speaking parts. In order for the show to work we highly encourage guests to participate— it’s easy and fun! Arrive early if you want to play a part! \nGuests 21 and older can enjoy complimentary beer or wine at the Trolley Cottage Tiki Bar\, and browse through our Trolley Cottage Gift Shop full of fun circus-themed merchandise and other treasures before boarding. \nPlease BOOK IN ADVANCE as this tour sells out every week and has limited seats! \nALL guests must be 12+. \nDetails
URL:https://getawaytomurder.com/event/sarasota-fl-11-29-25-to-1-30-27-choose-your-dates-murder-mystery-trolley-who-killed-the-circus-queen/2026-04-25/
LOCATION:DISCOVER SARASOTA TOURS\, 1826 4th St\, Sarasota\, FL\, 34236\, United States
CATEGORIES:Dinner Theater,Food & Drink,Murder Mystery Dinner,Murder Mystery Dinner Trolley,Murder Mystery Trolley
ATTACH;FMTTYPE=image/jpeg:https://getawaytomurder.com/wp-content/uploads/2025/11/nov-2022-murder-group-young-Copy.jpg
GEO:27.339504;-82.5338239
X-APPLE-STRUCTURED-LOCATION;VALUE=URI;X-ADDRESS=DISCOVER SARASOTA TOURS 1826 4th St Sarasota FL 34236 United States;X-APPLE-RADIUS=500;X-TITLE=1826 4th St:geo:-82.5338239,27.339504
END:VEVENT
BEGIN:VEVENT
DTSTART;TZID=America/New_York:20260515T190000
DTEND;TZID=America/New_York:20260515T220000
DTSTAMP:20260421T125152
CREATED:20260317T175005Z
LAST-MODIFIED:20260317T175005Z
UID:10006210-1778871600-1778882400@getawaytomurder.com
SUMMARY:Boston - Wakefield\, MA - The Dinner Detective Murder Mystery Dinner
DESCRIPTION:North America’s largest interactive true crime murder mystery dinner show is now playing in Boston – Wakefield\, MA! Witness a hilarious mystery while you feast on a fantastic dinner. Just beware! The culprit is hiding in plain sight somewhere in the room\, and you may find yourself as a Prime Suspect before you know it! \nJoin us for a Boston – Wakefield\, MA true crime murder mystery experience that is very different from a traditional murder mystery dinner show. Our actors are not dressed in costume and are hidden in the audience! This results in a fun\, social and interactive evening suitable for all adults. \nEach ticket includes our signature award-winning murder mystery dinner show\, along with a full plated dinner\, waitstaff gratuity\, and plenty of surprises during the show. \nHosting a group party or private event in Boston – Wakefield\, MA? We specialize in custom private events for companies\, groups\, and organizations of almost every size! We can host your event onsite at our public show location\, or we can bring a show to your home\, business\, or venue. \n\nOur Menu\n\n\n\nAppetizers (Chef’s Choice)\nGarden Salad With Dressings On The Side\nChoice Of Entree:\n\nCHICKEN:  Chicken Marsala With Angel Hair Pasta\n\nServed With Grilled Seasonal Vegetables With Olive Oil And Balsamic Reduction\n\n\nPORK:  Roast Tenderloin Of Pork In Gravy\n\nServed With Butter Baby Carrots With Fresh Dill And Garlic Whipped Potatoes With Caramelized Onions\n\n\nVEGETARIAN:  Vegetable Lasagna\n\nServed With A Medley Of Seasonal Vegetables\n\n\n\n\nDessert (Chef’s Choice)
URL:https://getawaytomurder.com/event/boston-wakefield-ma-the-dinner-detective-murder-mystery-dinner/2026-05-15/
LOCATION:LAKESIDE INN – DINNER DETECTIVE BOSTON\, 595 North Avenue\, Wakefield\, MA\, 01880\, United States
CATEGORIES:Dinner Detective,Dinner Theater,Food & Drink,Murder Mystery Dinner
GEO:42.5153062;-71.0847902
X-APPLE-STRUCTURED-LOCATION;VALUE=URI;X-ADDRESS=LAKESIDE INN – DINNER DETECTIVE BOSTON 595 North Avenue Wakefield MA 01880 United States;X-APPLE-RADIUS=500;X-TITLE=595 North Avenue:geo:-71.0847902,42.5153062
END:VEVENT
BEGIN:VEVENT
DTSTART;TZID=America/New_York:20260515T193000
DTEND;TZID=America/New_York:20260515T223000
DTSTAMP:20260421T125152
CREATED:20260228T004334Z
LAST-MODIFIED:20260228T004334Z
UID:10004696-1778873400-1778884200@getawaytomurder.com
SUMMARY:Nottingham\, UK - Murder Mystery Dinner Nottingham
DESCRIPTION:Murder Mystery Dinner or Weekend Nottingham\n\n\nAttention all amateur detectives and lovers of intrigue! Step into a world of secrets\, suspense\, and laughter with our year-round Murder Mystery Dinners and Weekends in Nottingham. Set in the heart of this historic city\, each event blends a gripping whodunnit with a delicious dinner for an unforgettable night out—or a full weekend escape. \nWhether you’re planning a romantic evening\, a group celebration\, or a unique gift experience\, our Nottingham murder mystery dinners deliver immersive storytelling\, sharp humour\, and twists you won’t see coming. \nAn Immersive Murder Mystery Dinner in Nottingham\nEver fancied yourself as the next Sherlock Holmes or Hercule Poirot? This is your moment. Hosted at the popular Holiday Inn Nottingham\, our interactive murder mystery evenings are performed by professional actors who weave the plot around your table. \nFrom the first clue to the final reveal\, you’ll interrogate suspects\, piece together evidence\, and debate motives as the mystery unfolds around you. Expect red herrings\, shocking revelations\, and plenty of laughs along the way. \nFancy dress is highly recommended\, so feel free to dress to impress and fully immerse yourself in the mystery. \nNottingham Murder Mystery Evening or Weekend?\nWhy stop at one night? Turn your murder mystery dinner into a Nottingham murder mystery weekend by adding an overnight stay. Wake up to a hearty breakfast after the drama of the night before\, and make the most of the hotel’s leisure facilities. \nWith extra time in the city\, you can explore local highlights such as Nottingham Castle\, soak up the legends of Robin Hood\, or enjoy Nottingham’s vibrant bars and shopping. It’s the perfect blend of entertainment\, relaxation\, and city exploration. \nWhy Choose Our Murder Mystery Dinners in Nottingham?\n\nEvents available throughout the year\nProfessional actors and original storylines\nIdeal for couples\, groups\, birthdays\, and gifts\nOption to upgrade to a full murder mystery weekend in Nottingham\n\nBook now and experience one of the most entertaining murder mystery dinners Nottingham has to offer—where great food\, brilliant performances\, and a deadly puzzle come together for a night (or weekend) you won’t forget.
URL:https://getawaytomurder.com/event/nottingham-uk-murder-mystery-dinner-nottingham/2026-05-15/
LOCATION:HOLIDAY INN NOTTINGHAM\, 12 CASTLE BRIDGE ROAD\, Nottingham\, NG7 1GX\, United Kingdom
CATEGORIES:Dinner Theater,Food & Drink,Murder Mystery Dinner
GEO:52.9450829;-1.1643988
X-APPLE-STRUCTURED-LOCATION;VALUE=URI;X-ADDRESS=HOLIDAY INN NOTTINGHAM 12 CASTLE BRIDGE ROAD Nottingham NG7 1GX United Kingdom;X-APPLE-RADIUS=500;X-TITLE=12 CASTLE BRIDGE ROAD:geo:-1.1643988,52.9450829
END:VEVENT
END:VCALENDAR