BEGIN:VCALENDAR
VERSION:2.0
PRODID:-//Getaway to Murder - ECPv6.15.20//NONSGML v1.0//EN
CALSCALE:GREGORIAN
METHOD:PUBLISH
X-ORIGINAL-URL:https://getawaytomurder.com
X-WR-CALDESC:Events for Getaway to Murder
REFRESH-INTERVAL;VALUE=DURATION:PT1H
X-Robots-Tag:noindex
X-PUBLISHED-TTL:PT1H
BEGIN:VTIMEZONE
TZID:America/New_York
BEGIN:DAYLIGHT
TZOFFSETFROM:-0500
TZOFFSETTO:-0400
TZNAME:EDT
DTSTART:20250309T070000
END:DAYLIGHT
BEGIN:STANDARD
TZOFFSETFROM:-0400
TZOFFSETTO:-0500
TZNAME:EST
DTSTART:20251102T060000
END:STANDARD
BEGIN:DAYLIGHT
TZOFFSETFROM:-0500
TZOFFSETTO:-0400
TZNAME:EDT
DTSTART:20260308T070000
END:DAYLIGHT
BEGIN:STANDARD
TZOFFSETFROM:-0400
TZOFFSETTO:-0500
TZNAME:EST
DTSTART:20261101T060000
END:STANDARD
BEGIN:DAYLIGHT
TZOFFSETFROM:-0500
TZOFFSETTO:-0400
TZNAME:EDT
DTSTART:20270314T070000
END:DAYLIGHT
BEGIN:STANDARD
TZOFFSETFROM:-0400
TZOFFSETTO:-0500
TZNAME:EST
DTSTART:20271107T060000
END:STANDARD
END:VTIMEZONE
BEGIN:VEVENT
DTSTART;TZID=America/New_York:20260418T180000
DTEND;TZID=America/New_York:20260418T210000
DTSTAMP:20260421T141022
CREATED:20260319T175637Z
LAST-MODIFIED:20260319T175637Z
UID:10006279-1776535200-1776546000@getawaytomurder.com
SUMMARY:Pittsburgh\, PA - The Dinner Detective Murder Mystery Dinner
DESCRIPTION:North America’s largest interactive true crime murder mystery dinner show is now playing in Pittsburgh\, PA! Witness a hilarious mystery while you feast on a fantastic dinner. Just beware! The culprit is hiding in plain sight somewhere in the room\, and you may find yourself as a Prime Suspect before you know it! \nJoin us for a Pittsburgh\, PA true crime murder mystery experience that is very different from a traditional murder mystery dinner show. Our actors are not dressed in costume and are hidden in the audience! This results in a fun\, social and interactive evening suitable for all adults. \nEach ticket includes our signature award-winning murder mystery dinner show\, along with a full plated dinner\, waitstaff gratuity\, and plenty of surprises during the show. \nHosting a group party or private event in Pittsburgh\, PA? We specialize in custom private events for companies\, groups\, and organizations of almost every size! We can host your event onsite at our public show location\, or we can bring a show to your home\, business\, or venue. \n\nOur Menus\n\n\n\nVegetable Spring Rolls\nMixed Green Salad\nChoice Of Entree:\n\nBEEF: Flat Iron Steak With Bordelaise Sauce\n\nW/ Parmesan Roasted Potatoes And Broccoli Polonaise\n\n\nFISH:  Grilled Salmon With Lemon Caper Sauce\n\nW/ Parmesan Roasted Potatoes And Broccoli Polonaise\n\n\nVEGETARIAN: Chef’s Choice Vegetarian Pasta\n\n\nBrownie Plate
URL:https://getawaytomurder.com/event/pittsburgh-pa-the-dinner-detective-murder-mystery-dinner/2026-04-18/
LOCATION:CAMBRIA PITTSBURGH DOWNTOWN – DINNER DETECTIVE PITTSBURGH\, 1320 Centre Ave\, Pittsburgh\, PA\, 15219\, United States
CATEGORIES:Dinner Detective,Dinner Theater,Food & Drink,Murder Mystery Dinner,Murder Mystery Event
GEO:40.4401849;-79.9878657
X-APPLE-STRUCTURED-LOCATION;VALUE=URI;X-ADDRESS=CAMBRIA PITTSBURGH DOWNTOWN – DINNER DETECTIVE PITTSBURGH 1320 Centre Ave Pittsburgh PA 15219 United States;X-APPLE-RADIUS=500;X-TITLE=1320 Centre Ave:geo:-79.9878657,40.4401849
END:VEVENT
BEGIN:VEVENT
DTSTART;TZID=America/New_York:20260418T180000
DTEND;TZID=America/New_York:20260418T210000
DTSTAMP:20260421T141022
CREATED:20260322T033744Z
LAST-MODIFIED:20260322T033744Z
UID:10006289-1776535200-1776546000@getawaytomurder.com
SUMMARY:Ocala\, FL - The Dinner Detective Murder Mystery Dinner
DESCRIPTION:North America’s largest interactive true crime murder mystery dinner show is now playing in Ocala\, FL! Witness a hilarious mystery while you feast on a fantastic dinner. Just beware! The culprit is hiding in plain sight somewhere in the room\, and you may find yourself as a Prime Suspect before you know it! \nJoin us for a Ocala\, FL true crime murder mystery experience that is very different from a traditional murder mystery dinner show. Our actors are not dressed in costume and are hidden in the audience! This results in a fun\, social and interactive evening suitable for all adults. \nEach ticket includes our signature award-winning murder mystery dinner show\, along with a full plated dinner\, waitstaff gratuity\, and plenty of surprises during the show. \nHosting a group party or private event in Ocala\, FL? We specialize in custom private events for companies\, groups\, and organizations of almost every size! We can host your event onsite at our public show location\, or we can bring a show to your home\, business\, or venue. \n\nOur Menu\n\n\n\nChef’s Handcrafted Appetizer (Seasonal)\nCrisp Wedge Salad Drizzled With Balsamic Vinaigrette\nBuffet Selections:\n\nCHICKEN:  Tuscan-Style Roasted Chicken\n\nTender\, Herb-Infused\, Oven-Roasted Perfection\n\n\nPORK:  Brown Sugar & Dijon Glazed Pork Loin\n\nSlow-Roasted With A Sweet-Savory Finish\n\n\nVEGETARIAN:  Creamy Pesto Pasta\n\nRich And Flavorful (With Lemon Garlic Vegan Non-Dairy Option Available)\n\n\nSeasonal Vegetable Medley Sautéed In A Light Butter Sauce\n\n\nSignature Dessert (Seasonal)\nIced Tea & Water\nFreshly Brewed Coffee Available Upon Request
URL:https://getawaytomurder.com/event/ocala-fl-the-dinner-detective-murder-mystery-dinner/2026-04-18/
LOCATION:OCALA GOLF CLUB – DINNER DETECTIVE OCALA\, 3130 E Silver Springs Blvd\, Ocala\, FL\, 34470\, United States
CATEGORIES:Dinner Detective,Dinner Theater,Food & Drink,Murder Mystery Dinner,Murder Mystery Event
GEO:29.1924679;-82.0927781
X-APPLE-STRUCTURED-LOCATION;VALUE=URI;X-ADDRESS=OCALA GOLF CLUB – DINNER DETECTIVE OCALA 3130 E Silver Springs Blvd Ocala FL 34470 United States;X-APPLE-RADIUS=500;X-TITLE=3130 E Silver Springs Blvd:geo:-82.0927781,29.1924679
END:VEVENT
END:VCALENDAR