BEGIN:VCALENDAR
VERSION:2.0
PRODID:-//Getaway to Murder - ECPv6.15.20//NONSGML v1.0//EN
CALSCALE:GREGORIAN
METHOD:PUBLISH
X-WR-CALNAME:Getaway to Murder
X-ORIGINAL-URL:https://getawaytomurder.com
X-WR-CALDESC:Events for Getaway to Murder
REFRESH-INTERVAL;VALUE=DURATION:PT1H
X-Robots-Tag:noindex
X-PUBLISHED-TTL:PT1H
BEGIN:VTIMEZONE
TZID:America/New_York
BEGIN:DAYLIGHT
TZOFFSETFROM:-0500
TZOFFSETTO:-0400
TZNAME:EDT
DTSTART:20250309T070000
END:DAYLIGHT
BEGIN:STANDARD
TZOFFSETFROM:-0400
TZOFFSETTO:-0500
TZNAME:EST
DTSTART:20251102T060000
END:STANDARD
BEGIN:DAYLIGHT
TZOFFSETFROM:-0500
TZOFFSETTO:-0400
TZNAME:EDT
DTSTART:20260308T070000
END:DAYLIGHT
BEGIN:STANDARD
TZOFFSETFROM:-0400
TZOFFSETTO:-0500
TZNAME:EST
DTSTART:20261101T060000
END:STANDARD
BEGIN:DAYLIGHT
TZOFFSETFROM:-0500
TZOFFSETTO:-0400
TZNAME:EDT
DTSTART:20270314T070000
END:DAYLIGHT
BEGIN:STANDARD
TZOFFSETFROM:-0400
TZOFFSETTO:-0500
TZNAME:EST
DTSTART:20271107T060000
END:STANDARD
END:VTIMEZONE
BEGIN:VEVENT
DTSTART;TZID=America/New_York:20260528T180000
DTEND;TZID=America/New_York:20260528T210000
DTSTAMP:20260421T185105
CREATED:20260322T035401Z
LAST-MODIFIED:20260322T035401Z
UID:10006294-1779991200-1780002000@getawaytomurder.com
SUMMARY:Sebastian\, FL - I love the 80's to Death - A Murder Mystery Dinner at Capt Hirams Resort
DESCRIPTION:I love the 80’s to Death – A Murder Mystery Dinner at Capt Hirams Resort\n\n\n\n\n\nGet ready to crack the case over dinner at Capt Hirams Resort’s thrilling murder mystery party! \n\n\n\n\n🎸🔎 Murder Mystery Dinner: I Love the 80’s to Death! 🔎🎸 \nBreak out the neon\, tease up that hair\, and get ready for a rockin’ radical night of mystery! Join us on Thursday\, May 28th at 6:00 PM for an unforgettable 80’s-themed Murder Mystery Dinner where the stage is set for a Battle of the Bands… and a murder to solve. 🕵️‍♂️ \n🎤Your ticket includes:\nWelcome Drink\nThree-Course Dinner\nLive Interactive Mystery with 4 Professional Actors\nEnhanced Sound for an immersive experience \n$65 per person \nPresented in partnership with Murder Mystery Co.\, this interactive show puts you right in the middle of the story. Dress in your best 80’s rock style and get ready for a totally tubular night of suspense\, laughs\, and live entertainment. \nSeats are limited. Grab your tickets and help solve the crime! \n\n\n\n\n\n\n\n\n\n\n\nRefund Policy \nRefunds up to 7 days before event
URL:https://getawaytomurder.com/event/sebastian-fl-i-love-the-80s-to-death-a-murder-mystery-dinner-at-capt-hirams-resort/
LOCATION:BLACKFINS at CAPT HIRAM’S RESORT\, 1606 Indian River Drive\, Sebastian\, FL\, 32958\, United States
CATEGORIES:Dinner Theater,Food & Drink,Murder Mystery Dinner,Murder Mystery Event
GEO:27.8236624;-80.4715589
X-APPLE-STRUCTURED-LOCATION;VALUE=URI;X-ADDRESS=BLACKFINS at CAPT HIRAM’S RESORT 1606 Indian River Drive Sebastian FL 32958 United States;X-APPLE-RADIUS=500;X-TITLE=1606 Indian River Drive:geo:-80.4715589,27.8236624
END:VEVENT
BEGIN:VEVENT
DTSTART;TZID=America/New_York:20260530T180000
DTEND;TZID=America/New_York:20260530T210000
DTSTAMP:20260421T185105
CREATED:20260319T175100Z
LAST-MODIFIED:20260319T175718Z
UID:10006277-1780164000-1780174800@getawaytomurder.com
SUMMARY:Washington\, DC - The Dinner Detective Murder Mystery Dinner
DESCRIPTION:North America’s largest interactive true crime murder mystery dinner show is now playing in Washington\, DC! Witness a hilarious mystery while you feast on a fantastic dinner. Just beware! The culprit is hiding in plain sight somewhere in the room\, and you may find yourself as a Prime Suspect before you know it! \nJoin us for a Washington\, DC true crime murder mystery experience that is very different from a traditional murder mystery dinner show. Our actors are not dressed in costume and are hidden in the audience! This results in a fun\, social and interactive evening suitable for all adults. \nEach ticket includes our signature award-winning murder mystery dinner show\, along with a full plated dinner\, waitstaff gratuity\, and plenty of surprises during the show. \nHosting a group party or private event in Washington\, DC? We specialize in custom private events for companies\, groups\, and organizations of almost every size! We can host your event onsite at our public show location\, or we can bring a show to your home\, business\, or venue. \n\nOur Menu\n\n\n\nChef’s Choice Appetizer\nGarden Salad\nChoice Of Entree:\n\nCHICKEN: Citrus & Sage Chicken Pan-Seared Chicken Breast Topped With House-Made Citrus And Sage Sauce\, \nFISH: Blackened Salmon Blackened Salmon With Lemon Beurre Blanc Sauce\nVEGETARIAN: Ratatouille Pasta \nSeasoned Cavatappi Pasta Tossed With Eggplant\, Zucchini\, Cherry Tomatoes\, Peppers\, Garlic\, Capers\n\n\n\nChef’s Choice Dessert
URL:https://getawaytomurder.com/event/washington-dc-the-dinner-detective-murder-mystery-dinner/2026-05-30/
LOCATION:SHERATON SUITES OLD TOWN ALEXANDRIA\, 801 N St Asaph St\, Alexandria\, VA\, 22314\, United States
CATEGORIES:Dinner Detective,Dinner Theater,Food & Drink,Murder Mystery Dinner,Murder Mystery Event
GEO:38.8130819;-77.0435108
X-APPLE-STRUCTURED-LOCATION;VALUE=URI;X-ADDRESS=SHERATON SUITES OLD TOWN ALEXANDRIA 801 N St Asaph St Alexandria VA 22314 United States;X-APPLE-RADIUS=500;X-TITLE=801 N St Asaph St:geo:-77.0435108,38.8130819
END:VEVENT
END:VCALENDAR