BEGIN:VCALENDAR
VERSION:2.0
PRODID:-//Getaway to Murder - ECPv6.15.20//NONSGML v1.0//EN
CALSCALE:GREGORIAN
METHOD:PUBLISH
X-ORIGINAL-URL:https://getawaytomurder.com
X-WR-CALDESC:Events for Getaway to Murder
REFRESH-INTERVAL;VALUE=DURATION:PT1H
X-Robots-Tag:noindex
X-PUBLISHED-TTL:PT1H
BEGIN:VTIMEZONE
TZID:Europe/London
BEGIN:DAYLIGHT
TZOFFSETFROM:+0000
TZOFFSETTO:+0100
TZNAME:BST
DTSTART:20250330T010000
END:DAYLIGHT
BEGIN:STANDARD
TZOFFSETFROM:+0100
TZOFFSETTO:+0000
TZNAME:GMT
DTSTART:20251026T010000
END:STANDARD
BEGIN:DAYLIGHT
TZOFFSETFROM:+0000
TZOFFSETTO:+0100
TZNAME:BST
DTSTART:20260329T010000
END:DAYLIGHT
BEGIN:STANDARD
TZOFFSETFROM:+0100
TZOFFSETTO:+0000
TZNAME:GMT
DTSTART:20261025T010000
END:STANDARD
BEGIN:DAYLIGHT
TZOFFSETFROM:+0000
TZOFFSETTO:+0100
TZNAME:BST
DTSTART:20270328T010000
END:DAYLIGHT
BEGIN:STANDARD
TZOFFSETFROM:+0100
TZOFFSETTO:+0000
TZNAME:GMT
DTSTART:20271031T010000
END:STANDARD
END:VTIMEZONE
BEGIN:VTIMEZONE
TZID:America/New_York
BEGIN:DAYLIGHT
TZOFFSETFROM:-0500
TZOFFSETTO:-0400
TZNAME:EDT
DTSTART:20250309T070000
END:DAYLIGHT
BEGIN:STANDARD
TZOFFSETFROM:-0400
TZOFFSETTO:-0500
TZNAME:EST
DTSTART:20251102T060000
END:STANDARD
BEGIN:DAYLIGHT
TZOFFSETFROM:-0500
TZOFFSETTO:-0400
TZNAME:EDT
DTSTART:20260308T070000
END:DAYLIGHT
BEGIN:STANDARD
TZOFFSETFROM:-0400
TZOFFSETTO:-0500
TZNAME:EST
DTSTART:20261101T060000
END:STANDARD
BEGIN:DAYLIGHT
TZOFFSETFROM:-0500
TZOFFSETTO:-0400
TZNAME:EDT
DTSTART:20270314T070000
END:DAYLIGHT
BEGIN:STANDARD
TZOFFSETFROM:-0400
TZOFFSETTO:-0500
TZNAME:EST
DTSTART:20271107T060000
END:STANDARD
END:VTIMEZONE
BEGIN:VEVENT
DTSTART;TZID=Europe/London:20260424T110000
DTEND;TZID=Europe/London:20260424T163000
DTSTAMP:20260421T064728
CREATED:20260312T205225Z
LAST-MODIFIED:20260312T205225Z
UID:10005599-1777028400-1777048200@getawaytomurder.com
SUMMARY:London\, UK - Murder Mystery Lunch on a Train
DESCRIPTION:Murder Mystery Lunch\nThere has been a murder on a luxury train; can you solve the intricate plot before it’s too late? During the non-stop\, completely revamped murder mystery train tour in the British Pullman carriages of the Venice Simplon-Orient-Express\, you’ll enjoy a five-course meal with champagne and a half bottle of wine. There are no opportunities to disembark – so solve the mystery fast! For subscribers to The Times\, this article sets the scene beautifully as does this Robb Report article. \nApproximate Times: depart London Victoria 11:15hrs\, arrive back 16:10hrs. \nDates and Prices \n2026: March 6\,20. April 9\,18\,24. May 7\,22. June 11. July 24. August 6\,21. September 25. October 8\,23 \nFrom £500 per person \nContact us for latest price and offers
URL:https://getawaytomurder.com/event/london-uk-murder-mystery-lunch-on-a-train/2026-04-24/
LOCATION:LONDON VICTORIA STATION\, Victoria Street\, London\, Greater London\, SW1E 5ND\, United Kingdom
CATEGORIES:Dinner Theater,Food & Drink,Murder Mystery Dinner,Murder Mystery Dinner Train,Murder Mystery Train
GEO:51.4966681;-0.1438663
X-APPLE-STRUCTURED-LOCATION;VALUE=URI;X-ADDRESS=LONDON VICTORIA STATION Victoria Street London Greater London SW1E 5ND United Kingdom;X-APPLE-RADIUS=500;X-TITLE=Victoria Street:geo:-0.1438663,51.4966681
END:VEVENT
BEGIN:VEVENT
DTSTART;TZID=America/New_York:20260424T180000
DTEND;TZID=America/New_York:20260424T203000
DTSTAMP:20260421T064728
CREATED:20260311T190653Z
LAST-MODIFIED:20260311T190653Z
UID:10005394-1777053600-1777062600@getawaytomurder.com
SUMMARY:Bardstown\, KY - Bardstown Murder Mystery Train!
DESCRIPTION:Solve the Case on the Bardstown Murder Mystery Train!\nIncludes\n\n2.5 hour\, 32-mile roundtrip excursion\nGourmet\, four-course dinner prepared fresh onboard by our dedicated culinary team\nAll non-alcoholic beverages\, including after dinner coffee and tea\n\nExcursion Information\nWe invite you to join us on board for a memorable journey that’s sure to keep you guessing! While riding through Kentucky’s scenic countryside\, you get to enjoy a gourmet four-course meal and a live murder mystery show! Our elegant train cars are the perfect setting to immerse yourself in the intrigue as you participate in the murder mystery. Enjoy a different kind of evening when you join our mystery train ride with friends or family! It’s a dinner you won’t forget. \nDinner Menu (Seasonally Rotated) →\nAdditional Information\n\nCheck-in begins one hour prior to excursion time\nExcursions depart promptly at time listed\nExcursions depart from and return to the depot in Bardstown\, KY\nThe four course dinner is served throughout the evening
URL:https://getawaytomurder.com/event/bardstown-ky-bardstown-murder-mystery-train/2026-04-24/
LOCATION:MY OLD KENTUCKY DINNER TRAIN\, 602 North 3rd Street\, Bardstown\, KY\, 40004\, United States
CATEGORIES:Dinner Theater,Food & Drink,Murder Mystery Dinner,Murder Mystery Dinner Train,Murder Mystery Train
GEO:37.8173838;-85.464629
X-APPLE-STRUCTURED-LOCATION;VALUE=URI;X-ADDRESS=MY OLD KENTUCKY DINNER TRAIN 602 North 3rd Street Bardstown KY 40004 United States;X-APPLE-RADIUS=500;X-TITLE=602 North 3rd Street:geo:-85.464629,37.8173838
END:VEVENT
END:VCALENDAR