BEGIN:VCALENDAR
VERSION:2.0
PRODID:-//Getaway to Murder - ECPv6.15.20//NONSGML v1.0//EN
CALSCALE:GREGORIAN
METHOD:PUBLISH
X-WR-CALNAME:Getaway to Murder
X-ORIGINAL-URL:https://getawaytomurder.com
X-WR-CALDESC:Events for Getaway to Murder
REFRESH-INTERVAL;VALUE=DURATION:PT1H
X-Robots-Tag:noindex
X-PUBLISHED-TTL:PT1H
BEGIN:VTIMEZONE
TZID:America/New_York
BEGIN:DAYLIGHT
TZOFFSETFROM:-0500
TZOFFSETTO:-0400
TZNAME:EDT
DTSTART:20250309T070000
END:DAYLIGHT
BEGIN:STANDARD
TZOFFSETFROM:-0400
TZOFFSETTO:-0500
TZNAME:EST
DTSTART:20251102T060000
END:STANDARD
BEGIN:DAYLIGHT
TZOFFSETFROM:-0500
TZOFFSETTO:-0400
TZNAME:EDT
DTSTART:20260308T070000
END:DAYLIGHT
BEGIN:STANDARD
TZOFFSETFROM:-0400
TZOFFSETTO:-0500
TZNAME:EST
DTSTART:20261101T060000
END:STANDARD
BEGIN:DAYLIGHT
TZOFFSETFROM:-0500
TZOFFSETTO:-0400
TZNAME:EDT
DTSTART:20270314T070000
END:DAYLIGHT
BEGIN:STANDARD
TZOFFSETFROM:-0400
TZOFFSETTO:-0500
TZNAME:EST
DTSTART:20271107T060000
END:STANDARD
BEGIN:DAYLIGHT
TZOFFSETFROM:-0500
TZOFFSETTO:-0400
TZNAME:EDT
DTSTART:20280312T070000
END:DAYLIGHT
BEGIN:STANDARD
TZOFFSETFROM:-0400
TZOFFSETTO:-0500
TZNAME:EST
DTSTART:20281105T060000
END:STANDARD
END:VTIMEZONE
BEGIN:VTIMEZONE
TZID:Europe/London
BEGIN:DAYLIGHT
TZOFFSETFROM:+0000
TZOFFSETTO:+0100
TZNAME:BST
DTSTART:20260329T010000
END:DAYLIGHT
BEGIN:STANDARD
TZOFFSETFROM:+0100
TZOFFSETTO:+0000
TZNAME:GMT
DTSTART:20261025T010000
END:STANDARD
BEGIN:DAYLIGHT
TZOFFSETFROM:+0000
TZOFFSETTO:+0100
TZNAME:BST
DTSTART:20270328T010000
END:DAYLIGHT
BEGIN:STANDARD
TZOFFSETFROM:+0100
TZOFFSETTO:+0000
TZNAME:GMT
DTSTART:20271031T010000
END:STANDARD
BEGIN:DAYLIGHT
TZOFFSETFROM:+0000
TZOFFSETTO:+0100
TZNAME:BST
DTSTART:20280326T010000
END:DAYLIGHT
BEGIN:STANDARD
TZOFFSETFROM:+0100
TZOFFSETTO:+0000
TZNAME:GMT
DTSTART:20281029T010000
END:STANDARD
END:VTIMEZONE
BEGIN:VEVENT
DTSTART;TZID=America/New_York:20260516T193000
DTEND;TZID=America/New_York:20270516T223000
DTSTAMP:20260420T201024
CREATED:20251126T171241Z
LAST-MODIFIED:20260319T192422Z
UID:10000500-1778959800-1810506600@getawaytomurder.com
SUMMARY:Sarasota\, FL | Murder Mystery Trolley: Who Killed The Circus Queen
DESCRIPTION:Hop on board our Murder Mystery Trolley to solve the Circus Queen’s murder in a fun and interactive theatrical performance.\nThis 90-minute fantasy murder-solving tour visits many circus locations in Sarasota on a rolling adventure\, where colorful characters jump aboard to add clues and hilarity for the guests. Circus-themed costumes encouraged\, so come dressed to kill! \nUpon booking\, guests can choose to be cast in a role and receive their costume pieces\, props and scripts upon arrival at the Trolley Cottage. There is no acting. You are only reading lines in a script for speaking parts or wearing a prop for non-speaking parts. In order for the show to work we highly encourage guests to participate— it’s easy and fun! Arrive early if you want to play a part! \nGuests 21 and older can enjoy complimentary beer or wine at the Trolley Cottage Tiki Bar\, and browse through our Trolley Cottage Gift Shop full of fun circus-themed merchandise and other treasures before boarding. \nPlease BOOK IN ADVANCE as this tour sells out every week and has limited seats! \nALL guests must be 12+. \nDetails
URL:https://getawaytomurder.com/event/sarasota-fl-11-29-25-to-1-30-27-choose-your-dates-murder-mystery-trolley-who-killed-the-circus-queen/2026-05-16/
LOCATION:DISCOVER SARASOTA TOURS\, 1826 4th St\, Sarasota\, FL\, 34236\, United States
CATEGORIES:Dinner Theater,Food & Drink,Murder Mystery Dinner,Murder Mystery Dinner Trolley,Murder Mystery Trolley
ATTACH;FMTTYPE=image/jpeg:https://getawaytomurder.com/wp-content/uploads/2025/11/nov-2022-murder-group-young-Copy.jpg
GEO:27.339504;-82.5338239
X-APPLE-STRUCTURED-LOCATION;VALUE=URI;X-ADDRESS=DISCOVER SARASOTA TOURS 1826 4th St Sarasota FL 34236 United States;X-APPLE-RADIUS=500;X-TITLE=1826 4th St:geo:-82.5338239,27.339504
END:VEVENT
BEGIN:VEVENT
DTSTART;TZID=America/New_York:20270515T000000
DTEND;TZID=America/New_York:20270515T235959
DTSTAMP:20260420T201024
CREATED:20260311T164029Z
LAST-MODIFIED:20260311T164221Z
UID:10005222-1810339200-1810425599@getawaytomurder.com
SUMMARY:Fort Myers - Murder Mystery Dinner Train
DESCRIPTION:Wed\, Thu\, Fri\, Sun – All tickets $129*\nSat – All tickets $135* \n*Ticket price does not include taxes or gratuities. Coffee\, Tea\, Iced Tea included. Soft drinks and alcoholic drinks may be purchased on board the train with cash or credit. \nNeed to make reservations over the phone\, want to purchase a gift certificate\, make a group reservation\, or have general questions about your upcoming unique dining experience with a five-course dinner and murder mystery show?  Give us a call at (239) 275-8487. \nBelow\, you will find the address to our passenger depot\, the Colonial Station\, in Fort Myers\, FL\, phone numbers\, hours of operation\, and directions from the major roads.  We’re just a short drive away from many cities around southern Florida\, including Tampa\, St. Petersburg\, Lakeland\, Plant City\, Kissimmee\, Sarasota\, Port Charlotte\, Punta Gorda\, Cape Coral\, Bonita Springs\, Naples\, Marco Island\, West Palm Beach\, Boca Raton\, Fort Lauderdale\, Miami and Homestead. Visit our location page for detailed directions to our location at Colonial Station. See our upcoming special events. \nColonial Station\n2805 Colonial Blvd\nFort Myers\, FL 33966\n(239) 275-8487
URL:https://getawaytomurder.com/event/fort-myers-something-murderous-this-way-comes/2027-05-15/
LOCATION:SEM GULF – COLONIAL STATION\, 2805 Colonial Blvd\, Fort Myers\, FL\, 33966\, United States
CATEGORIES:Dinner Theater,Food & Drink,Murder Mystery Dinner,Murder Mystery Dinner Train,Murder Mystery Train
GEO:26.5996644;-81.8551876
X-APPLE-STRUCTURED-LOCATION;VALUE=URI;X-ADDRESS=SEM GULF – COLONIAL STATION 2805 Colonial Blvd Fort Myers FL 33966 United States;X-APPLE-RADIUS=500;X-TITLE=2805 Colonial Blvd:geo:-81.8551876,26.5996644
END:VEVENT
BEGIN:VEVENT
DTSTART;TZID=Europe/London:20270515T000000
DTEND;TZID=Europe/London:20270515T235959
DTSTAMP:20260420T201024
CREATED:20260313T025029Z
LAST-MODIFIED:20260313T025029Z
UID:10005865-1810339200-1810425599@getawaytomurder.com
SUMMARY:London\, UK - The Murdér Express: Part Deux\, The Jewel of the Empire
DESCRIPTION:THE MURDÉR EXPRESS PART DEUX – JEWEL OF THE EMPIRE\nPedley Street Station\, East London\, 1937 \nThe year is 1937\, the height of the British Empire\, and Britain’s most famous archeologist\, Dr. Errol Earhart\, has unearthed the world’s most valuable diamond\, the Jewel of the Empire\, which is being transported to the Von Cleethorpes estate via Pedley Street station’s\, Murdér Express. \nAlong for the journey are a host of new characters\, including the dashing Errol Earhart and the mysterious Saskia Selikhov as well as some familiar faces… \n…It’s not long before the diamond is missing\, bodies are beginning to pile up and the clock is ticking to catch a killer and recover the Jewel of the Empire. \nWe welcome you on board for an incredible murder mystery with a delicious 3 course menu… \n…But remember\, all is not as it seems and everybody is a suspect\, even you. \nAUTUMN/WINTER MENU\n\nThe lights are dim\, the whistle blows\, and your adventure aboard The Murdér Express begins. As the mystery unfolds around you\, a brand-new seasonal menu will be served\, created in partnership with award-winning restaurant Lunar\, based at the World of Wedgwood in Staffordshire. \nWith two AA Rosettes\, a place in the Michelin Guide\, and a reputation for bold flavours and exceptional quality\, Lunar has created a menu suited for first-class travel in 1937. \nSo\, settle into your seat\, raise a glass\, and enjoy every course as secrets are spilled\, alliances shift\, and the fate of the world’s most valuable diamond unfolds before your eyes. \nYou can see the full menu here.\nYou can see the kids menu here. \nAMUSE BOUCHE \nGougères \nSTARTER \nAsparagus Velouté \nMAIN COURSE \nBeef Bordelaise\, Mushrooms\, Baby Onions\, Orzo\, Pom Purée\, Red Wine Sauce \nDESSERT \nSticky Toﬀee Pudding\, Butterscotch Sauce\, Ice Cream \nPRACTICAL INFO\n\n\nDuration:\n2 hours\n\nLocation:\nPedley Steet Station\, Arch 63\, London\, E1 5BW\n\nAge requirement:\n5+ (5-14 year-olds are only allowed in shows until 8:00 p.m. Anyone under 18 must be accompanied by an adult).\n\nAccessibility:\nThe venue is wheelchair accessible. Please inform us in advance if access is required.\n\nDress code:\nThere is no formal dress code\, guests are very welcome to dress in 1930’s attire for their journey. To help you get into character\, we’ll also have a selection of themed accessories available to purchase on the day.\n\nContact:\nFor further enquiries\, please call +44 (0)20 7139 5063.
URL:https://getawaytomurder.com/event/london-uk-the-murder-express-part-deux-the-jewel-of-the-empire/2027-05-15/
LOCATION:PEDLEY STREET STATION\, Arch 63 Pedley Street\, London\, England\, E1 5BW\, United Kingdom
CATEGORIES:Dinner Theater,Food & Drink,Murder Mystery Dinner,Murder Mystery Dinner Train,Murder Mystery Train
GEO:51.5231715;-0.0652395
X-APPLE-STRUCTURED-LOCATION;VALUE=URI;X-ADDRESS=PEDLEY STREET STATION Arch 63 Pedley Street London England E1 5BW United Kingdom;X-APPLE-RADIUS=500;X-TITLE=Arch 63 Pedley Street:geo:-0.0652395,51.5231715
END:VEVENT
BEGIN:VEVENT
DTSTART;TZID=America/New_York:20270515T160000
DTEND;TZID=America/New_York:20270515T190000
DTSTAMP:20260420T201024
CREATED:20260311T214925Z
LAST-MODIFIED:20260311T214925Z
UID:10005555-1810396800-1810407600@getawaytomurder.com
SUMMARY:Staunton\, VA - Murder Mystery Dinner Train
DESCRIPTION:Come take a ride with the Virginia Scenic Railway and step back in time as you delve into an evening of mystery\, intrigue\, and murder. Set against a turn-of-the-century backdrop of decorum and suspicion\, this peaceful journey takes a dark turn when a VIP passenger meets an untimely end.\nWas it a tragic accident — or cold-blooded murder? You be the judge as you join us for an all-new\, one-of-a-kind murder mystery dinner theater experience aboard the Virginia Scenic Railway. \nGet ready for an evening filled with suspense\, hidden motives\, and unexpected twists. Be warned: not everyone is who they seem\, and trust is a dangerous game. \nThis experience will include: \n\n Three-hour immersive\, original murder mystery experience performed by professional actors.\nComplimentary beverage service\, entrée and dessert.\n Opportunity to purchase local wine and beer during the event.\n\nGet Your Ticket To Ride\n\nAboard the Virginia Scenic Railway\, you’ll get a front-row seat to some of Virginia’s prettiest views\, including the legendary Shenandoah Valley and the Blue Ridge Mountains. Depending on the excursion you choose\, you’ll roar through tunnels\, speed over bridges\, race past scenic fields and forests\, and climb over mountains.
URL:https://getawaytomurder.com/event/staunton-va-murder-mystery-dinner-train/2027-05-15/
LOCATION:VIRGINIA SCENIC RAILWAY\, 415 Bridge Street\, Staunton\, VA\, 24401\, United States
CATEGORIES:Dinner Theater,Food & Drink,Murder Mystery Dinner,Murder Mystery Dinner Train,Murder Mystery Train
GEO:38.1446273;-79.079325
X-APPLE-STRUCTURED-LOCATION;VALUE=URI;X-ADDRESS=VIRGINIA SCENIC RAILWAY 415 Bridge Street Staunton VA 24401 United States;X-APPLE-RADIUS=500;X-TITLE=415 Bridge Street:geo:-79.079325,38.1446273
END:VEVENT
END:VCALENDAR