BEGIN:VCALENDAR
VERSION:2.0
PRODID:-//Getaway to Murder - ECPv6.15.20//NONSGML v1.0//EN
CALSCALE:GREGORIAN
METHOD:PUBLISH
X-WR-CALNAME:Getaway to Murder
X-ORIGINAL-URL:https://getawaytomurder.com
X-WR-CALDESC:Events for Getaway to Murder
REFRESH-INTERVAL;VALUE=DURATION:PT1H
X-Robots-Tag:noindex
X-PUBLISHED-TTL:PT1H
BEGIN:VTIMEZONE
TZID:America/New_York
BEGIN:DAYLIGHT
TZOFFSETFROM:-0500
TZOFFSETTO:-0400
TZNAME:EDT
DTSTART:20250309T070000
END:DAYLIGHT
BEGIN:STANDARD
TZOFFSETFROM:-0400
TZOFFSETTO:-0500
TZNAME:EST
DTSTART:20251102T060000
END:STANDARD
BEGIN:DAYLIGHT
TZOFFSETFROM:-0500
TZOFFSETTO:-0400
TZNAME:EDT
DTSTART:20260308T070000
END:DAYLIGHT
BEGIN:STANDARD
TZOFFSETFROM:-0400
TZOFFSETTO:-0500
TZNAME:EST
DTSTART:20261101T060000
END:STANDARD
BEGIN:DAYLIGHT
TZOFFSETFROM:-0500
TZOFFSETTO:-0400
TZNAME:EDT
DTSTART:20270314T070000
END:DAYLIGHT
BEGIN:STANDARD
TZOFFSETFROM:-0400
TZOFFSETTO:-0500
TZNAME:EST
DTSTART:20271107T060000
END:STANDARD
END:VTIMEZONE
BEGIN:VEVENT
DTSTART;TZID=America/New_York:20260425T180000
DTEND;TZID=America/New_York:20260425T210000
DTSTAMP:20260421T040844
CREATED:20260204T020055Z
LAST-MODIFIED:20260204T020055Z
UID:10003402-1777140000-1777150800@getawaytomurder.com
SUMMARY:Myrtle Beach\, SC - The Dinner Detective Murder Mystery Dinner
DESCRIPTION:North America’s largest interactive true crime murder mystery dinner show is now playing in Myrtle Beach\, SC! Witness a hilarious mystery while you feast on a fantastic dinner. Just beware! The culprit is hiding in plain sight somewhere in the room\, and you may find yourself as a Prime Suspect before you know it! \nJoin us for a Myrtle Beach\, SC true crime murder mystery experience that is very different from a traditional murder mystery dinner show. Our actors are not dressed in costume and are hidden in the audience! This results in a fun\, social and interactive evening suitable for all adults. \nEach ticket includes our signature award-winning murder mystery dinner show\, along with a full plated dinner\, waitstaff gratuity\, and plenty of surprises during the show. \nHosting a group party or private event in Myrtle Beach\, SC? We specialize in custom private events for companies\, groups\, and organizations of almost every size! We can host your event onsite at our public show location\, or we can bring a show to your home\, business\, or venue. \n\nOur Menu\n\n\n\n🍅 Caprese Spoon\n\nA Vibrant Bite Of Diced Roma Tomato\, Fresh Mozzarella Pearls\, And Basil Chiffonade\, Finished With A Drizzle Of Sweet Balsamic Glaze.\n\n\n🥗 Garden House Salad\n\nA Crisp Medley Of Mixed Greens\, Grape Tomatoes\, Cucumber\, And Carrots\, Tossed With Our Signature Vinaigrette. Served With Warm\, Buttery Yeast Rolls Fresh From The Oven.\n\n\nEntrée Selections (Choose One)\n\nCHICKEN: 🍗 Roasted Chicken Thigh\n\nOven-Roasted To Perfection And Finished With A Rich\, Savory Demi-Glace.\n\n\nFISH: 🦐 Spiced Shrimp (6)\n\nSucculent Shrimp Sautéed In Zesty Spices And Topped With A Bright Lemon-Butter Sauce.\n\n\nVEGETARIAN: 🌱 Eggplant Napoleon\n\nGolden Layers Of Breaded Eggplant\, Melted Mozzarella\, And Zesty Marinara Baked Together Into A Rustic Italian Classic.\n\n\nAll Entrées Are Accompanied By Herbed Rice Pilaf And Tender Green Beans.\n\n\n🍓 Strawberry Shortcake\n\nFlaky\, Buttery Shortcake Layered With Sweet Fresh Strawberries And Billows Of Whipped Cream — A Timeless Favorite With A Touch Of Indulgence.\n\n\n💧 Iced Water\, ☕ Coffee\, And 🧊 Iced Tea Served Upon Request.
URL:https://getawaytomurder.com/event/myrtle-beach-sc-the-dinner-detective-murder-mystery-dinner/2026-04-25/
LOCATION:DOUBLETREE HILTON MYRTLE BEACH OCEANFRONT – DINNER DETECTIVE MYRTLE BEACH SC\, 3200 S Ocean Blvd\, Myrtle Beach\, SC 29577\, Myrtle Beach\, SC\, 29577\, United States
CATEGORIES:Dinner Detective,Dinner Theater,Food & Drink,Murder Mystery Dinner
GEO:33.6570112;-78.9198074
X-APPLE-STRUCTURED-LOCATION;VALUE=URI;X-ADDRESS=DOUBLETREE HILTON MYRTLE BEACH OCEANFRONT – DINNER DETECTIVE MYRTLE BEACH SC 3200 S Ocean Blvd Myrtle Beach SC 29577 Myrtle Beach SC 29577 United States;X-APPLE-RADIUS=500;X-TITLE=3200 S Ocean Blvd\, Myrtle Beach\, SC 29577:geo:-78.9198074,33.6570112
END:VEVENT
END:VCALENDAR