BEGIN:VCALENDAR
VERSION:2.0
PRODID:-//Getaway to Murder - ECPv6.15.20//NONSGML v1.0//EN
CALSCALE:GREGORIAN
METHOD:PUBLISH
X-WR-CALNAME:Getaway to Murder
X-ORIGINAL-URL:https://getawaytomurder.com
X-WR-CALDESC:Events for Getaway to Murder
REFRESH-INTERVAL;VALUE=DURATION:PT1H
X-Robots-Tag:noindex
X-PUBLISHED-TTL:PT1H
BEGIN:VTIMEZONE
TZID:America/New_York
BEGIN:DAYLIGHT
TZOFFSETFROM:-0500
TZOFFSETTO:-0400
TZNAME:EDT
DTSTART:20250309T070000
END:DAYLIGHT
BEGIN:STANDARD
TZOFFSETFROM:-0400
TZOFFSETTO:-0500
TZNAME:EST
DTSTART:20251102T060000
END:STANDARD
BEGIN:DAYLIGHT
TZOFFSETFROM:-0500
TZOFFSETTO:-0400
TZNAME:EDT
DTSTART:20260308T070000
END:DAYLIGHT
BEGIN:STANDARD
TZOFFSETFROM:-0400
TZOFFSETTO:-0500
TZNAME:EST
DTSTART:20261101T060000
END:STANDARD
BEGIN:DAYLIGHT
TZOFFSETFROM:-0500
TZOFFSETTO:-0400
TZNAME:EDT
DTSTART:20270314T070000
END:DAYLIGHT
BEGIN:STANDARD
TZOFFSETFROM:-0400
TZOFFSETTO:-0500
TZNAME:EST
DTSTART:20271107T060000
END:STANDARD
END:VTIMEZONE
BEGIN:VEVENT
DTSTART;TZID=America/New_York:20260424T193000
DTEND;TZID=America/New_York:20260424T223000
DTSTAMP:20260421T031528
CREATED:20260306T163804Z
LAST-MODIFIED:20260319T193819Z
UID:10004772-1777059000-1777069800@getawaytomurder.com
SUMMARY:Atlanta\, GA - Murder Mystery Dinner Theater Show at Hudson Grille in Midtown Atlanta
DESCRIPTION:Overview\n\n\n\n\n\nDate night turns deadly at a murder mystery dinner theater where no one is safe. Get your tickets before it’s too late.\n\n\n\nSee all Atlanta shows here! \nAtlanta – The Hudson Grille \nJoin us for the immersive mystery experience everyone is dying to attend! \nFriday Events: 7:00 PM arrival\, 7:30 PM show start time. \nSaturday Events: 6:30 PM arrival\, 7:00 PM show start time. \nRunning time: 2.5 hours-ish \nFor the best experience\, arrive on time! \nAbout: \nWhy watch a show when you can be part of one? This immersive murder mystery dinner theater experience is sure to be a KILLER time! Work with a team of fellow sleuths to unravel the secrets of the mystery\, where even YOU can be the perpetrator. Each clue leads you closer to the truth\, but it’s up to you and your team to put your skills to the test and solve the mystery before time is up! \nDuring the show\, you will… \n\nEnjoy a 3-course meal\nInvestigate clues with a team of detectives and suspects\nBecome a part of the story! We may select you to be a suspect in the crime\nMake KILLER memories!\n\n\nTheme Schedule:\n2026 \nJanuary – Modern Billionaire’s Masquerade Ball \nFebruary- Modern Wedding \nMarch -1920s Mafia Wedding \nApril -1990s Mall Opening \nMay – 1930s Old Hollywood \nJune – Modern Wedding \nMenu: \nIndulge in an irresistible selection of entrees: \nMenu Items \nFORENSIC FIESTA BOWL(V)rice\, beans\, onions\, corn salsa\, fresh lime\,fresh avocado \nTERROR -YAKI STEAK STIR FRY fresh veggies\, peppers\, onions\, broccoli\,carrots\, sesame seeds\, rice \nCAJUN CHICKEN PASTAHHH! blackened chicken\, peppers\, onions\, broccoli with cajun cream sauce \nDon’t miss out on this killer experience – reserve your seat today! \nThere is a cash/credit card bar available for additional beverages. \nDon’t miss out on this killer murder mystery dinner theater experience – reserve your seat today! \nDon’t see the date you’re looking for? \nCall and schedule your own! \n(888) 643-2583
URL:https://getawaytomurder.com/event/atlanta-ga-murder-mystery-dinner-theater-show-at-hudson-grille-in-midtown-atlanta/2026-04-24/
LOCATION:HUDSON GRILLE – MIDTOWN ATL\, 942 Peachtree Street Northeast\, Atlanta\, GA\, 30309\, United States
CATEGORIES:Dinner Theater,Food & Drink,Murder Mystery Dinner
ATTACH;FMTTYPE=image/jpeg:https://getawaytomurder.com/wp-content/uploads/2025/03/https-cdn.evbuc_.com-images-763938329-147221094977-1-original.20240509-181541.jpg
GEO:33.7804666;-84.3843203
X-APPLE-STRUCTURED-LOCATION;VALUE=URI;X-ADDRESS=HUDSON GRILLE – MIDTOWN ATL 942 Peachtree Street Northeast Atlanta GA 30309 United States;X-APPLE-RADIUS=500;X-TITLE=942 Peachtree Street Northeast:geo:-84.3843203,33.7804666
END:VEVENT
BEGIN:VEVENT
DTSTART;TZID=America/New_York:20260522T193000
DTEND;TZID=America/New_York:20260522T223000
DTSTAMP:20260421T031528
CREATED:20260306T163804Z
LAST-MODIFIED:20260319T193819Z
UID:10004773-1779478200-1779489000@getawaytomurder.com
SUMMARY:Atlanta\, GA - Murder Mystery Dinner Theater Show at Hudson Grille in Midtown Atlanta
DESCRIPTION:Overview\n\n\n\n\n\nDate night turns deadly at a murder mystery dinner theater where no one is safe. Get your tickets before it’s too late.\n\n\n\nSee all Atlanta shows here! \nAtlanta – The Hudson Grille \nJoin us for the immersive mystery experience everyone is dying to attend! \nFriday Events: 7:00 PM arrival\, 7:30 PM show start time. \nSaturday Events: 6:30 PM arrival\, 7:00 PM show start time. \nRunning time: 2.5 hours-ish \nFor the best experience\, arrive on time! \nAbout: \nWhy watch a show when you can be part of one? This immersive murder mystery dinner theater experience is sure to be a KILLER time! Work with a team of fellow sleuths to unravel the secrets of the mystery\, where even YOU can be the perpetrator. Each clue leads you closer to the truth\, but it’s up to you and your team to put your skills to the test and solve the mystery before time is up! \nDuring the show\, you will… \n\nEnjoy a 3-course meal\nInvestigate clues with a team of detectives and suspects\nBecome a part of the story! We may select you to be a suspect in the crime\nMake KILLER memories!\n\n\nTheme Schedule:\n2026 \nJanuary – Modern Billionaire’s Masquerade Ball \nFebruary- Modern Wedding \nMarch -1920s Mafia Wedding \nApril -1990s Mall Opening \nMay – 1930s Old Hollywood \nJune – Modern Wedding \nMenu: \nIndulge in an irresistible selection of entrees: \nMenu Items \nFORENSIC FIESTA BOWL(V)rice\, beans\, onions\, corn salsa\, fresh lime\,fresh avocado \nTERROR -YAKI STEAK STIR FRY fresh veggies\, peppers\, onions\, broccoli\,carrots\, sesame seeds\, rice \nCAJUN CHICKEN PASTAHHH! blackened chicken\, peppers\, onions\, broccoli with cajun cream sauce \nDon’t miss out on this killer experience – reserve your seat today! \nThere is a cash/credit card bar available for additional beverages. \nDon’t miss out on this killer murder mystery dinner theater experience – reserve your seat today! \nDon’t see the date you’re looking for? \nCall and schedule your own! \n(888) 643-2583
URL:https://getawaytomurder.com/event/atlanta-ga-murder-mystery-dinner-theater-show-at-hudson-grille-in-midtown-atlanta/2026-05-22/
LOCATION:HUDSON GRILLE – MIDTOWN ATL\, 942 Peachtree Street Northeast\, Atlanta\, GA\, 30309\, United States
CATEGORIES:Dinner Theater,Food & Drink,Murder Mystery Dinner
ATTACH;FMTTYPE=image/jpeg:https://getawaytomurder.com/wp-content/uploads/2025/03/https-cdn.evbuc_.com-images-763938329-147221094977-1-original.20240509-181541.jpg
GEO:33.7804666;-84.3843203
X-APPLE-STRUCTURED-LOCATION;VALUE=URI;X-ADDRESS=HUDSON GRILLE – MIDTOWN ATL 942 Peachtree Street Northeast Atlanta GA 30309 United States;X-APPLE-RADIUS=500;X-TITLE=942 Peachtree Street Northeast:geo:-84.3843203,33.7804666
END:VEVENT
END:VCALENDAR