BEGIN:VCALENDAR
VERSION:2.0
PRODID:-//Getaway to Murder - ECPv6.15.20//NONSGML v1.0//EN
CALSCALE:GREGORIAN
METHOD:PUBLISH
X-WR-CALNAME:Getaway to Murder
X-ORIGINAL-URL:https://getawaytomurder.com
X-WR-CALDESC:Events for Getaway to Murder
REFRESH-INTERVAL;VALUE=DURATION:PT1H
X-Robots-Tag:noindex
X-PUBLISHED-TTL:PT1H
BEGIN:VTIMEZONE
TZID:America/New_York
BEGIN:DAYLIGHT
TZOFFSETFROM:-0500
TZOFFSETTO:-0400
TZNAME:EDT
DTSTART:20250309T070000
END:DAYLIGHT
BEGIN:STANDARD
TZOFFSETFROM:-0400
TZOFFSETTO:-0500
TZNAME:EST
DTSTART:20251102T060000
END:STANDARD
BEGIN:DAYLIGHT
TZOFFSETFROM:-0500
TZOFFSETTO:-0400
TZNAME:EDT
DTSTART:20260308T070000
END:DAYLIGHT
BEGIN:STANDARD
TZOFFSETFROM:-0400
TZOFFSETTO:-0500
TZNAME:EST
DTSTART:20261101T060000
END:STANDARD
BEGIN:DAYLIGHT
TZOFFSETFROM:-0500
TZOFFSETTO:-0400
TZNAME:EDT
DTSTART:20270314T070000
END:DAYLIGHT
BEGIN:STANDARD
TZOFFSETFROM:-0400
TZOFFSETTO:-0500
TZNAME:EST
DTSTART:20271107T060000
END:STANDARD
END:VTIMEZONE
BEGIN:VEVENT
DTSTART;TZID=America/New_York:20260508T193000
DTEND;TZID=America/New_York:20260508T223000
DTSTAMP:20260421T031453
CREATED:20260306T164138Z
LAST-MODIFIED:20260306T164138Z
UID:10004776-1778268600-1778279400@getawaytomurder.com
SUMMARY:Kennesaw\, GA - Murder Mystery Dinner Theater Show at Hudson Grille in Kennesaw
DESCRIPTION:Murder Mystery Dinner Theater Show at Hudson Grille in Kennesaw (Atlanta)\n\n\n\n\n\nBecome immersed in a comedic murder mystery dinner theater show where YOU are part of the story at Hudson Grille in Kennesaw! \n\n\n\n\nKennesaw – The Hudson Grille \nAbout: \nThe Murder Mystery Co. welcomes you to the LIVE immersive theatrical event that everyone is DYING to attend! You saw us on ABC’s Shark Tank\, and now you can experience the killer interactive show live at Hudson Grille in Kennesaw. Collaborate with your team to unravel the mystery where even YOU can be the perpetrator. Each month brings a new adventure\, so get your tickets today! \nDuring this interactive experience\, you will: \n\nBecome a part of the story! You may be selected to participate as a suspect in the crime.\nInvestigate and work with your table to solve the mystery before the live experience ends.\nParticipate in a live-action version of the game “Clue.”\nMake KILLER memories\, all while enjoying a three-course meal.\nExperience immersive theater with the experts in mystery entertainment!\n\nWhat does a murder mystery dinner theater show look like with The Murder Mystery Co.? \nThis interactive live-action murder mystery is a dinner theater experience with the mission to make YOU a part of the story. As soon as you enter Hudson Grille in Kennesaw\, you’ll be greeted by in-character actors who will immediately immerse you in the theme of the show!  Select guests will be given suspect roles\, binders with information\, and light costuming for their character. Other guests will participate in the story as detectives\, and everyone will investigate the crime in order to catch the culprit by the end of the show. Expect to interact with other guests and professional actors\, investigate with a table team over a three-course meal\, and enjoy lots of laughter at this ticketed experience to DIE FOR! \nThemes change monthly. Check the list below for more information on what to expect and what to wear. \nTheme Schedule 2026: \nMarch – 1920s Mafia Wedding \nApril – 1990s Mayoral Election \nMay – 1930s Old Hollywood \nJune – Wedding Gone Wrong \nJuly – 1980s Battle of the Bands \nAugust – 1950s Sockhop \nSeptember – 1920s Mafia Wedding \nOctober – Modern Billionaire’s Masquerade Ball \nNovember – 1930s Old Hollywood \nDecember – Holiday Party \nFriday Events: 7:00 PM arrival\, 7:30 PM show start time. \nSaturday Events: 6:30 PM arrival\, 7:00 PM show start time. \nRunning time: 2.5 hours-ish \nFor the best experience\, arrive on time! \nHere’s a clue: see all Atlanta-area shows here! \nMenu: \n1st course: \nHouse Salad with mixed greens\, fontina cheese\, cucumbers\, tomatoes\, and balsamic vinaigrette \n2nd course (pick one): \nForensic Fiesta Bowl (V): Rice\, beans\, onions\, corn salsa\, fresh lime\, fresh avocado \nTerror-yaki Steak Stir Fry: Fresh veggies\, peppers\, onions\, broccoli\, carrots\, sesame seeds\, rice \nCajun Chicken Pastahhh!: Blackened chicken\, peppers\, onions\, broccoli with cajun cream sauce \n3rd course: \nChocolate Mousse Cake \nThere is a cash/credit card bar available for beverages. \nDon’t see the date you’re looking for? \nCall and schedule your own! \n(888) 643-2583 \n\n\n\n\n\n\n\n\n\nGood to know\n\n\n\n\nHighlights \n\n\n2 hours\nIn person\n\n\n\n\n\n\nRefund Policy \nNo refunds\n\n\n\n\n\n\n\n\n\nLocation\n\n\n\nHudson Grille\n\n2500 Cobb Place Lane Northwest \nKennesaw\, GA 30144
URL:https://getawaytomurder.com/event/kennesaw-ga-murder-mystery-dinner-theater-show-at-hudson-grille-in-kennesaw/2026-05-08/
LOCATION:HUDSON GRILLE – KENNESAW GA\, 2500 Cobb Place Lane Northwest\, Kennesaw\, GA\, 30144\, United States
CATEGORIES:Dinner Theater,Food & Drink,Murder Mystery Dinner
GEO:34.0119493;-84.5729866
X-APPLE-STRUCTURED-LOCATION;VALUE=URI;X-ADDRESS=HUDSON GRILLE – KENNESAW GA 2500 Cobb Place Lane Northwest Kennesaw GA 30144 United States;X-APPLE-RADIUS=500;X-TITLE=2500 Cobb Place Lane Northwest:geo:-84.5729866,34.0119493
END:VEVENT
END:VCALENDAR