BEGIN:VCALENDAR
VERSION:2.0
PRODID:-//Getaway to Murder - ECPv6.15.20//NONSGML v1.0//EN
CALSCALE:GREGORIAN
METHOD:PUBLISH
X-WR-CALNAME:Getaway to Murder
X-ORIGINAL-URL:https://getawaytomurder.com
X-WR-CALDESC:Events for Getaway to Murder
REFRESH-INTERVAL;VALUE=DURATION:PT1H
X-Robots-Tag:noindex
X-PUBLISHED-TTL:PT1H
BEGIN:VTIMEZONE
TZID:America/Chicago
BEGIN:DAYLIGHT
TZOFFSETFROM:-0600
TZOFFSETTO:-0500
TZNAME:CDT
DTSTART:20250309T080000
END:DAYLIGHT
BEGIN:STANDARD
TZOFFSETFROM:-0500
TZOFFSETTO:-0600
TZNAME:CST
DTSTART:20251102T070000
END:STANDARD
BEGIN:DAYLIGHT
TZOFFSETFROM:-0600
TZOFFSETTO:-0500
TZNAME:CDT
DTSTART:20260308T080000
END:DAYLIGHT
BEGIN:STANDARD
TZOFFSETFROM:-0500
TZOFFSETTO:-0600
TZNAME:CST
DTSTART:20261101T070000
END:STANDARD
BEGIN:DAYLIGHT
TZOFFSETFROM:-0600
TZOFFSETTO:-0500
TZNAME:CDT
DTSTART:20270314T080000
END:DAYLIGHT
BEGIN:STANDARD
TZOFFSETFROM:-0500
TZOFFSETTO:-0600
TZNAME:CST
DTSTART:20271107T070000
END:STANDARD
END:VTIMEZONE
BEGIN:VEVENT
DTSTART;TZID=America/Chicago:20260613T170000
DTEND;TZID=America/Chicago:20260613T200000
DTSTAMP:20260421T124841
CREATED:20260306T182819Z
LAST-MODIFIED:20260306T182819Z
UID:10004795-1781370000-1781380800@getawaytomurder.com
SUMMARY:Monticello\, IL - Murder Mystery Dinner Train 2026
DESCRIPTION:Murder Mystery Dinner Train 2026\n\n\n\n\n\nRide in style while you experience mystery and mayhem on board one of our restored dining cars and enjoy a delicious three course dinner. \n\n\n\n\nAll aboard the Monticello Railway Museum’s Murder Mystery Dinner Train for a one-of-a-kind theatrical experience! Join us June 13th\, July 11th August 1stand September 5th\, 2025\, for an exciting evening of mystery and mayhem presented by Champaign Urbana Theatre Company’s Seven Corpse Dinner Murder Mysteries. Passengers on board will be treated to this delicious three-course meal prepared by Michaels’ Catering of Champaign. This approximately two-hour train ride departs at 5:00 PM from the Wabash Depot in downtown Monticello. \nRide in style as you enjoy one of the following entree options: \n\nRoasted King Neptune’s Jumbo Shrimp (Gluten Free)\nSpinach Stuffed Chicken Breast (Gluten Free)\nTomato Lentil Phyllo Pie (Vegetarian)\n\nEach entrée will be accompanied by a Mediterranean Salad\, Lemon Dill Rice Pilaf\, Rosemary Carrots\, and Chocolate Mousse with Berries and Melba Sauce! Beverages available will be Sweet and Unsweet Tea\, Lemonade and Water. All passengers are welcome to dress up for this event! \nEnjoy your meal in the jovial atmosphere of an historic railroad dining car! The ticket price for this exciting event is $112 per passenger. Please note that due to capacity constraints of the dining cars\, parties of less than four may be seated onboard with passengers not necessarily from their party. If multiple members of a party desire to sit together\, all tickets must be purchased in the same order. This train will run rain or shine. \n\n\n\n\n\n\n\n\n\nGood to know\n\n\n\n\nHighlights \n\n\nIn person\n\n\n\n\n\n\nRefund Policy \nNo refunds\n\n\n\n\n\n\n\n\n\n\nLocation\n\n\n\nMonticello Railway Museum Wabash Depot\n\n200 E Livingston St \nMonticello\, IL 61856
URL:https://getawaytomurder.com/event/monticello-il-murder-mystery-dinner-train-2026/2026-06-13/
LOCATION:MONTICELLO RAILWAY MUSEUM WABASH\, 200 E Livingston St\, Monticello\, IL\, 61856\, United States
CATEGORIES:Dinner Theater,Food & Drink,Murder Mystery Dinner,Murder Mystery Dinner Train,Murder Mystery Train
GEO:40.0261003;-88.5704538
X-APPLE-STRUCTURED-LOCATION;VALUE=URI;X-ADDRESS=MONTICELLO RAILWAY MUSEUM WABASH 200 E Livingston St Monticello IL 61856 United States;X-APPLE-RADIUS=500;X-TITLE=200 E Livingston St:geo:-88.5704538,40.0261003
END:VEVENT
BEGIN:VEVENT
DTSTART;TZID=America/Chicago:20260711T170000
DTEND;TZID=America/Chicago:20260711T200000
DTSTAMP:20260421T124841
CREATED:20260306T182819Z
LAST-MODIFIED:20260306T182819Z
UID:10004796-1783789200-1783800000@getawaytomurder.com
SUMMARY:Monticello\, IL - Murder Mystery Dinner Train 2026
DESCRIPTION:Murder Mystery Dinner Train 2026\n\n\n\n\n\nRide in style while you experience mystery and mayhem on board one of our restored dining cars and enjoy a delicious three course dinner. \n\n\n\n\nAll aboard the Monticello Railway Museum’s Murder Mystery Dinner Train for a one-of-a-kind theatrical experience! Join us June 13th\, July 11th August 1stand September 5th\, 2025\, for an exciting evening of mystery and mayhem presented by Champaign Urbana Theatre Company’s Seven Corpse Dinner Murder Mysteries. Passengers on board will be treated to this delicious three-course meal prepared by Michaels’ Catering of Champaign. This approximately two-hour train ride departs at 5:00 PM from the Wabash Depot in downtown Monticello. \nRide in style as you enjoy one of the following entree options: \n\nRoasted King Neptune’s Jumbo Shrimp (Gluten Free)\nSpinach Stuffed Chicken Breast (Gluten Free)\nTomato Lentil Phyllo Pie (Vegetarian)\n\nEach entrée will be accompanied by a Mediterranean Salad\, Lemon Dill Rice Pilaf\, Rosemary Carrots\, and Chocolate Mousse with Berries and Melba Sauce! Beverages available will be Sweet and Unsweet Tea\, Lemonade and Water. All passengers are welcome to dress up for this event! \nEnjoy your meal in the jovial atmosphere of an historic railroad dining car! The ticket price for this exciting event is $112 per passenger. Please note that due to capacity constraints of the dining cars\, parties of less than four may be seated onboard with passengers not necessarily from their party. If multiple members of a party desire to sit together\, all tickets must be purchased in the same order. This train will run rain or shine. \n\n\n\n\n\n\n\n\n\nGood to know\n\n\n\n\nHighlights \n\n\nIn person\n\n\n\n\n\n\nRefund Policy \nNo refunds\n\n\n\n\n\n\n\n\n\n\nLocation\n\n\n\nMonticello Railway Museum Wabash Depot\n\n200 E Livingston St \nMonticello\, IL 61856
URL:https://getawaytomurder.com/event/monticello-il-murder-mystery-dinner-train-2026/2026-07-11/
LOCATION:MONTICELLO RAILWAY MUSEUM WABASH\, 200 E Livingston St\, Monticello\, IL\, 61856\, United States
CATEGORIES:Dinner Theater,Food & Drink,Murder Mystery Dinner,Murder Mystery Dinner Train,Murder Mystery Train
GEO:40.0261003;-88.5704538
X-APPLE-STRUCTURED-LOCATION;VALUE=URI;X-ADDRESS=MONTICELLO RAILWAY MUSEUM WABASH 200 E Livingston St Monticello IL 61856 United States;X-APPLE-RADIUS=500;X-TITLE=200 E Livingston St:geo:-88.5704538,40.0261003
END:VEVENT
BEGIN:VEVENT
DTSTART;TZID=America/Chicago:20260801T170000
DTEND;TZID=America/Chicago:20260801T200000
DTSTAMP:20260421T124841
CREATED:20260306T182819Z
LAST-MODIFIED:20260306T182819Z
UID:10004797-1785603600-1785614400@getawaytomurder.com
SUMMARY:Monticello\, IL - Murder Mystery Dinner Train 2026
DESCRIPTION:Murder Mystery Dinner Train 2026\n\n\n\n\n\nRide in style while you experience mystery and mayhem on board one of our restored dining cars and enjoy a delicious three course dinner. \n\n\n\n\nAll aboard the Monticello Railway Museum’s Murder Mystery Dinner Train for a one-of-a-kind theatrical experience! Join us June 13th\, July 11th August 1stand September 5th\, 2025\, for an exciting evening of mystery and mayhem presented by Champaign Urbana Theatre Company’s Seven Corpse Dinner Murder Mysteries. Passengers on board will be treated to this delicious three-course meal prepared by Michaels’ Catering of Champaign. This approximately two-hour train ride departs at 5:00 PM from the Wabash Depot in downtown Monticello. \nRide in style as you enjoy one of the following entree options: \n\nRoasted King Neptune’s Jumbo Shrimp (Gluten Free)\nSpinach Stuffed Chicken Breast (Gluten Free)\nTomato Lentil Phyllo Pie (Vegetarian)\n\nEach entrée will be accompanied by a Mediterranean Salad\, Lemon Dill Rice Pilaf\, Rosemary Carrots\, and Chocolate Mousse with Berries and Melba Sauce! Beverages available will be Sweet and Unsweet Tea\, Lemonade and Water. All passengers are welcome to dress up for this event! \nEnjoy your meal in the jovial atmosphere of an historic railroad dining car! The ticket price for this exciting event is $112 per passenger. Please note that due to capacity constraints of the dining cars\, parties of less than four may be seated onboard with passengers not necessarily from their party. If multiple members of a party desire to sit together\, all tickets must be purchased in the same order. This train will run rain or shine. \n\n\n\n\n\n\n\n\n\nGood to know\n\n\n\n\nHighlights \n\n\nIn person\n\n\n\n\n\n\nRefund Policy \nNo refunds\n\n\n\n\n\n\n\n\n\n\nLocation\n\n\n\nMonticello Railway Museum Wabash Depot\n\n200 E Livingston St \nMonticello\, IL 61856
URL:https://getawaytomurder.com/event/monticello-il-murder-mystery-dinner-train-2026/2026-08-01/
LOCATION:MONTICELLO RAILWAY MUSEUM WABASH\, 200 E Livingston St\, Monticello\, IL\, 61856\, United States
CATEGORIES:Dinner Theater,Food & Drink,Murder Mystery Dinner,Murder Mystery Dinner Train,Murder Mystery Train
GEO:40.0261003;-88.5704538
X-APPLE-STRUCTURED-LOCATION;VALUE=URI;X-ADDRESS=MONTICELLO RAILWAY MUSEUM WABASH 200 E Livingston St Monticello IL 61856 United States;X-APPLE-RADIUS=500;X-TITLE=200 E Livingston St:geo:-88.5704538,40.0261003
END:VEVENT
BEGIN:VEVENT
DTSTART;TZID=America/Chicago:20260905T170000
DTEND;TZID=America/Chicago:20260905T200000
DTSTAMP:20260421T124841
CREATED:20260306T182819Z
LAST-MODIFIED:20260306T182819Z
UID:10004798-1788627600-1788638400@getawaytomurder.com
SUMMARY:Monticello\, IL - Murder Mystery Dinner Train 2026
DESCRIPTION:Murder Mystery Dinner Train 2026\n\n\n\n\n\nRide in style while you experience mystery and mayhem on board one of our restored dining cars and enjoy a delicious three course dinner. \n\n\n\n\nAll aboard the Monticello Railway Museum’s Murder Mystery Dinner Train for a one-of-a-kind theatrical experience! Join us June 13th\, July 11th August 1stand September 5th\, 2025\, for an exciting evening of mystery and mayhem presented by Champaign Urbana Theatre Company’s Seven Corpse Dinner Murder Mysteries. Passengers on board will be treated to this delicious three-course meal prepared by Michaels’ Catering of Champaign. This approximately two-hour train ride departs at 5:00 PM from the Wabash Depot in downtown Monticello. \nRide in style as you enjoy one of the following entree options: \n\nRoasted King Neptune’s Jumbo Shrimp (Gluten Free)\nSpinach Stuffed Chicken Breast (Gluten Free)\nTomato Lentil Phyllo Pie (Vegetarian)\n\nEach entrée will be accompanied by a Mediterranean Salad\, Lemon Dill Rice Pilaf\, Rosemary Carrots\, and Chocolate Mousse with Berries and Melba Sauce! Beverages available will be Sweet and Unsweet Tea\, Lemonade and Water. All passengers are welcome to dress up for this event! \nEnjoy your meal in the jovial atmosphere of an historic railroad dining car! The ticket price for this exciting event is $112 per passenger. Please note that due to capacity constraints of the dining cars\, parties of less than four may be seated onboard with passengers not necessarily from their party. If multiple members of a party desire to sit together\, all tickets must be purchased in the same order. This train will run rain or shine. \n\n\n\n\n\n\n\n\n\nGood to know\n\n\n\n\nHighlights \n\n\nIn person\n\n\n\n\n\n\nRefund Policy \nNo refunds\n\n\n\n\n\n\n\n\n\n\nLocation\n\n\n\nMonticello Railway Museum Wabash Depot\n\n200 E Livingston St \nMonticello\, IL 61856
URL:https://getawaytomurder.com/event/monticello-il-murder-mystery-dinner-train-2026/2026-09-05/
LOCATION:MONTICELLO RAILWAY MUSEUM WABASH\, 200 E Livingston St\, Monticello\, IL\, 61856\, United States
CATEGORIES:Dinner Theater,Food & Drink,Murder Mystery Dinner,Murder Mystery Dinner Train,Murder Mystery Train
GEO:40.0261003;-88.5704538
X-APPLE-STRUCTURED-LOCATION;VALUE=URI;X-ADDRESS=MONTICELLO RAILWAY MUSEUM WABASH 200 E Livingston St Monticello IL 61856 United States;X-APPLE-RADIUS=500;X-TITLE=200 E Livingston St:geo:-88.5704538,40.0261003
END:VEVENT
END:VCALENDAR