BEGIN:VCALENDAR
VERSION:2.0
PRODID:-//Getaway to Murder - ECPv6.15.20//NONSGML v1.0//EN
CALSCALE:GREGORIAN
METHOD:PUBLISH
X-WR-CALNAME:Getaway to Murder
X-ORIGINAL-URL:https://getawaytomurder.com
X-WR-CALDESC:Events for Getaway to Murder
REFRESH-INTERVAL;VALUE=DURATION:PT1H
X-Robots-Tag:noindex
X-PUBLISHED-TTL:PT1H
BEGIN:VTIMEZONE
TZID:America/Denver
BEGIN:DAYLIGHT
TZOFFSETFROM:-0700
TZOFFSETTO:-0600
TZNAME:MDT
DTSTART:20250309T090000
END:DAYLIGHT
BEGIN:STANDARD
TZOFFSETFROM:-0600
TZOFFSETTO:-0700
TZNAME:MST
DTSTART:20251102T080000
END:STANDARD
BEGIN:DAYLIGHT
TZOFFSETFROM:-0700
TZOFFSETTO:-0600
TZNAME:MDT
DTSTART:20260308T090000
END:DAYLIGHT
BEGIN:STANDARD
TZOFFSETFROM:-0600
TZOFFSETTO:-0700
TZNAME:MST
DTSTART:20261101T080000
END:STANDARD
BEGIN:DAYLIGHT
TZOFFSETFROM:-0700
TZOFFSETTO:-0600
TZNAME:MDT
DTSTART:20270314T090000
END:DAYLIGHT
BEGIN:STANDARD
TZOFFSETFROM:-0600
TZOFFSETTO:-0700
TZNAME:MST
DTSTART:20271107T080000
END:STANDARD
END:VTIMEZONE
BEGIN:VEVENT
DTSTART;TZID=America/Denver:20260509T133000
DTEND;TZID=America/Denver:20260509T163000
DTSTAMP:20260421T040915
CREATED:20260312T140017Z
LAST-MODIFIED:20260312T140017Z
UID:10005581-1778333400-1778344200@getawaytomurder.com
SUMMARY:Santa Fe\, NM - Murder Mystery Train Ride
DESCRIPTION:Come Aboard for the Best Immersive Murder Mystery Train Ride in Santa Fe\, NM!\nStep right up to Bambini and Binky’s Traveling Circus. The Exodus Ensemble is back on Sky Railway with a one-of-a-kind rolling spectacle that will take guests on a journey where cotton candy dreams turn into circus nightmares\, and everyone’s hiding something behind their painted smile.  \nThe Murder Mystery train departs and returns to the Santa Fe Depot. Each ticket includes a seat in our enclosed train car\, a complimentary champagne welcome as the adventure begins\, and live entertainment! \nAdditional snacks and drinks can be purchased.
URL:https://getawaytomurder.com/event/santa-fe-nm-murder-mystery-train-ride/2026-05-09/
LOCATION:SKY RAILWAY\, 430 W Manhattan Ave\, Santa Fe\, NM\, 87501\, United States
CATEGORIES:Dinner Theater,Murder Mystery Train
GEO:35.6843447;-105.9466481
X-APPLE-STRUCTURED-LOCATION;VALUE=URI;X-ADDRESS=SKY RAILWAY 430 W Manhattan Ave Santa Fe NM 87501 United States;X-APPLE-RADIUS=500;X-TITLE=430 W Manhattan Ave:geo:-105.9466481,35.6843447
END:VEVENT
BEGIN:VEVENT
DTSTART;TZID=America/Denver:20260517T133000
DTEND;TZID=America/Denver:20260517T163000
DTSTAMP:20260421T040915
CREATED:20260312T140017Z
LAST-MODIFIED:20260312T140017Z
UID:10005582-1779024600-1779035400@getawaytomurder.com
SUMMARY:Santa Fe\, NM - Murder Mystery Train Ride
DESCRIPTION:Come Aboard for the Best Immersive Murder Mystery Train Ride in Santa Fe\, NM!\nStep right up to Bambini and Binky’s Traveling Circus. The Exodus Ensemble is back on Sky Railway with a one-of-a-kind rolling spectacle that will take guests on a journey where cotton candy dreams turn into circus nightmares\, and everyone’s hiding something behind their painted smile.  \nThe Murder Mystery train departs and returns to the Santa Fe Depot. Each ticket includes a seat in our enclosed train car\, a complimentary champagne welcome as the adventure begins\, and live entertainment! \nAdditional snacks and drinks can be purchased.
URL:https://getawaytomurder.com/event/santa-fe-nm-murder-mystery-train-ride/2026-05-17/
LOCATION:SKY RAILWAY\, 430 W Manhattan Ave\, Santa Fe\, NM\, 87501\, United States
CATEGORIES:Dinner Theater,Murder Mystery Train
GEO:35.6843447;-105.9466481
X-APPLE-STRUCTURED-LOCATION;VALUE=URI;X-ADDRESS=SKY RAILWAY 430 W Manhattan Ave Santa Fe NM 87501 United States;X-APPLE-RADIUS=500;X-TITLE=430 W Manhattan Ave:geo:-105.9466481,35.6843447
END:VEVENT
BEGIN:VEVENT
DTSTART;TZID=America/Denver:20260620T133000
DTEND;TZID=America/Denver:20260620T163000
DTSTAMP:20260421T040915
CREATED:20260312T140017Z
LAST-MODIFIED:20260312T140017Z
UID:10005583-1781962200-1781973000@getawaytomurder.com
SUMMARY:Santa Fe\, NM - Murder Mystery Train Ride
DESCRIPTION:Come Aboard for the Best Immersive Murder Mystery Train Ride in Santa Fe\, NM!\nStep right up to Bambini and Binky’s Traveling Circus. The Exodus Ensemble is back on Sky Railway with a one-of-a-kind rolling spectacle that will take guests on a journey where cotton candy dreams turn into circus nightmares\, and everyone’s hiding something behind their painted smile.  \nThe Murder Mystery train departs and returns to the Santa Fe Depot. Each ticket includes a seat in our enclosed train car\, a complimentary champagne welcome as the adventure begins\, and live entertainment! \nAdditional snacks and drinks can be purchased.
URL:https://getawaytomurder.com/event/santa-fe-nm-murder-mystery-train-ride/2026-06-20/
LOCATION:SKY RAILWAY\, 430 W Manhattan Ave\, Santa Fe\, NM\, 87501\, United States
CATEGORIES:Dinner Theater,Murder Mystery Train
GEO:35.6843447;-105.9466481
X-APPLE-STRUCTURED-LOCATION;VALUE=URI;X-ADDRESS=SKY RAILWAY 430 W Manhattan Ave Santa Fe NM 87501 United States;X-APPLE-RADIUS=500;X-TITLE=430 W Manhattan Ave:geo:-105.9466481,35.6843447
END:VEVENT
BEGIN:VEVENT
DTSTART;TZID=America/Denver:20260704T133000
DTEND;TZID=America/Denver:20260704T163000
DTSTAMP:20260421T040915
CREATED:20260312T140017Z
LAST-MODIFIED:20260312T140017Z
UID:10005584-1783171800-1783182600@getawaytomurder.com
SUMMARY:Santa Fe\, NM - Murder Mystery Train Ride
DESCRIPTION:Come Aboard for the Best Immersive Murder Mystery Train Ride in Santa Fe\, NM!\nStep right up to Bambini and Binky’s Traveling Circus. The Exodus Ensemble is back on Sky Railway with a one-of-a-kind rolling spectacle that will take guests on a journey where cotton candy dreams turn into circus nightmares\, and everyone’s hiding something behind their painted smile.  \nThe Murder Mystery train departs and returns to the Santa Fe Depot. Each ticket includes a seat in our enclosed train car\, a complimentary champagne welcome as the adventure begins\, and live entertainment! \nAdditional snacks and drinks can be purchased.
URL:https://getawaytomurder.com/event/santa-fe-nm-murder-mystery-train-ride/2026-07-04/
LOCATION:SKY RAILWAY\, 430 W Manhattan Ave\, Santa Fe\, NM\, 87501\, United States
CATEGORIES:Dinner Theater,Murder Mystery Train
GEO:35.6843447;-105.9466481
X-APPLE-STRUCTURED-LOCATION;VALUE=URI;X-ADDRESS=SKY RAILWAY 430 W Manhattan Ave Santa Fe NM 87501 United States;X-APPLE-RADIUS=500;X-TITLE=430 W Manhattan Ave:geo:-105.9466481,35.6843447
END:VEVENT
BEGIN:VEVENT
DTSTART;TZID=America/Denver:20260718T133000
DTEND;TZID=America/Denver:20260718T163000
DTSTAMP:20260421T040915
CREATED:20260312T140017Z
LAST-MODIFIED:20260312T140017Z
UID:10005585-1784381400-1784392200@getawaytomurder.com
SUMMARY:Santa Fe\, NM - Murder Mystery Train Ride
DESCRIPTION:Come Aboard for the Best Immersive Murder Mystery Train Ride in Santa Fe\, NM!\nStep right up to Bambini and Binky’s Traveling Circus. The Exodus Ensemble is back on Sky Railway with a one-of-a-kind rolling spectacle that will take guests on a journey where cotton candy dreams turn into circus nightmares\, and everyone’s hiding something behind their painted smile.  \nThe Murder Mystery train departs and returns to the Santa Fe Depot. Each ticket includes a seat in our enclosed train car\, a complimentary champagne welcome as the adventure begins\, and live entertainment! \nAdditional snacks and drinks can be purchased.
URL:https://getawaytomurder.com/event/santa-fe-nm-murder-mystery-train-ride/2026-07-18/
LOCATION:SKY RAILWAY\, 430 W Manhattan Ave\, Santa Fe\, NM\, 87501\, United States
CATEGORIES:Dinner Theater,Murder Mystery Train
GEO:35.6843447;-105.9466481
X-APPLE-STRUCTURED-LOCATION;VALUE=URI;X-ADDRESS=SKY RAILWAY 430 W Manhattan Ave Santa Fe NM 87501 United States;X-APPLE-RADIUS=500;X-TITLE=430 W Manhattan Ave:geo:-105.9466481,35.6843447
END:VEVENT
BEGIN:VEVENT
DTSTART;TZID=America/Denver:20260801T133000
DTEND;TZID=America/Denver:20260801T163000
DTSTAMP:20260421T040915
CREATED:20260312T140017Z
LAST-MODIFIED:20260312T140017Z
UID:10005586-1785591000-1785601800@getawaytomurder.com
SUMMARY:Santa Fe\, NM - Murder Mystery Train Ride
DESCRIPTION:Come Aboard for the Best Immersive Murder Mystery Train Ride in Santa Fe\, NM!\nStep right up to Bambini and Binky’s Traveling Circus. The Exodus Ensemble is back on Sky Railway with a one-of-a-kind rolling spectacle that will take guests on a journey where cotton candy dreams turn into circus nightmares\, and everyone’s hiding something behind their painted smile.  \nThe Murder Mystery train departs and returns to the Santa Fe Depot. Each ticket includes a seat in our enclosed train car\, a complimentary champagne welcome as the adventure begins\, and live entertainment! \nAdditional snacks and drinks can be purchased.
URL:https://getawaytomurder.com/event/santa-fe-nm-murder-mystery-train-ride/2026-08-01/
LOCATION:SKY RAILWAY\, 430 W Manhattan Ave\, Santa Fe\, NM\, 87501\, United States
CATEGORIES:Dinner Theater,Murder Mystery Train
GEO:35.6843447;-105.9466481
X-APPLE-STRUCTURED-LOCATION;VALUE=URI;X-ADDRESS=SKY RAILWAY 430 W Manhattan Ave Santa Fe NM 87501 United States;X-APPLE-RADIUS=500;X-TITLE=430 W Manhattan Ave:geo:-105.9466481,35.6843447
END:VEVENT
BEGIN:VEVENT
DTSTART;TZID=America/Denver:20260815T133000
DTEND;TZID=America/Denver:20260815T163000
DTSTAMP:20260421T040915
CREATED:20260312T140017Z
LAST-MODIFIED:20260312T140017Z
UID:10005587-1786800600-1786811400@getawaytomurder.com
SUMMARY:Santa Fe\, NM - Murder Mystery Train Ride
DESCRIPTION:Come Aboard for the Best Immersive Murder Mystery Train Ride in Santa Fe\, NM!\nStep right up to Bambini and Binky’s Traveling Circus. The Exodus Ensemble is back on Sky Railway with a one-of-a-kind rolling spectacle that will take guests on a journey where cotton candy dreams turn into circus nightmares\, and everyone’s hiding something behind their painted smile.  \nThe Murder Mystery train departs and returns to the Santa Fe Depot. Each ticket includes a seat in our enclosed train car\, a complimentary champagne welcome as the adventure begins\, and live entertainment! \nAdditional snacks and drinks can be purchased.
URL:https://getawaytomurder.com/event/santa-fe-nm-murder-mystery-train-ride/2026-08-15/
LOCATION:SKY RAILWAY\, 430 W Manhattan Ave\, Santa Fe\, NM\, 87501\, United States
CATEGORIES:Dinner Theater,Murder Mystery Train
GEO:35.6843447;-105.9466481
X-APPLE-STRUCTURED-LOCATION;VALUE=URI;X-ADDRESS=SKY RAILWAY 430 W Manhattan Ave Santa Fe NM 87501 United States;X-APPLE-RADIUS=500;X-TITLE=430 W Manhattan Ave:geo:-105.9466481,35.6843447
END:VEVENT
BEGIN:VEVENT
DTSTART;TZID=America/Denver:20260829T133000
DTEND;TZID=America/Denver:20260829T163000
DTSTAMP:20260421T040915
CREATED:20260312T140017Z
LAST-MODIFIED:20260312T140017Z
UID:10005588-1788010200-1788021000@getawaytomurder.com
SUMMARY:Santa Fe\, NM - Murder Mystery Train Ride
DESCRIPTION:Come Aboard for the Best Immersive Murder Mystery Train Ride in Santa Fe\, NM!\nStep right up to Bambini and Binky’s Traveling Circus. The Exodus Ensemble is back on Sky Railway with a one-of-a-kind rolling spectacle that will take guests on a journey where cotton candy dreams turn into circus nightmares\, and everyone’s hiding something behind their painted smile.  \nThe Murder Mystery train departs and returns to the Santa Fe Depot. Each ticket includes a seat in our enclosed train car\, a complimentary champagne welcome as the adventure begins\, and live entertainment! \nAdditional snacks and drinks can be purchased.
URL:https://getawaytomurder.com/event/santa-fe-nm-murder-mystery-train-ride/2026-08-29/
LOCATION:SKY RAILWAY\, 430 W Manhattan Ave\, Santa Fe\, NM\, 87501\, United States
CATEGORIES:Dinner Theater,Murder Mystery Train
GEO:35.6843447;-105.9466481
X-APPLE-STRUCTURED-LOCATION;VALUE=URI;X-ADDRESS=SKY RAILWAY 430 W Manhattan Ave Santa Fe NM 87501 United States;X-APPLE-RADIUS=500;X-TITLE=430 W Manhattan Ave:geo:-105.9466481,35.6843447
END:VEVENT
BEGIN:VEVENT
DTSTART;TZID=America/Denver:20260912T133000
DTEND;TZID=America/Denver:20260912T163000
DTSTAMP:20260421T040915
CREATED:20260312T140017Z
LAST-MODIFIED:20260312T140017Z
UID:10005589-1789219800-1789230600@getawaytomurder.com
SUMMARY:Santa Fe\, NM - Murder Mystery Train Ride
DESCRIPTION:Come Aboard for the Best Immersive Murder Mystery Train Ride in Santa Fe\, NM!\nStep right up to Bambini and Binky’s Traveling Circus. The Exodus Ensemble is back on Sky Railway with a one-of-a-kind rolling spectacle that will take guests on a journey where cotton candy dreams turn into circus nightmares\, and everyone’s hiding something behind their painted smile.  \nThe Murder Mystery train departs and returns to the Santa Fe Depot. Each ticket includes a seat in our enclosed train car\, a complimentary champagne welcome as the adventure begins\, and live entertainment! \nAdditional snacks and drinks can be purchased.
URL:https://getawaytomurder.com/event/santa-fe-nm-murder-mystery-train-ride/2026-09-12/
LOCATION:SKY RAILWAY\, 430 W Manhattan Ave\, Santa Fe\, NM\, 87501\, United States
CATEGORIES:Dinner Theater,Murder Mystery Train
GEO:35.6843447;-105.9466481
X-APPLE-STRUCTURED-LOCATION;VALUE=URI;X-ADDRESS=SKY RAILWAY 430 W Manhattan Ave Santa Fe NM 87501 United States;X-APPLE-RADIUS=500;X-TITLE=430 W Manhattan Ave:geo:-105.9466481,35.6843447
END:VEVENT
BEGIN:VEVENT
DTSTART;TZID=America/Denver:20260926T133000
DTEND;TZID=America/Denver:20260926T163000
DTSTAMP:20260421T040915
CREATED:20260312T140017Z
LAST-MODIFIED:20260312T140017Z
UID:10005590-1790429400-1790440200@getawaytomurder.com
SUMMARY:Santa Fe\, NM - Murder Mystery Train Ride
DESCRIPTION:Come Aboard for the Best Immersive Murder Mystery Train Ride in Santa Fe\, NM!\nStep right up to Bambini and Binky’s Traveling Circus. The Exodus Ensemble is back on Sky Railway with a one-of-a-kind rolling spectacle that will take guests on a journey where cotton candy dreams turn into circus nightmares\, and everyone’s hiding something behind their painted smile.  \nThe Murder Mystery train departs and returns to the Santa Fe Depot. Each ticket includes a seat in our enclosed train car\, a complimentary champagne welcome as the adventure begins\, and live entertainment! \nAdditional snacks and drinks can be purchased.
URL:https://getawaytomurder.com/event/santa-fe-nm-murder-mystery-train-ride/2026-09-26/
LOCATION:SKY RAILWAY\, 430 W Manhattan Ave\, Santa Fe\, NM\, 87501\, United States
CATEGORIES:Dinner Theater,Murder Mystery Train
GEO:35.6843447;-105.9466481
X-APPLE-STRUCTURED-LOCATION;VALUE=URI;X-ADDRESS=SKY RAILWAY 430 W Manhattan Ave Santa Fe NM 87501 United States;X-APPLE-RADIUS=500;X-TITLE=430 W Manhattan Ave:geo:-105.9466481,35.6843447
END:VEVENT
END:VCALENDAR