BEGIN:VCALENDAR
VERSION:2.0
PRODID:-//Getaway to Murder - ECPv6.15.20//NONSGML v1.0//EN
CALSCALE:GREGORIAN
METHOD:PUBLISH
X-WR-CALNAME:Getaway to Murder
X-ORIGINAL-URL:https://getawaytomurder.com
X-WR-CALDESC:Events for Getaway to Murder
REFRESH-INTERVAL;VALUE=DURATION:PT1H
X-Robots-Tag:noindex
X-PUBLISHED-TTL:PT1H
BEGIN:VTIMEZONE
TZID:America/Chicago
BEGIN:DAYLIGHT
TZOFFSETFROM:-0600
TZOFFSETTO:-0500
TZNAME:CDT
DTSTART:20250309T080000
END:DAYLIGHT
BEGIN:STANDARD
TZOFFSETFROM:-0500
TZOFFSETTO:-0600
TZNAME:CST
DTSTART:20251102T070000
END:STANDARD
BEGIN:DAYLIGHT
TZOFFSETFROM:-0600
TZOFFSETTO:-0500
TZNAME:CDT
DTSTART:20260308T080000
END:DAYLIGHT
BEGIN:STANDARD
TZOFFSETFROM:-0500
TZOFFSETTO:-0600
TZNAME:CST
DTSTART:20261101T070000
END:STANDARD
BEGIN:DAYLIGHT
TZOFFSETFROM:-0600
TZOFFSETTO:-0500
TZNAME:CDT
DTSTART:20270314T080000
END:DAYLIGHT
BEGIN:STANDARD
TZOFFSETFROM:-0500
TZOFFSETTO:-0600
TZNAME:CST
DTSTART:20271107T070000
END:STANDARD
END:VTIMEZONE
BEGIN:VEVENT
DTSTART;TZID=America/Chicago:20260425T180000
DTEND;TZID=America/Chicago:20260425T210000
DTSTAMP:20260421T040654
CREATED:20260317T175715Z
LAST-MODIFIED:20260317T175715Z
UID:10006224-1777140000-1777150800@getawaytomurder.com
SUMMARY:Birmingham\, AL - The Dinner Detective Murder Mystery Dinner
DESCRIPTION:North America’s largest interactive true crime murder mystery dinner show is now playing in Birmingham\, AL! Witness a hilarious mystery while you feast on a fantastic dinner. Just beware! The culprit is hiding in plain sight somewhere in the room\, and you may find yourself as a Prime Suspect before you know it! \nJoin us for a Birmingham\, AL true crime murder mystery experience that is very different from a traditional murder mystery dinner show. Our actors are not dressed in costume and are hidden in the audience! This results in a fun\, social and interactive evening suitable for all adults. \nEach ticket includes our signature award-winning murder mystery dinner show\, along with a full plated dinner\, waitstaff gratuity\, and plenty of surprises during the show. \nHosting a group party or private event in Birmingham\, AL? We specialize in custom private events for companies\, groups\, and organizations of almost every size! We can host your event onsite at our public show location\, or we can bring a show to your home\, business\, or venue. \n\nOur Menu\n\n\n\n\nSalad🥗 Fresh Greens House – A Vibrant Mix Of Crisp Seasonal Greens\, Ripe Tomatoes\, Crunchy Cucumbers\, And A Touch Of Tangy Red Onion. Served With Your Choice Of Ranch Or Balsamic Dressing On The Side. \nEntrée Selections (Choose One)🍗 Roasted Chicken Breast – Tender\, Juicy Chicken Roasted To Perfection And Seasoned With Aromatic Herbs And Spices. Served With Golden Roasted Potatoes And Fresh Seasonal Vegetables.🐟 Blackened Salmon – Wild-Caught Salmon Fillet Seared With A Bold Blackened Spice Blend For A Smoky\, Flavorful Crust. Paired With Roasted Potatoes And Fresh Seasonal Vegetables.🌱 Vegetarian Penne Pasta – Gluten-Free Penne Tossed With Leeks\, Broccolini\, And Caramelized Onion In A Light Mushroom-Cashew Cream Sauce For A Wholesome\, Satisfying Entrée. \nDessert🍰 Chef’s Choice Dessert – A Sweet Finale Crafted Fresh By Our Pastry Chef. \nBeveragesIced Tea\, Hot Tea\, And Coffee (Served Upon Request).
URL:https://getawaytomurder.com/event/birmingham-al-the-dinner-detective-murder-mystery-dinner/2026-04-25/
LOCATION:MARRIOTT BIRMINGHAM – DINNER DETECTIVE BIRMINGHAM\, 3590 Grandview Parkway\, Birmingham\, AL\, 35243\, United States
CATEGORIES:Dinner Detective,Dinner Theater,Food & Drink,Murder Mystery Dinner
GEO:33.4360795;-86.7173144
X-APPLE-STRUCTURED-LOCATION;VALUE=URI;X-ADDRESS=MARRIOTT BIRMINGHAM – DINNER DETECTIVE BIRMINGHAM 3590 Grandview Parkway Birmingham AL 35243 United States;X-APPLE-RADIUS=500;X-TITLE=3590 Grandview Parkway:geo:-86.7173144,33.4360795
END:VEVENT
BEGIN:VEVENT
DTSTART;TZID=America/Chicago:20260509T180000
DTEND;TZID=America/Chicago:20260509T210000
DTSTAMP:20260421T040654
CREATED:20260317T175715Z
LAST-MODIFIED:20260317T175715Z
UID:10006225-1778349600-1778360400@getawaytomurder.com
SUMMARY:Birmingham\, AL - The Dinner Detective Murder Mystery Dinner
DESCRIPTION:North America’s largest interactive true crime murder mystery dinner show is now playing in Birmingham\, AL! Witness a hilarious mystery while you feast on a fantastic dinner. Just beware! The culprit is hiding in plain sight somewhere in the room\, and you may find yourself as a Prime Suspect before you know it! \nJoin us for a Birmingham\, AL true crime murder mystery experience that is very different from a traditional murder mystery dinner show. Our actors are not dressed in costume and are hidden in the audience! This results in a fun\, social and interactive evening suitable for all adults. \nEach ticket includes our signature award-winning murder mystery dinner show\, along with a full plated dinner\, waitstaff gratuity\, and plenty of surprises during the show. \nHosting a group party or private event in Birmingham\, AL? We specialize in custom private events for companies\, groups\, and organizations of almost every size! We can host your event onsite at our public show location\, or we can bring a show to your home\, business\, or venue. \n\nOur Menu\n\n\n\n\nSalad🥗 Fresh Greens House – A Vibrant Mix Of Crisp Seasonal Greens\, Ripe Tomatoes\, Crunchy Cucumbers\, And A Touch Of Tangy Red Onion. Served With Your Choice Of Ranch Or Balsamic Dressing On The Side. \nEntrée Selections (Choose One)🍗 Roasted Chicken Breast – Tender\, Juicy Chicken Roasted To Perfection And Seasoned With Aromatic Herbs And Spices. Served With Golden Roasted Potatoes And Fresh Seasonal Vegetables.🐟 Blackened Salmon – Wild-Caught Salmon Fillet Seared With A Bold Blackened Spice Blend For A Smoky\, Flavorful Crust. Paired With Roasted Potatoes And Fresh Seasonal Vegetables.🌱 Vegetarian Penne Pasta – Gluten-Free Penne Tossed With Leeks\, Broccolini\, And Caramelized Onion In A Light Mushroom-Cashew Cream Sauce For A Wholesome\, Satisfying Entrée. \nDessert🍰 Chef’s Choice Dessert – A Sweet Finale Crafted Fresh By Our Pastry Chef. \nBeveragesIced Tea\, Hot Tea\, And Coffee (Served Upon Request).
URL:https://getawaytomurder.com/event/birmingham-al-the-dinner-detective-murder-mystery-dinner/2026-05-09/
LOCATION:MARRIOTT BIRMINGHAM – DINNER DETECTIVE BIRMINGHAM\, 3590 Grandview Parkway\, Birmingham\, AL\, 35243\, United States
CATEGORIES:Dinner Detective,Dinner Theater,Food & Drink,Murder Mystery Dinner
GEO:33.4360795;-86.7173144
X-APPLE-STRUCTURED-LOCATION;VALUE=URI;X-ADDRESS=MARRIOTT BIRMINGHAM – DINNER DETECTIVE BIRMINGHAM 3590 Grandview Parkway Birmingham AL 35243 United States;X-APPLE-RADIUS=500;X-TITLE=3590 Grandview Parkway:geo:-86.7173144,33.4360795
END:VEVENT
BEGIN:VEVENT
DTSTART;TZID=America/Chicago:20260523T180000
DTEND;TZID=America/Chicago:20260523T210000
DTSTAMP:20260421T040654
CREATED:20260317T175715Z
LAST-MODIFIED:20260317T175715Z
UID:10006226-1779559200-1779570000@getawaytomurder.com
SUMMARY:Birmingham\, AL - The Dinner Detective Murder Mystery Dinner
DESCRIPTION:North America’s largest interactive true crime murder mystery dinner show is now playing in Birmingham\, AL! Witness a hilarious mystery while you feast on a fantastic dinner. Just beware! The culprit is hiding in plain sight somewhere in the room\, and you may find yourself as a Prime Suspect before you know it! \nJoin us for a Birmingham\, AL true crime murder mystery experience that is very different from a traditional murder mystery dinner show. Our actors are not dressed in costume and are hidden in the audience! This results in a fun\, social and interactive evening suitable for all adults. \nEach ticket includes our signature award-winning murder mystery dinner show\, along with a full plated dinner\, waitstaff gratuity\, and plenty of surprises during the show. \nHosting a group party or private event in Birmingham\, AL? We specialize in custom private events for companies\, groups\, and organizations of almost every size! We can host your event onsite at our public show location\, or we can bring a show to your home\, business\, or venue. \n\nOur Menu\n\n\n\n\nSalad🥗 Fresh Greens House – A Vibrant Mix Of Crisp Seasonal Greens\, Ripe Tomatoes\, Crunchy Cucumbers\, And A Touch Of Tangy Red Onion. Served With Your Choice Of Ranch Or Balsamic Dressing On The Side. \nEntrée Selections (Choose One)🍗 Roasted Chicken Breast – Tender\, Juicy Chicken Roasted To Perfection And Seasoned With Aromatic Herbs And Spices. Served With Golden Roasted Potatoes And Fresh Seasonal Vegetables.🐟 Blackened Salmon – Wild-Caught Salmon Fillet Seared With A Bold Blackened Spice Blend For A Smoky\, Flavorful Crust. Paired With Roasted Potatoes And Fresh Seasonal Vegetables.🌱 Vegetarian Penne Pasta – Gluten-Free Penne Tossed With Leeks\, Broccolini\, And Caramelized Onion In A Light Mushroom-Cashew Cream Sauce For A Wholesome\, Satisfying Entrée. \nDessert🍰 Chef’s Choice Dessert – A Sweet Finale Crafted Fresh By Our Pastry Chef. \nBeveragesIced Tea\, Hot Tea\, And Coffee (Served Upon Request).
URL:https://getawaytomurder.com/event/birmingham-al-the-dinner-detective-murder-mystery-dinner/2026-05-23/
LOCATION:MARRIOTT BIRMINGHAM – DINNER DETECTIVE BIRMINGHAM\, 3590 Grandview Parkway\, Birmingham\, AL\, 35243\, United States
CATEGORIES:Dinner Detective,Dinner Theater,Food & Drink,Murder Mystery Dinner
GEO:33.4360795;-86.7173144
X-APPLE-STRUCTURED-LOCATION;VALUE=URI;X-ADDRESS=MARRIOTT BIRMINGHAM – DINNER DETECTIVE BIRMINGHAM 3590 Grandview Parkway Birmingham AL 35243 United States;X-APPLE-RADIUS=500;X-TITLE=3590 Grandview Parkway:geo:-86.7173144,33.4360795
END:VEVENT
BEGIN:VEVENT
DTSTART;TZID=America/Chicago:20260613T180000
DTEND;TZID=America/Chicago:20260613T210000
DTSTAMP:20260421T040654
CREATED:20260317T175715Z
LAST-MODIFIED:20260317T175715Z
UID:10006227-1781373600-1781384400@getawaytomurder.com
SUMMARY:Birmingham\, AL - The Dinner Detective Murder Mystery Dinner
DESCRIPTION:North America’s largest interactive true crime murder mystery dinner show is now playing in Birmingham\, AL! Witness a hilarious mystery while you feast on a fantastic dinner. Just beware! The culprit is hiding in plain sight somewhere in the room\, and you may find yourself as a Prime Suspect before you know it! \nJoin us for a Birmingham\, AL true crime murder mystery experience that is very different from a traditional murder mystery dinner show. Our actors are not dressed in costume and are hidden in the audience! This results in a fun\, social and interactive evening suitable for all adults. \nEach ticket includes our signature award-winning murder mystery dinner show\, along with a full plated dinner\, waitstaff gratuity\, and plenty of surprises during the show. \nHosting a group party or private event in Birmingham\, AL? We specialize in custom private events for companies\, groups\, and organizations of almost every size! We can host your event onsite at our public show location\, or we can bring a show to your home\, business\, or venue. \n\nOur Menu\n\n\n\n\nSalad🥗 Fresh Greens House – A Vibrant Mix Of Crisp Seasonal Greens\, Ripe Tomatoes\, Crunchy Cucumbers\, And A Touch Of Tangy Red Onion. Served With Your Choice Of Ranch Or Balsamic Dressing On The Side. \nEntrée Selections (Choose One)🍗 Roasted Chicken Breast – Tender\, Juicy Chicken Roasted To Perfection And Seasoned With Aromatic Herbs And Spices. Served With Golden Roasted Potatoes And Fresh Seasonal Vegetables.🐟 Blackened Salmon – Wild-Caught Salmon Fillet Seared With A Bold Blackened Spice Blend For A Smoky\, Flavorful Crust. Paired With Roasted Potatoes And Fresh Seasonal Vegetables.🌱 Vegetarian Penne Pasta – Gluten-Free Penne Tossed With Leeks\, Broccolini\, And Caramelized Onion In A Light Mushroom-Cashew Cream Sauce For A Wholesome\, Satisfying Entrée. \nDessert🍰 Chef’s Choice Dessert – A Sweet Finale Crafted Fresh By Our Pastry Chef. \nBeveragesIced Tea\, Hot Tea\, And Coffee (Served Upon Request).
URL:https://getawaytomurder.com/event/birmingham-al-the-dinner-detective-murder-mystery-dinner/2026-06-13/
LOCATION:MARRIOTT BIRMINGHAM – DINNER DETECTIVE BIRMINGHAM\, 3590 Grandview Parkway\, Birmingham\, AL\, 35243\, United States
CATEGORIES:Dinner Detective,Dinner Theater,Food & Drink,Murder Mystery Dinner
GEO:33.4360795;-86.7173144
X-APPLE-STRUCTURED-LOCATION;VALUE=URI;X-ADDRESS=MARRIOTT BIRMINGHAM – DINNER DETECTIVE BIRMINGHAM 3590 Grandview Parkway Birmingham AL 35243 United States;X-APPLE-RADIUS=500;X-TITLE=3590 Grandview Parkway:geo:-86.7173144,33.4360795
END:VEVENT
END:VCALENDAR