BEGIN:VCALENDAR
VERSION:2.0
PRODID:-//Getaway to Murder - ECPv6.15.20//NONSGML v1.0//EN
CALSCALE:GREGORIAN
METHOD:PUBLISH
X-WR-CALNAME:Getaway to Murder
X-ORIGINAL-URL:https://getawaytomurder.com
X-WR-CALDESC:Events for Getaway to Murder
REFRESH-INTERVAL;VALUE=DURATION:PT1H
X-Robots-Tag:noindex
X-PUBLISHED-TTL:PT1H
BEGIN:VTIMEZONE
TZID:America/New_York
BEGIN:DAYLIGHT
TZOFFSETFROM:-0500
TZOFFSETTO:-0400
TZNAME:EDT
DTSTART:20250309T070000
END:DAYLIGHT
BEGIN:STANDARD
TZOFFSETFROM:-0400
TZOFFSETTO:-0500
TZNAME:EST
DTSTART:20251102T060000
END:STANDARD
BEGIN:DAYLIGHT
TZOFFSETFROM:-0500
TZOFFSETTO:-0400
TZNAME:EDT
DTSTART:20260308T070000
END:DAYLIGHT
BEGIN:STANDARD
TZOFFSETFROM:-0400
TZOFFSETTO:-0500
TZNAME:EST
DTSTART:20261101T060000
END:STANDARD
BEGIN:DAYLIGHT
TZOFFSETFROM:-0500
TZOFFSETTO:-0400
TZNAME:EDT
DTSTART:20270314T070000
END:DAYLIGHT
BEGIN:STANDARD
TZOFFSETFROM:-0400
TZOFFSETTO:-0500
TZNAME:EST
DTSTART:20271107T060000
END:STANDARD
END:VTIMEZONE
BEGIN:VTIMEZONE
TZID:Europe/London
BEGIN:DAYLIGHT
TZOFFSETFROM:+0000
TZOFFSETTO:+0100
TZNAME:BST
DTSTART:20250330T010000
END:DAYLIGHT
BEGIN:STANDARD
TZOFFSETFROM:+0100
TZOFFSETTO:+0000
TZNAME:GMT
DTSTART:20251026T010000
END:STANDARD
BEGIN:DAYLIGHT
TZOFFSETFROM:+0000
TZOFFSETTO:+0100
TZNAME:BST
DTSTART:20260329T010000
END:DAYLIGHT
BEGIN:STANDARD
TZOFFSETFROM:+0100
TZOFFSETTO:+0000
TZNAME:GMT
DTSTART:20261025T010000
END:STANDARD
BEGIN:DAYLIGHT
TZOFFSETFROM:+0000
TZOFFSETTO:+0100
TZNAME:BST
DTSTART:20270328T010000
END:DAYLIGHT
BEGIN:STANDARD
TZOFFSETFROM:+0100
TZOFFSETTO:+0000
TZNAME:GMT
DTSTART:20271031T010000
END:STANDARD
END:VTIMEZONE
BEGIN:VEVENT
DTSTART;TZID=America/New_York:20260501T000000
DTEND;TZID=America/New_York:20260503T235959
DTSTAMP:20260421T063119
CREATED:20260227T190457Z
LAST-MODIFIED:20260227T190457Z
UID:10004680-1777593600-1777852799@getawaytomurder.com
SUMMARY:Newfoundland\, PA - Murder Mystery in the Poconos May 1-3
DESCRIPTION:Murder Mystery Packages in the Poconos\n\n\nFor more than 15 years\, mysterious characters have rendezvoused at our bed and breakfast in Newfoundland\, Pennsylvania\, where for three days and two nights\, murder\, mystery and mayhem seem to prevail. The cast of characters are guests who join us for a Murder Mystery Weekend\, each designed around a theme or event or time period in history. We’ve entertained mobsters and molls from the ’50s\, flower children and hippies at Woodstock. Who will win? Who will lose? And who will never be heard from again? All will be revealed in our next Murder Mystery Weekend! \n\n\n\n\nUpcoming Dates\n\n\n\n\n\nMay 1-3\n\n“MURDER ON THE OREGON TRAIL” BY BRAD CHRISTMAN \n\n\nIt’s 1840\, and the trail from Independence\, Missouri to Oregon City is not for the meek. Those are 2\,174 of the most dangerous miles in the world. As your wagon train continues its perilous journey\, a stopover is needed in the wild west town of Ford City. This is a chance to resupply\, mingle with the townspeople and maybe even sleep in a real bed for one night. Ford City has no recognized government\, but a U.S. Marshal has the authority to keep the peace\, settle disputes and perhaps even try to solve a…Murder on the Oregon Trail… \nDates for this Murder Mystery: \n\nMay 1-3\n\nMurder Mystery Package Rates Include: \n\nPersonal mystery information and character name\,\nWelcome wine and cheese party Friday night\,\nFull country breakfast each morning\,\nMurder Mystery Party with live music and Mystery Cocktail Party Saturday evening\,\nGourmet Dinner Saturday night\,\nPrizes awarded during Sunday breakfast\, and\, of course\,\nAll activities and amenities offered at The French Manor Inn & Spa\nPlease call 1-570-676-3244 for availability\nClick Here to check availability and book online
URL:https://getawaytomurder.com/event/newfoundland-pa-murder-mystery-in-the-poconos-may-1-3/
LOCATION:THE FRENCH MANOR INN AND SPA\, 50 Huntingdon Drive\, Newfoundland\, PA\, 18445\, United States
CATEGORIES:Dinner Theater,Food & Drink,Murder Mystery Dinner,Murder Mystery Weekend
GEO:41.2832665;-75.3402352
X-APPLE-STRUCTURED-LOCATION;VALUE=URI;X-ADDRESS=THE FRENCH MANOR INN AND SPA 50 Huntingdon Drive Newfoundland PA 18445 United States;X-APPLE-RADIUS=500;X-TITLE=50 Huntingdon Drive:geo:-75.3402352,41.2832665
END:VEVENT
BEGIN:VEVENT
DTSTART;TZID=Europe/London:20260501T190000
DTEND;TZID=Europe/London:20260501T230000
DTSTAMP:20260421T063119
CREATED:20260304T185437Z
LAST-MODIFIED:20260304T185437Z
UID:10004732-1777662000-1777676400@getawaytomurder.com
SUMMARY:Solihull\, UK - Cold Feet & Fatal Vows
DESCRIPTION:Event Description\n\nThe Plot\nThe cake is cut\, the champagne is poured\, and the happy couple are ready to say “I do” — but someone’s about to say “goodbye.” As secrets spill faster than the bubbly\, it seems cold feet aren’t the only deadly thing at this wedding. Love\, lies\, and lethal intentions make for one unforgettable night of matrimony and murder. \nDress Code \nDressing up to match the event’s theme adds to the fun and atmosphere\, and wedding guest attire is especially encouraged! That said\, costumes are completely optional – you’re welcome to join us in whatever makes you feel most comfortable. \nItinerary \nThe doors open at 7:00pm and performance commences at 7:30pm\nThe event will end between 10:00 and 10:30pm\n3 course dinner included \n*By purchasing tickets\, you consent to the sharing of your contact details with the host venue\, who will need to contact you regarding your menu selections \nKeep Exploring \nFollow us on Instagram \nClick here to see more of our events
URL:https://getawaytomurder.com/event/solihull-uk-cold-feet-fatal-vows/
LOCATION:NUTHURST GRANGE HOTEL\, Nuthurst Ln\, Solihull\, B94 5NL\, United Kingdom
CATEGORIES:Dinner Theater,Food & Drink,Murder Mystery Dinner
GEO:52.3458402;-1.7804242
X-APPLE-STRUCTURED-LOCATION;VALUE=URI;X-ADDRESS=NUTHURST GRANGE HOTEL Nuthurst Ln Solihull B94 5NL United Kingdom;X-APPLE-RADIUS=500;X-TITLE=Nuthurst Ln:geo:-1.7804242,52.3458402
END:VEVENT
BEGIN:VEVENT
DTSTART;TZID=Europe/London:20260508T190000
DTEND;TZID=Europe/London:20260508T223000
DTSTAMP:20260421T063119
CREATED:20260304T193045Z
LAST-MODIFIED:20260304T193045Z
UID:10004739-1778266800-1778279400@getawaytomurder.com
SUMMARY:Chester-Le-Street\, UK - Murder Mystery Dinner: The Christie Murder Club
DESCRIPTION:Murder Mystery Dinner: The Christie Murder Club\n\nFriday 8th May 2026\n\n\nA group of true crime devotees gather under the banner of the Christie Murder Club\, determined to crack cold cases that have baffled the experts. Dressed as Miss Marple or Sherlock Holmes\, they immerse themselves in clues between cups of tea and well-thumbed recipe books. \nBut their harmless hobby takes a darker turn when their questions stir up someone who would rather the past remain buried. Now the Christie Murder Club must solve their first case or risk becoming the next unsolved mystery. \nEvent Information:  \nBar Opens: 18:30 \nEntertainment Begins: 19:00 (approx.) \nDinner Served Throughout \nEntertainment Ends: 22:30 (approx.) \nBar Closes: 23:30 \nDisco to Follow Until: 00:00 \nDresscode: Smart Casual \nAge Restriction: 16+ only \nFor more information\, contact: events@lumleycastle.com
URL:https://getawaytomurder.com/event/chester-le-street-uk-murder-mystery-dinner-the-christie-murder-club/
LOCATION:LUMLEY CASTLE\, Ropery Lane\, Chester-Le-Street\, County Durham\, DH3 4NX\, United Kingdom
CATEGORIES:Dinner Theater,Food & Drink,Murder Mystery Dinner
GEO:54.8511698;-1.5513008
X-APPLE-STRUCTURED-LOCATION;VALUE=URI;X-ADDRESS=LUMLEY CASTLE Ropery Lane Chester-Le-Street County Durham DH3 4NX United Kingdom;X-APPLE-RADIUS=500;X-TITLE=Ropery Lane:geo:-1.5513008,54.8511698
END:VEVENT
BEGIN:VEVENT
DTSTART;TZID=America/New_York:20260509T000000
DTEND;TZID=America/New_York:20260509T235959
DTSTAMP:20260421T063119
CREATED:20260220T011111Z
LAST-MODIFIED:20260227T153645Z
UID:10003449-1778284800-1778371199@getawaytomurder.com
SUMMARY:Defuniak Springs\, FL - Mardi Gras Murder Mystery Experience
DESCRIPTION:About “ICMT Murder Mystery Co”\n\n\nImprobable Cause Murder Mystery Theatre is a family mystery theatre which features local professional and non-professional actors in a live\, interactive and comedic experience with audience members as they work individually (or in groups) to solve the “murder” through physical clues\, spoken dialogue and inferred character motives. In this 90-120 minute show\, audiences enjoy delicious hors d’oeuvres and great entertainment at a venue which brings in revenue for the client and supports the local arts community. \n\n\nICMT Murder Mystery Company was founded by owner Nicole Dickson in the Spring of 2017 and has been in operation in the Pensacola area since that time. In January 2020 ICMT expanded its reach to venues in the greater Gulf Coast area. Improbable Cause Mystery Theatre is currently managed in Pensacola by ICMT members Clayton Habecker & Brandon Mayo; and by founder Nicole Dickson in the expansion beyond Pensacola (known as Improbable Cause Mystery Theatre). \n\nICMT Murder Mystery Co. can also be contracted for private events & corporate functions separate from its monthly venue shows. \n\n\n\n\n\n\n\nInformation About The Murder Mystery Event At Sunbright\n\n\nFirst of all\, Sunbright Inn will host a murder mystery event. Second of all\, we will provide heavy hors d’oeuvres. If you book a room durning the show a 10% discount will be provided on your room rate. You must purchase a ticket in order to get the discount. Tickets are available to the public as well. Tickets are sold for $75 + tax per person. With limit tickets\, tickets will sell fast so order now! ICMT will perform for the event. \n\n\n\nPurchase Tickets Here\n\n\nDoors open at 6:30 p.m.\, show begin at 7PM\, and includes the complete interactive mystery theatre experience\, heavy hors d’oeuvres and non-alcoholic drinks throughout the event. \nFuture Event Dates: \n\n\n\n\n\n\nMay 9\, 2026 – Ticket link coming soon! \n\n\n\n\n\n\nMake a reservation for the night of the mystery theatre event. Dates are listed above so therefore\, book now while tickets last. Rooms will be part of the event. Any questions about rooms being part of the event\, please contact Sunbright Inn at 850-920-9920. Use promotion code ICMT25 to get 10% off your room rate.
URL:https://getawaytomurder.com/event/defuniak-springs-fl-mardi-gras-murder-mystery-experience/
LOCATION:SUNBRIGHT INN\, 30 Live Oak Ave W\, Defuniak Springs\, FL\, 32435\, United States
GEO:30.7201017;-86.1216477
X-APPLE-STRUCTURED-LOCATION;VALUE=URI;X-ADDRESS=SUNBRIGHT INN 30 Live Oak Ave W Defuniak Springs FL 32435 United States;X-APPLE-RADIUS=500;X-TITLE=30 Live Oak Ave W:geo:-86.1216477,30.7201017
END:VEVENT
BEGIN:VEVENT
DTSTART;TZID=America/New_York:20260516T190000
DTEND;TZID=America/New_York:20260516T213000
DTSTAMP:20260421T063119
CREATED:20260227T185705Z
LAST-MODIFIED:20260227T185705Z
UID:10004678-1778958000-1778967000@getawaytomurder.com
SUMMARY:Lahaska\, PA - ‘Til Death Do Us Part!
DESCRIPTION:All is fair in love and murder\nPresented in partnership with The Murder Mystery Co. \nA picture-perfect wedding takes an unexpected and deadly turn when a member of the bridal party is found murdered. As sparks fly between a demanding bride and a less-than-eager groom\, secrets\, rivalries\, and hidden agendas are revealed to the astonished guests. \nGuests are invited to step into this “marry” mystery—sharing theories\, uncovering clues\, and savoring the twists along the way—to solve the crime before the final vows are exchanged. Will justice prevail or will this celebration become the most unforgettable “I don’t” in wedding history? \nPlease note: Parties of fewer than ten people will likely be seated with others. The guests at each table will work together to solve the mystery. Part of the fun of this event is meeting and talking with new people. After the event\, you just might add new friendships to the list of evening accomplishments! \n\nPURCHASE TICKETS\n\nWhat\nAn interactive murder mystery dinner featuring professional actors and several guests who become…suspects \nCost: $77 per person + processing fee. Gratuity included. \nWhen\nSaturday\, May 16 from 7:00 – 9:30 p.m. \nPlease arrive by 6:00 p.m. in the Cock ‘n Bull lobby (located at Route 263 & Street Road\, Lahaska\, PA 18931) \nWhere\nCock ‘n Bull Restaurant\n(See accessibility information below) \n\nMenu\nSTARTER\nGarden Salad  (GF)\nbalsamic vinaigrette \nENTREE\nChoice of one:\nRoasted Chicken Breast\nCornbread stuffing\, asparagus\, chicken jus \nCherry Glazed Grilled Salmon (GF)\nRoasted potato\, roasted corn succotash \nGinger-BBQ Short Rib\nSmashed potatoes\, asparagus \nRoasted Vegetable Frites (GF / V)\nBaby portobello mushrooms\, baby carrots\, broccoli\, broiled tomatoes\, fries\, served with a red wine reduction \nDESSERT\nCheesecake\nberry sauce \nCASH BAR\nOpens at 6:30 p.m. through end of show \n\nImportant notes\n\nSome adult humor. Guests should be 18 and over.\nGuests are encouraged to wear festive and creative wedding-themed attire.\nThis is designed as an interactive mystery in which guests are encouraged\, but not required\, to pose questions to actors and suspects to solve the mystery\n\nMAKE IT AN OVERNIGHT STAY\nHere’s a clue to turn your murder mystery evening into an overnight stay: book a room at the Golden Plough Inn at Peddler’s Village! Learn more. \n\nCANCELLATION POLICY\nThis event is rain or shine. Tickets purchased for Murder Mystery Events at Peddler’s Village are non-refundable. If you cannot attend your reserved date\, please call 215-794-4037 at least 4 days prior to your reserved date to reschedule your reservation to a later show. Peddler’s Village reserves the right to cancel show dates. Bookings for murder mystery guests at the Golden Plough Inn are also non-refundable unless cancelled at least four days in advance. \nNote: Guests will not receive physical tickets for this event. A completed purchase registers guests automatically for the event and guests can check-in with their names. Your email receipt serves as proof of purchase but guests do not need to present it at the performance. \nSeating\nSeating is general admission. Please note that parties fewer than ten will share a table with other attendees. Please put seating preferences in the appropriate box at checkout\, and we will try and accommodate your request. \nDietary Restrictions\nPlease list any dietary restrictions and allergies in the “Additional Information” box located on the upcoming Checkout page. We recommend booking by phone (215-794-4037) so we can best accommodate your diet. \nAccessibility\nShows will be held in the second floor banquet rooms of Cock ‘n Bull Restaurant\, which are accessible by both elevator and staircase. Please call our Reservation Manager at 215-794-4037 from 10:00 a.m.-5:00 p.m. for more information. \nPhotography\nAttendance at our events implies permission for us and other entities to include you in any photographs shared on any public platforms\, digital or otherwise. If you object to appearing in any photographs\, please email info@peddlersvillage.com. \n\n\n\n\n\n\n\n\n\n\n\n\n\n\nBe aware of potential scams!\nNever purchase tickets for a Peddler’s Village event from an unknown third party. Contact Guest Services (215-794-4051 or gservices@peddlersvillage.com) to ask about tickets availability\, wait lists\, etc. Peddler’s Village will NOT honor any tickets that are not purchased directly from PeddlersVillage.com or in person at our Visitor & Event Center.
URL:https://getawaytomurder.com/event/lahaska-pa-til-death-do-us-part/
LOCATION:COCK ‘N BULL RESTAURANT AT PEDDLER VILLAGE\, Route 263 & Street Road\, Lahaska\, PA\, 18931\, United States
CATEGORIES:Dinner Theater,Food & Drink,Murder Mystery Dinner
GEO:40.3487567;-75.0324927
X-APPLE-STRUCTURED-LOCATION;VALUE=URI;X-ADDRESS=COCK ‘N BULL RESTAURANT AT PEDDLER VILLAGE Route 263 & Street Road Lahaska PA 18931 United States;X-APPLE-RADIUS=500;X-TITLE=Route 263 & Street Road:geo:-75.0324927,40.3487567
END:VEVENT
END:VCALENDAR