BEGIN:VCALENDAR
VERSION:2.0
PRODID:-//Getaway to Murder - ECPv6.15.20//NONSGML v1.0//EN
CALSCALE:GREGORIAN
METHOD:PUBLISH
X-ORIGINAL-URL:https://getawaytomurder.com
X-WR-CALDESC:Events for Getaway to Murder
REFRESH-INTERVAL;VALUE=DURATION:PT1H
X-Robots-Tag:noindex
X-PUBLISHED-TTL:PT1H
BEGIN:VTIMEZONE
TZID:America/New_York
BEGIN:DAYLIGHT
TZOFFSETFROM:-0500
TZOFFSETTO:-0400
TZNAME:EDT
DTSTART:20250309T070000
END:DAYLIGHT
BEGIN:STANDARD
TZOFFSETFROM:-0400
TZOFFSETTO:-0500
TZNAME:EST
DTSTART:20251102T060000
END:STANDARD
BEGIN:DAYLIGHT
TZOFFSETFROM:-0500
TZOFFSETTO:-0400
TZNAME:EDT
DTSTART:20260308T070000
END:DAYLIGHT
BEGIN:STANDARD
TZOFFSETFROM:-0400
TZOFFSETTO:-0500
TZNAME:EST
DTSTART:20261101T060000
END:STANDARD
BEGIN:DAYLIGHT
TZOFFSETFROM:-0500
TZOFFSETTO:-0400
TZNAME:EDT
DTSTART:20270314T070000
END:DAYLIGHT
BEGIN:STANDARD
TZOFFSETFROM:-0400
TZOFFSETTO:-0500
TZNAME:EST
DTSTART:20271107T060000
END:STANDARD
END:VTIMEZONE
BEGIN:VTIMEZONE
TZID:America/Los_Angeles
BEGIN:DAYLIGHT
TZOFFSETFROM:-0800
TZOFFSETTO:-0700
TZNAME:PDT
DTSTART:20250309T100000
END:DAYLIGHT
BEGIN:STANDARD
TZOFFSETFROM:-0700
TZOFFSETTO:-0800
TZNAME:PST
DTSTART:20251102T090000
END:STANDARD
BEGIN:DAYLIGHT
TZOFFSETFROM:-0800
TZOFFSETTO:-0700
TZNAME:PDT
DTSTART:20260308T100000
END:DAYLIGHT
BEGIN:STANDARD
TZOFFSETFROM:-0700
TZOFFSETTO:-0800
TZNAME:PST
DTSTART:20261101T090000
END:STANDARD
BEGIN:DAYLIGHT
TZOFFSETFROM:-0800
TZOFFSETTO:-0700
TZNAME:PDT
DTSTART:20270314T100000
END:DAYLIGHT
BEGIN:STANDARD
TZOFFSETFROM:-0700
TZOFFSETTO:-0800
TZNAME:PST
DTSTART:20271107T090000
END:STANDARD
END:VTIMEZONE
BEGIN:VEVENT
DTSTART;TZID=America/New_York:20260425T190000
DTEND;TZID=America/New_York:20260425T213000
DTSTAMP:20260421T051842
CREATED:20260227T185516Z
LAST-MODIFIED:20260227T185528Z
UID:10004677-1777143600-1777152600@getawaytomurder.com
SUMMARY:Lahaska\, PA - I Love the 80s to Death
DESCRIPTION:A Rockin’ Radical Night of Music and Intrigue\nPresented in partnership with The Murder Mystery Co. \nPut on some 80s garb\, muster your best murder-solving skills\, and join us for a rollicking\, interactive mystery party! \nStep back into the decade of big hair\, leg warmers\, Members Only jackets\, and some of the best top-40 tunes ever to hit the airwaves! \nHere’s the situation: Big-name musicians are gathering for a big concert\, but backstage tensions are high. Secrets are spilling out with\, like\, totally tragic results. This isn’t a TV episode of Miami Vice. It’s\, really\, like…murder. \nBut you’re about to solve the crime in style—80s style\, that is! Remember: It’s no time to be Too Shy. You are a Smooth Operator\, and you know to listen to those Careless Whispers. It’s time to put on your Sunglasses at Night and Relax. Time after Time…You’ll collect the clues and solve the case. \nPlease note: Parties of fewer than ten people will likely be seated with others. The guests at each table will work together to solve the mystery. Part of the fun of this event is meeting and talking with new people. After the event\, you just might add new friendships to the list of evening accomplishments! \n\nPURCHASE TICKETS\n\nWhat\nAn interactive murder mystery dinner featuring professional actors and several guests who become…suspects \nCost: $77 per person + processing fee. Gratuity included. \nWhen\nSaturday\, April 25 from 7:00 – 9:30 p.m. \nPlease arrive by 6:00 p.m. in the Cock ‘n Bull lobby (located at Route 263 & Street Road\, Lahaska\, PA 18931) \nWhere\nCock ‘n Bull Restaurant\n(See accessibility information below) \n\nMenu\nSTARTER\nGarden Salad  \nENTREE\nChoice of one:\nShort Ribs (GF)\nmashed potatoes\, baby carrots & braised greens\, brandy jus \nRoasted Salmon (GF)\ncarrot-ginger puree\, grilled scallion quinoa\, miso-mustard sauce \nHerbs de Provence Roasted Chicken (GF)\nroasted-garlic mashed potatoes\, butternut squash & apple hash\, thyme sauce \nEggplant Dumpling Puttanesca (vegetarian)\norecchiette pasta\, eggplant dumplings\, puttanesca sauce \nDESSERT\nCheesecake\nberry sauce \nCASH BAR\nOpens at 6:30 p.m. through end of show \n\nImportant notes\n\nSome adult humor. Guests should be 18 and over.\nGuests are encouraged\, but not required\, to wear 80s clothing and costumes. Some ideas:\nNeon colors\nLeg warmers\nRay-Ban sunglasses\nRipped\, off-the-shoulder sweatshirts\nJean or leather jackets\nBig hair\nAccessories such as headbands\, wrist cuffs\, fingerless gloves\, chains\, or beads\nThis is designed as an interactive mystery in which guests are encouraged\, but not required\, to pose questions to actors and suspects to solve the mystery\n\nMAKE IT AN OVERNIGHT STAY\nHere’s a clue to turn your murder mystery evening into an overnight stay: book a room at the Golden Plough Inn at Peddler’s Village! Learn more. \n\nCANCELLATION POLICY\nThis event is rain or shine. Tickets purchased for Murder Mystery Events at Peddler’s Village are non-refundable. If you cannot attend your reserved date\, please call 215-794-4037 at least 4 days prior to your reserved date to reschedule your reservation to a later show. Peddler’s Village reserves the right to cancel show dates. Bookings for murder mystery guests at the Golden Plough Inn are also non-refundable unless cancelled at least four days in advance. \nNote: Guests will not receive physical tickets for this event. A completed purchase registers guests automatically for the event and guests can check-in with their names. Your email receipt serves as proof of purchase but guests do not need to present it at the performance. \nSeating\nSeating is general admission. Please note that parties fewer than ten will share a table with other attendees. Please put seating preferences in the appropriate box at checkout\, and we will try and accommodate your request. \nDietary Restrictions\nPlease list any dietary restrictions and allergies in the “Additional Information” box located on the upcoming Checkout page. We recommend booking by phone (215-794-4037) so we can best accommodate your diet. \nAccessibility\nShows will be held in the second floor banquet rooms of Cock ‘n Bull Restaurant\, which are accessible by both elevator and staircase. Please call our Reservation Manager at 215-794-4037 from 10:00 a.m.-5:00 p.m. for more information. \nPhotography\nAttendance at our events implies permission for us and other entities to include you in any photographs shared on any public platforms\, digital or otherwise. If you object to appearing in any photographs\, please email info@peddlersvillage.com. \n\n\n\n\n\n\n\n\n\n\nBe aware of potential scams!\nNever purchase tickets for a Peddler’s Village event from an unknown third party. Contact Guest Services (215-794-4051 or gservices@peddlersvillage.com) to ask about tickets availability\, wait lists\, etc. Peddler’s Village will NOT honor any tickets that are not purchased directly from PeddlersVillage.com or in person at our Visitor & Event Center.
URL:https://getawaytomurder.com/event/lahaska-pa-i-love-the-80s-to-death/
LOCATION:COCK ‘N BULL RESTAURANT AT PEDDLER VILLAGE\, Route 263 & Street Road\, Lahaska\, PA\, 18931\, United States
CATEGORIES:Dinner Theater,Food & Drink,Murder Mystery Dinner
GEO:40.3487567;-75.0324927
X-APPLE-STRUCTURED-LOCATION;VALUE=URI;X-ADDRESS=COCK ‘N BULL RESTAURANT AT PEDDLER VILLAGE Route 263 & Street Road Lahaska PA 18931 United States;X-APPLE-RADIUS=500;X-TITLE=Route 263 & Street Road:geo:-75.0324927,40.3487567
END:VEVENT
BEGIN:VEVENT
DTSTART;TZID=America/Los_Angeles:20260425T200000
DTEND;TZID=America/Los_Angeles:20260425T213000
DTSTAMP:20260421T051842
CREATED:20260310T153949Z
LAST-MODIFIED:20260310T153949Z
UID:10004915-1777147200-1777152600@getawaytomurder.com
SUMMARY:San Diego\, CA - Murder By The Bay - Murder Mystery Dinner Show
DESCRIPTION:Murder By The Bay – Murder Mystery Dinner Show\n\n\n\n\n\n\n \n\n\n\n\nJoin us for a thrilling interactive Murder Mystery Dinner Show – it’s gonna be a night to remember! ** 7PM Doors Open – 8PM Show Starts ** \n\n\n\n\nWelcome to the Murder Mystery Dinner Show! \n⭐⭐Dine on the patio\, under the stars as firepits warm the night—and the mystery unfolds. \n\n\n\n\nJoin us for a thrilling and interactive Murder Mystery Experience like no other! Put on your detective hat and enjoy a delicious dinner while trying to solve a murder mystery right before your eyes. Get ready for an evening filled with suspense\, laughter\, and maybe even a little mischief. Don’t miss out on this unique event that will keep you guessing WHODUNIT? until the very end! \n\n\n\n\n\n\n\n\n\nGood to know\n\n\n\n\nHighlights \n\n\n1 hour 30 minutes\nAll ages\nIn person\nDoors at 7PM\nRefund Policy\nNo refunds\n\n\n\n\n\n\n\n\n\n\n\nLocation\n\n\n\n1640 Camino Del Rio N #341\n\n1640 Camino Del Rio North \n#341 San Diego\, CA 92108
URL:https://getawaytomurder.com/event/san-diego-ca-murder-by-the-bay-murder-mystery-dinner-show/
LOCATION:NOVO MISSION VALLEY\, 1640 Camino Del Rio North\, #341\, San Diego\, CA\, 92108\, United States
CATEGORIES:Dinner Theater,Food & Drink,Murder Mystery Dinner
GEO:32.7687913;-117.1472131
X-APPLE-STRUCTURED-LOCATION;VALUE=URI;X-ADDRESS=NOVO MISSION VALLEY 1640 Camino Del Rio North #341 San Diego CA 92108 United States;X-APPLE-RADIUS=500;X-TITLE=1640 Camino Del Rio North\, #341:geo:-117.1472131,32.7687913
END:VEVENT
END:VCALENDAR